Workbook
Name AREA_CMgCP: #REF!
Name AREA_PROGRAMADO: PROGRAMADO!$C$5:$HC$53
Name BORRA_RESUMEN1: RESUMEN!$D$6:$S$70
Name BORRA_RESUMEN2: RESUMEN!$D$79:$S$89
Name CERRO_VERDE_COMB: #REF!
Name CIRATO: #REF!
Name CMgCP: #REF!
Name CMgCP_h: #REF!
Name CONTRIBUCION_CENTRO: [1]EXTRA!$O$16
Name CONTRIBUCION_NORTE: [1]EXTRA!$M$16
Name CONTRIBUCION_SUR: [1]EXTRA!$N$16
Name DEMANDA_USUARIOS_LIBRES: DEMANDA_UL!$C$21:$CX$68
Name DESV_EJE_PROG: DESVIACION!$XE$12
Name DESV_MAX: DESVIACION!$XJ$69
Name DESV_MEDIA: DESVIACION!$XJ$68
Name DESV_MINIMA: DESVIACION!$XJ$67
Name EDEGEL_COMB: #REF!
Name EEPSA_COMBUSTIBLE: #REF!
Name EGASA_COMBUSTIBLE: #REF!
Name EJE_DESP_EJE: DESPACHO_EJECUTADO!$EY$7
Name EJE_DESV: DESVIACION!$XC$12
Name EMBALSES: #REF!
Name ENE_COMBUSTIBLE: #REF!
Name ENERGIA_PROGRAMADO: PROGRAMADO!$C$53:$HC$53
Name ENERGIA_REPROGRAMADO: REPROGRAMADO!$D$53:$GC$53
Name ENERGIA_SEIN: DESPACHO_EJECUTADO!$FA$55
Name ETEN_COMBUSTIBLE: #REF!
Name FECHA_COGENERACION: COGENERACION!$B$3
Name FECHA_COMB_GAS: #REF!
Name FECHA_COMB_SOLIDOS: #REF!
Name FECHA_DEMANDA: DEMANDA_UL!$B$10
Name FECHA_DEMANDA_AREAS: DEMANDA_AREAS!$B$8
Name FECHA_DESPACHO_EJE: DESPACHO_EJECUTADO!$A$3
Name FECHA_DESVIACION: DESVIACION!$B$7
Name FECHA_EXTRA: [1]EXTRA!$F$3
Name FECHA_FLUJOS: FLUJOS!$A$1
Name FECHA_GENERACION_EREAS: G_AREAS!$B$2
Name FECHA_HIDRO: #REF!
Name FECHA_INTER: INTERCONEXIONES!$A$1
Name FECHA_MARGINALES: #REF!
Name FECHA_PROGRAMADO: PROGRAMADO!$A$1
Name FECHA_REACTIVA: REACTIVA!$A$3
Name FECHA_REPROGRAMADO: REPROGRAMADO!$A$1
Name FECHA_RER: 'GENERACION RER'!$B$3
Name FECHA_RESTRICCIONES: RESTRIC_OPE!$B$2
Name FECHA_RESUMEN: RESUMEN!$C$1
Name FECHA_TIPO_RECURSO: TIPO_RECURSO!$B$10
Name FECHA_TRANGRESIONES: TRANSGRESIONES!$B$2
Name FECHA_TRANSGRESIONES: TRANSGRESIONES!$B$2
Name FENIX_PRESION: #REF!
Name GENERACION_RECURSO_RER: G_AREAS!$Z$7:$AD$54
Name GENERACION_RECURSO_SEIN: G_AREAS!$T$7:$X$54
Name GENERACION_TIPO_RECURSO_SEIN: TIPO_RECURSO!$C$14:$T$61
Name HIDRAULICA_TIPO: TIPO_RECURSO!$X$14:$Y$60
Name MARGINALES_DIA: RESUMEN!$V$10
Name MAX_CENTRO: FLUJOS!$KU$54
Name MAX_HORA_EXTRA: [1]EXTRA!$J$13
Name MAX_NORTE: FLUJOS!$KT$54
Name MAX_SUR: FLUJOS!$KV$54
Name MAXIMA_DIA: RESUMEN!$V$9

Sheet RESUMEN
C1: 45218
C2: RESUMEN DE GENERACIÓN DE ENERGÍA ELÉCTRICA POR EMPRESAS INTEGRANTES DEL COES
C3: EMPRESAS | D3: HIDROELÉCTRICO (MWh) | G3: TERMOELÉCTRICO (MWh) | J3: SOLAR (MWh) | M3: EÓLICO (MWh) | P3: TOTAL (MWh) | S3: PARTICIPACIÓN %
D5: PROGRAMADO | E5: EJECUTADO | F5: DESVIACIÓN | G5: PROGRAMADO | H5: EJECUTADO | I5: DESVIACIÓN | J5: PROGRAMADO | K5: EJECUTADO | L5: DESVIACIÓN | M5: PROGRAMADO | N5: EJECUTADO | O5: DESVIACIÓN | P5: PROGRAMADO | Q5: EJECUTADO | R5: DESVIACIÓN
B6: E1 | C6: KALLPA GENERACION | D6: 4842.2018 | E6: 4850.15 | F6: =+D6-E6 -> -7.94815 | G6: 28549.503 | H6: 28360 | I6: =+G6-H6 -> 189.50288 | L6: =+J6-K6 -> 0 | O6: =+M6-N6 -> 0 | P6: 33391.705 | Q6: 33210.15 | R6: =+P6-Q6 -> 181.55473 | S6: =+Q6/TOTAL_RESUMEN_SEIN -> 0.20199141
B7: E2 | C7: ENGIE | D7: 2662.848 | E7: 2304 | F7: =+D7-E7 -> 358.84802 | G7: 21718.867 | H7: 21761.25 | I7: =+G7-H7 -> -42.382925 | J7: 360.905 | K7: 353.4 | L7: =+J7-K7 -> 7.505 | M7: 2545.8 | N7: 2239.95 | O7: =+M7-N7 -> 305.85 | P7: 27288.42 | Q7: 26658.6 | R7: =+P7-Q7 -> 629.82009 | S7: =+Q7/TOTAL_RESUMEN_SEIN -> 0.16214344
B8: E3 | C8: ENEL PERÚ | D8: 8505.9594 | E8: 8310.6 | F8: =+D8-E8 -> 195.35941 | G8: 12401.742 | H8: 10508.55 | I8: =+G8-H8 -> 1893.1917 | J8: 2477.356 | K8: 2051.95 | L8: =+J8-K8 -> 425.406 | M8: 1481 | N8: 1559.6 | O8: =+M8-N8 -> -78.6 | P8: 24866.057 | Q8: 22430.7 | R8: =+P8-Q8 -> 2435.3571 | S8: =+Q8/TOTAL_RESUMEN_SEIN -> 0.13642843
B9: E4 | C9: ELECTROPERU | D9: 17142.563 | E9: 17511 | F9: =+D9-E9 -> -368.43725 | G9: 0 | I9: =+G9-H9 -> 0 | L9: =+J9-K9 -> 0 | O9: =+M9-N9 -> 0 | P9: 17142.563 | Q9: 17511 | R9: =+P9-Q9 -> -368.43725 | S9: =+Q9/TOTAL_RESUMEN_SEIN -> 0.10650574 | V9: La máxima demanda del jueves, 19 de Octubre de 2023 ocurrió a las 16:00 horas con un valor de 7442.17999999999 MW, 37.01 MW mas de lo programado , (0.5 %)
B10: E5 | C10: FENIX POWER | F10: =+D10-E10 -> 0 | G10: 13372.634 | H10: 12475.05 | I10: =+G10-H10 -> 897.58416 | L10: =+J10-K10 -> 0 | O10: =+M10-N10 -> 0 | P10: 13372.634 | Q10: 12475.05 | R10: =+P10-Q10 -> 897.58416 | S10: =+Q10/TOTAL_RESUMEN_SEIN -> 0.075875986
B11: E7 | C11: HUALLAGA | D11: 153.36 | E11: 6337.85 | F11: =+D11-E11 -> -6184.49 | I11: =+G11-H11 -> 0 | L11: =+J11-K11 -> 0 | O11: =+M11-N11 -> 0 | P11: 153.36 | Q11: 6337.85 | R11: =+P11-Q11 -> -6184.49 | S11: =+Q11/TOTAL_RESUMEN_SEIN -> 0.038548192
B12: E8 | C12: STATKRAFT | D12: 5816.3334 | E12: 6094.9485 | F12: =+D12-E12 -> -278.61511 | I12: =+G12-H12 -> 0 | L12: =+J12-K12 -> 0 | O12: =+M12-N12 -> 0 | P12: 5816.3334 | Q12: 6094.9485 | R12: =+P12-Q12 -> -278.61511 | S12: =+Q12/TOTAL_RESUMEN_SEIN -> 0.037070812
B13: E9 | C13: TERMOCHILCA | F13: =+D13-E13 -> 0 | G13: 6822.4781 | H13: 5958.05 | I13: =+G13-H13 -> 864.42808 | L13: =+J13-K13 -> 0 | O13: =+M13-N13 -> 0 | P13: 6822.4781 | Q13: 5958.05 | R13: =+P13-Q13 -> 864.42808 | S13: =+Q13/TOTAL_RESUMEN_SEIN -> 0.036238165
B14: E10 | C14: ORAZUL | D14: 6559.9422 | E14: 5709.6 | F14: =+D14-E14 -> 850.34219 | I14: =+G14-H14 -> 0 | L14: =+J14-K14 -> 0 | O14: =+M14-N14 -> 0 | P14: 6559.9422 | Q14: 5709.6 | R14: =+P14-Q14 -> 850.34219 | S14: =+Q14/TOTAL_RESUMEN_SEIN -> 0.034727038
B15: E11 | C15: EGEMSA | D15: 2649.9818 | E15: 2542.9 | F15: =+D15-E15 -> 107.08184 | I15: =+G15-H15 -> 0 | L15: =+J15-K15 -> 0 | O15: =+M15-N15 -> 0 | P15: 2649.9818 | Q15: 2542.9 | R15: =+P15-Q15 -> 107.08184 | S15: =+Q15/TOTAL_RESUMEN_SEIN -> 0.015466475
B16: E12 | C16: CHINANGO | D16: 2159.4938 | E16: 2353.1 | F16: =+D16-E16 -> -193.60616 | I16: =+G16-H16 -> 0 | L16: =+J16-K16 -> 0 | O16: =+M16-N16 -> 0 | P16: 2159.4938 | Q16: 2353.1 | R16: =+P16-Q16 -> -193.60616 | S16: =+Q16/TOTAL_RESUMEN_SEIN -> 0.01431207
B17: E13 | C17: EGASA | D17: 2104.759 | E17: 2066.5 | F17: =+D17-E17 -> 38.258975 | G17: 0 | H17: 0 | I17: =+G17-H17 -> 0 | L17: =+J17-K17 -> 0 | O17: =+M17-N17 -> 0 | P17: 2104.759 | Q17: 2066.5 | R17: =+P17-Q17 -> 38.258975 | S17: =+Q17/TOTAL_RESUMEN_SEIN -> 0.012568906
B18: E14 | C18: CELEPSA | D18: 1740.7291 | E18: 2052.1 | F18: =+D18-E18 -> -311.37087 | I18: =+G18-H18 -> 0 | L18: =+J18-K18 -> 0 | O18: =+M18-N18 -> 0 | P18: 1740.7291 | Q18: 2052.1 | R18: =+P18-Q18 -> -311.37087 | S18: =+Q18/TOTAL_RESUMEN_SEIN -> 0.012481322
B19: E15 | C19: ENEL PIURA | F19: =+D19-E19 -> 0 | G19: 2040 | H19: 1825.2 | I19: =+G19-H19 -> 214.8 | L19: =+J19-K19 -> 0 | O19: =+M19-N19 -> 0 | P19: 2040 | Q19: 1825.2 | R19: =+P19-Q19 -> 214.8 | S19: =+Q19/TOTAL_RESUMEN_SEIN -> 0.011101266
B20: E16 | C20: SAN GABAN | D20: 1425.0542 | E20: 1505.6 | F20: =+D20-E20 -> -80.54576 | I20: =+G20-H20 -> 0 | L20: =+J20-K20 -> 0 | O20: =+M20-N20 -> 0 | P20: 1425.0542 | Q20: 1505.6 | R20: =+P20-Q20 -> -80.54576 | S20: =+Q20/TOTAL_RESUMEN_SEIN -> 0.0091573889
B21: E17 | C21: INLAD ENERGY | D21: 1450.2485 | E21: 1339.6 | F21: =+D21-E21 -> 110.64848 | I21: =+G21-H21 -> 0 | L21: =+J21-K21 -> 0 | O21: =+M21-N21 -> 0 | P21: 1450.2485 | Q21: 1339.6 | R21: =+P21-Q21 -> 110.64848 | S21: =+Q21/TOTAL_RESUMEN_SEIN -> 0.0081477406
B22: E18 | C22: ENERGIA EOLICA | F22: =+D22-E22 -> 0 | I22: =+G22-H22 -> 0 | L22: =+J22-K22 -> 0 | M22: 1421.162 | N22: 1284.55 | O22: =+M22-N22 -> 136.612 | P22: 1421.162 | Q22: 1284.55 | R22: =+P22-Q22 -> 136.612 | S22: =+Q22/TOTAL_RESUMEN_SEIN -> 0.0078129144
B23: E19 | C23: TRES HERMANAS | F23: =+D23-E23 -> 0 | I23: =+G23-H23 -> 0 | L23: =+J23-K23 -> 0 | M23: 1080.966 | N23: 1221.9 | O23: =+M23-N23 -> -140.934 | P23: 1080.966 | Q23: 1221.9 | R23: =+P23-Q23 -> -140.934 | S23: =+Q23/TOTAL_RESUMEN_SEIN -> 0.0074318634
B24: E20 | C24: LA VIRGEN | D24: 901.91904 | E24: 999.35 | F24: =+D24-E24 -> -97.43096 | I24: =+G24-H24 -> 0 | L24: =+J24-K24 -> 0 | O24: =+M24-N24 -> 0 | P24: 901.91904 | Q24: 999.35 | R24: =+P24-Q24 -> -97.43096 | S24: =+Q24/TOTAL_RESUMEN_SEIN -> 0.0060782656
B25: E22 | C25: EGEJUNÍN | D25: 890.31336 | E25: 863.55 | F25: =+D25-E25 -> 26.76336 | I25: =+G25-H25 -> 0 | L25: =+J25-K25 -> 0 | O25: =+M25-N25 -> 0 | P25: 890.31336 | Q25: 863.55 | R25: =+P25-Q25 -> 26.76336 | S25: =+Q25/TOTAL_RESUMEN_SEIN -> 0.0052523002
B26: E23 | C26: EGEHUANZA | D26: 1012.032 | E26: 792.65 | F26: =+D26-E26 -> 219.382 | I26: =+G26-H26 -> 0 | L26: =+J26-K26 -> 0 | O26: =+M26-N26 -> 0 | P26: 1012.032 | Q26: 792.65 | R26: =+P26-Q26 -> 219.382 | S26: =+Q26/TOTAL_RESUMEN_SEIN -> 0.0048210709
B27: E24 | C27: SDF ENERGIA | F27: =+D27-E27 -> 0 | G27: 720 | H27: 697.3 | I27: =+G27-H27 -> 22.7 | L27: =+J27-K27 -> 0 | O27: =+M27-N27 -> 0 | P27: 720 | Q27: 697.3 | R27: =+P27-Q27 -> 22.7 | S27: =+Q27/TOTAL_RESUMEN_SEIN -> 0.0042411313
B28: E25 | C28: SINERSA | D28: 552.42696 | E28: 576.3 | F28: =+D28-E28 -> -23.87304 | I28: =+G28-H28 -> 0 | L28: =+J28-K28 -> 0 | O28: =+M28-N28 -> 0 | P28: 552.42696 | Q28: 576.3 | R28: =+P28-Q28 -> -23.87304 | S28: =+Q28/TOTAL_RESUMEN_SEIN -> 0.0035051828
B29: E26 | C29: GENERACIÓN ANDINA | D29: 543.36648 | E29: 544.85 | F29: =+D29-E29 -> -1.48352 | I29: =+G29-H29 -> 0 | L29: =+J29-K29 -> 0 | O29: =+M29-N29 -> 0 | P29: 543.36648 | Q29: 544.85 | R29: =+P29-Q29 -> -1.48352 | S29: =+Q29/TOTAL_RESUMEN_SEIN -> 0.003313897
B30: E28 | C30: EGE SANTA ANA | D30: 469.20816 | E30: 494.5 | F30: =+D30-E30 -> -25.29184 | I30: =+G30-H30 -> 0 | L30: =+J30-K30 -> 0 | O30: =+M30-N30 -> 0 | P30: 469.20816 | Q30: 494.5 | R30: =+P30-Q30 -> -25.29184 | S30: =+Q30/TOTAL_RESUMEN_SEIN -> 0.0030076573
B31: E29 | C31: CELEPSA RENOVABLES | D31: 293.25504 | E31: 472 | F31: =+D31-E31 -> -178.74496 | I31: =+G31-H31 -> 0 | L31: =+J31-K31 -> 0 | O31: =+M31-N31 -> 0 | P31: 293.25504 | Q31: 472 | R31: =+P31-Q31 -> -178.74496 | S31: =+Q31/TOTAL_RESUMEN_SEIN -> 0.0028708074
B32: E30 | C32: GEPSA | D32: 523.2 | E32: 419.2 | F32: =+D32-E32 -> 104 | I32: =+G32-H32 -> 0 | L32: =+J32-K32 -> 0 | O32: =+M32-N32 -> 0 | P32: 523.2 | Q32: 419.2 | R32: =+P32-Q32 -> 104 | S32: =+Q32/TOTAL_RESUMEN_SEIN -> 0.0025496662
B33: E32 | C33: HUAURA POWER GROUP | D33: 403.51896 | E33: 405.6 | F33: =+D33-E33 -> -2.08104 | I33: =+G33-H33 -> 0 | L33: =+J33-K33 -> 0 | O33: =+M33-N33 -> 0 | P33: 403.51896 | Q33: 405.6 | R33: =+P33-Q33 -> -2.08104 | S33: =+Q33/TOTAL_RESUMEN_SEIN -> 0.002466948
B34: E33 | C34: HUANCHOR | D34: 381.93792 | E34: 396.75 | F34: =+D34-E34 -> -14.81208 | I34: =+G34-H34 -> 0 | L34: =+J34-K34 -> 0 | O34: =+M34-N34 -> 0 | P34: 381.93792 | Q34: 396.75 | R34: =+P34-Q34 -> -14.81208 | S34: =+Q34/TOTAL_RESUMEN_SEIN -> 0.0024131204
B35: E34 | C35: PARQUE EÓLICO MARCONA | F35: =+D35-E35 -> 0 | I35: =+G35-H35 -> 0 | L35: =+J35-K35 -> 0 | M35: 358.4895 | N35: 395.15 | O35: =+M35-N35 -> -36.6605 | P35: 358.4895 | Q35: 395.15 | R35: =+P35-Q35 -> -36.6605 | S35: =+Q35/TOTAL_RESUMEN_SEIN -> 0.0024033888
B36: E35 | C36: TERMOSELVA | F36: =+D36-E36 -> 0 | G36: 1364.9648 | H36: 391.9 | I36: =+G36-H36 -> 973.06481 | L36: =+J36-K36 -> 0 | O36: =+M36-N36 -> 0 | P36: 1364.9648 | Q36: 391.9 | R36: =+P36-Q36 -> 973.06481 | S36: =+Q36/TOTAL_RESUMEN_SEIN -> 0.0023836216
B37: E36 | C37: AIPSA | F37: =+D37-E37 -> 0 | G37: 312 | H37: 353.6 | I37: =+G37-H37 -> -41.6 | L37: =+J37-K37 -> 0 | O37: =+M37-N37 -> 0 | P37: 312 | Q37: 353.6 | R37: =+P37-Q37 -> -41.6 | S37: =+Q37/TOTAL_RESUMEN_SEIN -> 0.0021506726
B38: E37 | C38: GR TARUCA S.A.C | F38: =+D38-E38 -> 0 | I38: =+G38-H38 -> 0 | L38: =+J38-K38 -> 0 | M38: 284.102 | N38: 343.85 | O38: =+M38-N38 -> -59.748 | P38: 284.102 | Q38: 343.85 | R38: =+P38-Q38 -> -59.748 | S38: =+Q38/TOTAL_RESUMEN_SEIN -> 0.002091371
B39: E38 | C39: EGERBA | D39: 258.06456 | E39: 331.95 | F39: =+D39-E39 -> -73.88544 | I39: =+G39-H39 -> 0 | L39: =+J39-K39 -> 0 | O39: =+M39-N39 -> 0 | P39: 258.06456 | Q39: 331.95 | R39: =+P39-Q39 -> -73.88544 | S39: =+Q39/TOTAL_RESUMEN_SEIN -> 0.0020189926
B40: E39 | C40: AGROAURORA S.A.C. | F40: =+D40-E40 -> 0 | G40: 360 | H40: 326.85 | I40: =+G40-H40 -> 33.15 | L40: =+J40-K40 -> 0 | O40: =+M40-N40 -> 0 | P40: 360 | Q40: 326.85 | R40: =+P40-Q40 -> 33.15 | S40: =+Q40/TOTAL_RESUMEN_SEIN -> 0.0019879733
B41: E40 | C41: EGESUR | D41: 92.31912 | E41: 169.55 | F41: =+D41-E41 -> -77.23088 | G41: 515.454 | H41: 110.85 | I41: =+G41-H41 -> 404.604 | L41: =+J41-K41 -> 0 | O41: =+M41-N41 -> 0 | P41: 607.77312 | Q41: 280.4 | R41: =+P41-Q41 -> 327.37312 | S41: =+Q41/TOTAL_RESUMEN_SEIN -> 0.0017054542
...

Sheet G_AREAS
B2: 45218
C3: HN | D3: TN | E3: SN | F3: EN | G3: HC | H3: TC | I3: SC | J3: EC | K3: HS | L3: TS | M3: SS | N3: ES | O3: N | P3: C | Q3: S | T3: H | U3: T | V3: S | W3: E
B4: HORA | C4: RESUMEN DE GENERACIÓN POR ÁREAS DEL SEIN | S4: HORA | T4: GENERACIÓN POR TIPO DE GENERACIÓN | Y4: HORA | Z4: GENERACIÓN POR TIPO DE GENERACIÓN
C5: NORTE | G5: CENTRO | K5: SUR | O5: GENERACIÓN INTEGRANTES COES | T5: INTEGRANTES COES | Z5: INTEGRANTES COES RER
C6: Generación Hidroeléctrica Norte | D6: Generación Termeléctrica Norte | E6: Generación Solar Norte | F6: Generación Eólico Norte | G6: Generación Hidroeléctrica Centro | H6: Generación Termeléctrica Centro | I6: Generación Solar Centro | J6: Generación Eólico Centro | K6: Generación Hidroeléctrica Sur | L6: Generación Termeléctrica Sur | M6: Generación Solar Sur | N6: Generación Eólico Sur | O6: Generación COES Norte | P6: Generación COES Centro | Q6: Generación COES Sur | R6: TOTAL GENERACIÓN COES | T6: HÍDRICO | U6: TÉRMICO | V6: SOLAR | W6: EÓLICO | X6: TOTAL GENERACIÓN COES | Z6: HÍDRICO | AA6: TÉRMICO | AB6: SOLAR | AC6: EÓLICO | AD6: TOTAL RER
B7: 0.020833333 | C7: 250.69 | D7: 116.79 | F7: 95.5 | G7: 1974.336 | H7: 3507.2 | I7: 0 | J7: 14.8 | K7: 319.589 | L7: 0 | M7: 0 | O7: 462.98 | P7: 5496.336 | Q7: 319.589 | R7: 6278.905 | S7: 0.020833333 | T7: 2544.615 | U7: 3623.99 | V7: 0 | W7: 110.3 | X7: 6278.905 | Y7: 0.020833333 | Z7: 219.4 | AA7: 23.8 | AB7: 0 | AC7: 110.3 | AD7: 353.5
B8: 0.041666667 | C8: 222.59 | D8: 117.48 | F8: 83 | G8: 1907.676 | H8: 3514.7 | I8: 0 | J8: 21.6 | K8: 311.492 | L8: 0 | M8: 0 | O8: 423.07 | P8: 5443.976 | Q8: 311.492 | R8: 6178.538 | S8: 0.041666667 | T8: 2441.758 | U8: 3632.18 | V8: 0 | W8: 104.6 | X8: 6178.538 | Y8: 0.041666667 | Z8: 212.5 | AA8: 24.4 | AB8: 0 | AC8: 104.6 | AD8: 341.5
B9: 0.0625 | C9: 196.49 | D9: 117.19 | F9: 62.7 | G9: 1831.624 | H9: 3504.2 | I9: 0 | J9: 22.3 | K9: 306.392 | L9: 0 | M9: 0 | O9: 376.38 | P9: 5358.124 | Q9: 306.392 | R9: 6040.896 | S9: 0.0625 | T9: 2334.506 | U9: 3621.39 | V9: 0 | W9: 85 | X9: 6040.896 | Y9: 0.0625 | Z9: 211.4 | AA9: 23.7 | AB9: 0 | AC9: 85 | AD9: 320.1
B10: 0.083333333 | C10: 203.305 | D10: 117.26 | F10: 52.2 | G10: 1706.43 | H10: 3513.8 | I10: 0 | J10: 39.8 | K10: 312.091 | L10: 0 | M10: 0 | O10: 372.765 | P10: 5260.03 | Q10: 312.091 | R10: 5944.886 | S10: 0.083333333 | T10: 2221.826 | U10: 3631.06 | V10: 0 | W10: 92 | X10: 5944.886 | Y10: 0.083333333 | Z10: 211.6 | AA10: 23.7 | AB10: 0 | AC10: 92 | AD10: 327.3
B11: 0.10416667 | C11: 166.908 | D11: 113.92 | F11: 57 | G11: 1693.513 | H11: 3503.4 | I11: 0 | J11: 70.1 | K11: 305.995 | L11: 0 | M11: 0 | O11: 337.828 | P11: 5267.013 | Q11: 305.995 | R11: 5910.836 | S11: 0.10416667 | T11: 2166.416 | U11: 3617.32 | V11: 0 | W11: 127.1 | X11: 5910.836 | Y11: 0.10416667 | Z11: 209.1 | AA11: 23.8 | AB11: 0 | AC11: 127.1 | AD11: 360
B12: 0.125 | C12: 172.418 | D12: 119.05 | F12: 60.1 | G12: 1672.649 | H12: 3516.7 | I12: 0 | J12: 89.6 | K12: 312.615 | L12: 0 | M12: 0 | O12: 351.568 | P12: 5278.949 | Q12: 312.615 | R12: 5943.132 | S12: 0.125 | T12: 2157.682 | U12: 3635.75 | V12: 0 | W12: 149.7 | X12: 5943.132 | Y12: 0.125 | Z12: 206.1 | AA12: 23.7 | AB12: 0 | AC12: 149.7 | AD12: 379.5
B13: 0.14583333 | C13: 173.917 | D13: 119.79 | F13: 63.5 | G13: 1658.422 | H13: 3507.9 | I13: 0 | J13: 116 | K13: 311.608 | L13: 0 | M13: 0 | O13: 357.207 | P13: 5282.322 | Q13: 311.608 | R13: 5951.137 | S13: 0.14583333 | T13: 2143.947 | U13: 3627.69 | V13: 0 | W13: 179.5 | X13: 5951.137 | Y13: 0.14583333 | Z13: 206.7 | AA13: 23.8 | AB13: 0 | AC13: 179.5 | AD13: 410
B14: 0.16666667 | C14: 166.125 | D14: 120.46 | F14: 62.4 | G14: 1599.251 | H14: 3537.1 | I14: 0 | J14: 170.5 | K14: 304.917 | L14: 0 | M14: 0 | O14: 348.985 | P14: 5306.851 | Q14: 304.917 | R14: 5960.753 | S14: 0.16666667 | T14: 2070.293 | U14: 3657.56 | V14: 0 | W14: 232.9 | X14: 5960.753 | Y14: 0.16666667 | Z14: 203.9 | AA14: 23.8 | AB14: 0 | AC14: 232.9 | AD14: 460.6
B15: 0.1875 | C15: 201.022 | D15: 117.5 | F15: 62 | G15: 1551 | H15: 3519.3 | I15: 0 | J15: 192.8 | K15: 312.11 | L15: 0 | M15: 0 | O15: 380.522 | P15: 5263.1 | Q15: 312.11 | R15: 5955.732 | S15: 0.1875 | T15: 2064.132 | U15: 3636.8 | V15: 0 | W15: 254.8 | X15: 5955.732 | Y15: 0.1875 | Z15: 204 | AA15: 23.5 | AB15: 0 | AC15: 254.8 | AD15: 482.3
B16: 0.20833333 | C16: 171.62 | D16: 119.28 | F16: 64.2 | G16: 1660.039 | H16: 3511.3 | I16: 0 | J16: 222.9 | K16: 307.611 | L16: 0 | M16: 0.1 | O16: 355.1 | P16: 5394.239 | Q16: 307.711 | R16: 6057.05 | S16: 0.20833333 | T16: 2139.27 | U16: 3630.58 | V16: 0.1 | W16: 287.1 | X16: 6057.05 | Y16: 0.20833333 | Z16: 204.3 | AA16: 23.5 | AB16: 0.1 | AC16: 287.1 | AD16: 515
B17: 0.22916667 | C17: 191.92 | D17: 119.22 | F17: 71.5 | G17: 1795.688 | H17: 3414.6 | I17: 0 | J17: 285.2 | K17: 315.409 | L17: 0 | M17: 8.1 | O17: 382.64 | P17: 5495.488 | Q17: 323.509 | R17: 6201.637 | S17: 0.22916667 | T17: 2303.017 | U17: 3533.82 | V17: 8.1 | W17: 356.7 | X17: 6201.637 | Y17: 0.22916667 | Z17: 203.8 | AA17: 23.3 | AB17: 8.1 | AC17: 356.7 | AD17: 591.9
B18: 0.25 | C18: 248.522 | D18: 117.33 | F18: 59.3 | G18: 1815.899 | H18: 3278 | I18: 0 | J18: 291.4 | K18: 313.7 | L18: 0 | M18: 58.5 | O18: 425.152 | P18: 5385.299 | Q18: 372.2 | R18: 6182.651 | S18: 0.25 | T18: 2378.121 | U18: 3395.33 | V18: 58.5 | W18: 350.7 | X18: 6182.651 | Y18: 0.25 | Z18: 203.7 | AA18: 23.3 | AB18: 58.5 | AC18: 350.7 | AD18: 636.2
... B54: 1 | C54: 242.043 | D54: 117.11 | F54: 45.5 | G54: 2414.059 | H54: 3186.9 | I54: 0 | J54: 175.1 | K54: 317.452 | L54: 0 | M54: 0 | O54: 404.653 | P54: 5776.059 | Q54: 317.452 | R54: 6498.164 | S54: 1 | T54: 2973.554 | U54: 3304.01 | V54: 0 | W54: 220.6 | X54: 6498.164 | Y54: 1 | Z54: 219.3 | AA54: 22.1 | AB54: 0 | AC54: 220.6 | AD54: 462
B55: TOTAL MWh | C55: 6710.4215 | D55: 2540.33 | E55: 0 | F55: 1892.3 | G55: 55817.019 | H55: 80799.3 | I55: 8.5 | J55: 5416.6 | K55: 8121.2085 | L55: 0 | M55: 3108 | N55: 0 | O55: 11143.051 | P55: 142041.42 | Q55: 11229.208 | R55: 164413.68 | S55: TOTAL MWh | T55: 70648.649 | U55: 83339.63 | V55: 3116.5 | W55: 7308.9 | X55: 164413.68 | Y55: TOTAL MWh | Z55: 5147.35 | AA55: 536.35 | AB55: 3116.5 | AC55: 7308.9 | AD55: 16109.1
C56: H | D56: T | E56: S | F56: E | G56: H | H56: T | I56: S | J56: E | K56: H | L56: T | M56: S | N56: E | O56: TOTAL | Z56: RH | AA56: RT | AB56: RS | AC56: RE | AD56: TOTAL RER
T57: H | U57: T | V57: S | W57: E | X57: TOTAL_R

Sheet GENERACION RER
C1: 225 | D1: 760 | E1: 2171 | F1: 2201 | G1: 213 | H1: 216 | I1: 198 | J1: 201 | K1: 226 | L1: 258 | M1: 259 | N1: 215 | O1: 917 | P1: 238 | Q1: 247 | R1: 214 | S1: 223 | T1: 211 | U1: 2175 | V1: 2178 | W1: 2181 | X1: 2184 | Y1: 228 | Z1: 260 | AA1: 2128 | AB1: 2135 | AC1: 2152 | AD1: 2165 | AE1: 2150 | AF1: 907 | AG1: 2161 | AH1: 920 | AI1: 296 | AJ1: 297 | AK1: 2194 | AL1: 999 | AM1: 233 | AN1: 234 | AO1: 235 | AP1: 237 | AQ1: 261 | AR1: 2148 | AS1: 900 | AT1: 901 | AU1: 905 | AV1: 906 | AW1: 303 | AX1: 253 | AY1: 770 | AZ1: 1262 | BA1: 1263 | BB1: 257 | BC1: 256 | BD1: 5001 | BE1: 5000
B3: 45218
B4: GENERACIÓN ELÉCTRICA DE LAS CENTRALES RER (MW)
B5: HORA | C5: PETRAMAS | G5: AIPSA | H5: ORAZUL | J5: EGEJUNÍN | N5: SINERSA | P5: ELÉCTRICA YANAPAMPA | Q5: ELÉCTRICA RIO DOBLE | R5: MAJA | S5: ATRIA ENERGÍA | T5: GEPSA | X5: ANDEAN POWER | Y5: HIDROCAÑETE | Z5: EGECSAC | AA5: AGUA AZUL | AB5: HUAURA POWER GROUP | AC5: EGE SANTA ANA | AD5: ENEL GENERACIÓN PERÚ | AH5: EGERBA | AI5: GENERACIÓN ANDINA | AK5: INVERSIÓN DE ENERGÍAS RENOVABLES S.A. | AL5: SAN GABÁN | AM5: MAJES ARCUS | AN5: REPARTICION ARCUS | AO5: TACNA SOLAR | AP5: PANA. SOLAR | AQ5: MOQUEGUA SOLAR | AR5: ENGIE | AW5: COLCA | AX5: CEM | AY5: TRES HERMANAS | AZ5: GR PAINO S.A.C | BA5: GR TARUCA S.A.C | BB5: ENERGIA EOLICA | BD5: TOTAL RER
C6: HUAYCOLORO | D6: LA GRINGA V | E6: DOÑA CATALINA | F6: CALLAO | G6: PARAMONGA | H6: CARHUAQUERO4 | I6: CAÑA BRAVA | J6: STACRUZ_1_2 | K6: HUASAHUASI I y II | L6: RUNATULLO II | M6: RUNATULLO III | N6: POECHOS2 | O6: CHANCAY | P6: YANAPAMPA | Q6: PIZARRAS | R6: RONCADOR | S6: PURMACANA | T6: LA JOYA | U6: ÁNGEL I | V6: ÁNGEL II | W6: ÁNGEL III | X6: CARHUAC | Y6: NIMPERIAL | Z6: CANCHAYLLO | AA6: POTRERO | AB6: YARUCAYA | AC6: RENOVANDES | AD6: HER 1 | AE6: C.S. RUBÍ | AF6: C.S. CLEMESÍ | AG6: WAYRA I | AH6: RUCUY | AI6: 8 DE AGOSTO | AJ6: EL CARMEN | AK6: MANTA I | AL6: MCH TUPURI | AM6: MAJES | AN6: REPARTICION | AO6: TACNA SOLAR | AP6: PANAMERICANA SOLAR | AQ6: MOQUEGUA | AR6: INTIPAMPA | AS6: PUNTA LOMITAS-I | AT6: PUNTA LOMITAS-II | AU6: P LOMITAS_EXP-BL1 | AV6: P LOMITAS_EXP-BL2 | AW6: YARUCAYA | AX6: PQE-EOLICO MARCONA | AY6: PQE-EOLICO TRES HERMANAS | AZ6: HUAMBOS | BA6: DUNA | BB6: TALARA | BC6: PQE-EOLICO CUPISNIQUE | BD6: MW
B7: 0.020833333 | C7: 3 | D7: 1.6 | E7: 1.1 | F7: 2.1 | G7: 16 | H7: 10 | I7: 4.1 | J7: 7.8 | K7: 12 | L7: 7.5 | M7: 9.7 | N7: 5.9 | O7: 18.6 | P7: 3.6 | Q7: 5.9 | R7: 3.5 | S7: 0.6 | T7: 3.5 | U7: 3.4 | V7: 4.6 | W7: 4.8 | X7: 9.1 | Y7: 3.5 | Z7: 2.6 | AA7: 10.2 | AB7: 16.9 | AC7: 20.6 | AD7: 0.4 | AE7: 0 | AF7: 0 | AG7: 0 | AH7: 15.3 | AI7: 19.6 | AJ7: 5.8 | AK7: 9.9 | AM7: 0 | AN7: 0 | AO7: 0 | AP7: 0 | AQ7: 0 | AR7: 0 | AS7: 0.3 | AT7: 3.8 | AU7: 0.2 | AV7: 0 | AW7: 0 | AX7: 5.3 | AY7: 5.2 | AZ7: 8.7 | BA7: 13.5 | BB7: 24.4 | BC7: 48.9 | BD7: 353.5
B8: 0.041666667 | C8: 3 | D8: 1.6 | E8: 1.1 | F8: 2.1 | G8: 16.6 | H8: 10 | I8: 4 | J8: 8.2 | K8: 12 | L8: 7.4 | M8: 9.4 | N8: 5.5 | O8: 18.5 | P8: 3.7 | Q8: 6 | R8: 3.3 | S8: 0.6 | T8: 3.5 | U8: 3.4 | V8: 4.6 | W8: 4.8 | X8: 3.1 | Y8: 3.5 | Z8: 2.6 | AA8: 10.2 | AB8: 16.9 | AC8: 20.4 | AD8: 0.4 | AE8: 0 | AF8: 0 | AG8: 0 | AH8: 15.2 | AI8: 19.6 | AJ8: 5.8 | AK8: 9.9 | AM8: 0 | AN8: 0 | AO8: 0 | AP8: 0 | AQ8: 0 | AR8: 0 | AS8: 2.9 | AT8: 7.2 | AU8: 0 | AV8: 0 | AW8: 0 | AX8: 4.9 | AY8: 6.6 | AZ8: 10.1 | BA8: 15.3 | BB8: 20.3 | BC8: 37.3 | BD8: 341.5
B9: 0.0625 | C9: 3 | D9: 1.5 | E9: 1.1 | F9: 2.1 | G9: 16 | H9: 10 | I9: 4 | J9: 7.9 | K9: 12 | L9: 7.3 | M9: 9.7 | N9: 5.9 | O9: 18.5 | P9: 3.7 | Q9: 6 | R9: 3.2 | S9: 0.7 | T9: 3.5 | U9: 3.2 | V9: 4.3 | W9: 4.5 | X9: 3 | Y9: 3.5 | Z9: 2.6 | AA9: 10.2 | AB9: 16.9 | AC9: 20.3 | AD9: 0.4 | AE9: 0 | AF9: 0 | AG9: 0 | AH9: 15.2 | AI9: 19.2 | AJ9: 5.8 | AK9: 9.9 | AM9: 0 | AN9: 0 | AO9: 0 | AP9: 0 | AQ9: 0 | AR9: 0 | AS9: 2.4 | AT9: 7.7 | AU9: 0 | AV9: 0 | AW9: 0 | AX9: 3.9 | AY9: 8.3 | AZ9: 6.4 | BA9: 11.4 | BB9: 22.7 | BC9: 22.2 | BD9: 320.1
B10: 0.083333333 | C10: 3 | D10: 1.5 | E10: 1.1 | F10: 2.1 | G10: 16 | H10: 9.9 | I10: 4.1 | J10: 7.9 | K10: 12 | L10: 7.3 | M10: 9.3 | N10: 5.9 | O10: 18.5 | P10: 3.7 | Q10: 6 | R10: 3.2 | S10: 0.7 | T10: 3.5 | U10: 3.2 | V10: 4.3 | W10: 4.5 | X10: 3 | Y10: 3.5 | Z10: 2.6 | AA10: 10.2 | AB10: 16.9 | AC10: 20.4 | AD10: 0.3 | AE10: 0 | AF10: 0 | AG10: 0 | AH10: 15.2 | AI10: 19 | AJ10: 5.6 | AK10: 10.9 | AM10: 0 | AN10: 0 | AO10: 0 | AP10: 0 | AQ10: 0 | AR10: 0 | AS10: 6.3 | AT10: 13.2 | AU10: 0.5 | AV10: 0 | AW10: 0 | AX10: 5.6 | AY10: 14.2 | AZ10: 4.8 | BA10: 7.8 | BB10: 23.4 | BC10: 16.2 | BD10: 327.3
B11: 0.10416667 | C11: 3 | D11: 1.5 | E11: 1.1 | F11: 2.1 | G11: 16.1 | H11: 9.9 | I11: 3.5 | J11: 7.8 | K11: 12 | L11: 7.3 | M11: 9.3 | N11: 5.8 | O11: 18.4 | P11: 3.7 | Q11: 6 | R11: 3 | S11: 0.7 | T11: 3.5 | U11: 3.1 | V11: 4 | W11: 4.2 | X11: 2.9 | Y11: 3.5 | Z11: 2.6 | AA11: 10.2 | AB11: 16.9 | AC11: 20.2 | AD11: 0.4 | AE11: 0 | AF11: 0 | AG11: 0 | AH11: 15 | AI11: 18.5 | AJ11: 5.6 | AK11: 11.1 | AM11: 0 | AN11: 0 | AO11: 0 | AP11: 0 | AQ11: 0 | AR11: 0 | AS11: 13.1 | AT11: 19.6 | AU11: 0.9 | AV11: 0.7 | AW11: 0 | AX11: 8.7 | AY11: 27.1 | AZ11: 7.2 | BA11: 11.9 | BB11: 22.5 | BC11: 15.4 | BD11: 360
B12: 0.125 | C12: 3 | D12: 1.5 | E12: 1.1 | F12: 2.1 | G12: 16 | H12: 9.9 | I12: 1.8 | J12: 8 | K12: 12 | L12: 7.4 | M12: 9.9 | N12: 5.8 | O12: 18.4 | P12: 3.7 | Q12: 5.2 | R12: 2.9 | S12: 0.7 | T12: 3.5 | U12: 3.1 | V12: 4 | W12: 4.2 | X12: 3 | Y12: 3.6 | Z12: 2.6 | AA12: 9.8 | AB12: 16.9 | AC12: 20.6 | AD12: 0.6 | AE12: 0 | AF12: 0 | AG12: 0 | AH12: 14.7 | AI12: 18.2 | AJ12: 5.4 | AK12: 10.2 | AM12: 0 | AN12: 0 | AO12: 0 | AP12: 0 | AQ12: 0 | AR12: 0 | AS12: 15.9 | AT12: 21.7 | AU12: 2.1 | AV12: 1.2 | AW12: 0 | AX12: 14.4 | AY12: 34.3 | AZ12: 9.6 | BA12: 13.7 | BB12: 24.5 | BC12: 12.3 | BD12: 379.5
B13: 0.14583333 | C13: 3 | D13: 1.6 | E13: 1.1 | F13: 2.1 | G13: 16 | H13: 10 | I13: 2 | J13: 8.1 | K13: 12 | L13: 7.3 | M13: 11.1 | N13: 5.8 | O13: 18.2 | P13: 3.7 | Q13: 5.2 | R13: 3.1 | S13: 0.7 | T13: 3.5 | U13: 3.2 | V13: 4 | W13: 4.2 | X13: 3 | Y13: 3.6 | Z13: 2.6 | AA13: 9.8 | AB13: 16.9 | AC13: 20.5 | AD13: 0.6 | AE13: 0 | AF13: 0 | AG13: 6.7 | AH13: 14.2 | AI13: 18.2 | AJ13: 5.2 | AK13: 10 | AM13: 0 | AN13: 0 | AO13: 0 | AP13: 0 | AQ13: 0 | AR13: 0 | AS13: 19.3 | AT13: 26.4 | AU13: 2 | AV13: 2.8 | AW13: 0 | AX13: 15.3 | AY13: 43.5 | AZ13: 10.2 | BA13: 14.3 | BB13: 25.4 | BC13: 13.6 | BD13: 410
B14: 0.16666667 | C14: 3 | D14: 1.6 | E14: 1.1 | F14: 2.1 | G14: 16 | H14: 10 | I14: 1.5 | J14: 8.1 | K14: 12 | L14: 7.5 | M14: 11.1 | N14: 5.9 | O14: 18.2 | P14: 3.7 | Q14: 5.2 | R14: 3 | S14: 0.7 | T14: 3.5 | U14: 3.3 | V14: 4.3 | W14: 4.5 | X14: 0.1 | Y14: 3.6 | Z14: 2.6 | AA14: 10 | AB14: 16.9 | AC14: 20.4 | AD14: 0.6 | AE14: 0 | AF14: 0 | AG14: 43.2 | AH14: 14.2 | AI14: 17.8 | AJ14: 5.2 | AK14: 10 | AM14: 0 | AN14: 0 | AO14: 0 | AP14: 0 | AQ14: 0 | AR14: 0 | AS14: 26.4 | AT14: 30.1 | AU14: 4.3 | AV14: 0.9 | AW14: 0 | AX14: 16.1 | AY14: 49.5 | AZ14: 8 | BA14: 13.5 | BB14: 24 | BC14: 16.9 | BD14: 460.6
B15: 0.1875 | C15: 3 | D15: 1.6 | E15: 1.1 | F15: 2.1 | G15: 15.7 | H15: 9.9 | I15: 0.9 | J15: 8 | K15: 12 | L15: 7.5 | M15: 11.1 | N15: 5.9 | O15: 18.2 | P15: 3.7 | Q15: 5.2 | R15: 3.1 | S15: 0.9 | T15: 3.5 | U15: 3.5 | V15: 4.6 | W15: 4.5 | X15: 0 | Y15: 3.6 | Z15: 2.6 | AA15: 10 | AB15: 16.9 | AC15: 20.9 | AD15: 0.6 | AE15: 0 | AF15: 0 | AG15: 69.3 | AH15: 14.3 | AI15: 17.4 | AJ15: 5.2 | AK15: 10 | AM15: 0 | AN15: 0 | AO15: 0 | AP15: 0 | AQ15: 0 | AR15: 0 | AS15: 24.2 | AT15: 24 | AU15: 4.6 | AV15: 2.9 | AW15: 0 | AX15: 16.6 | AY15: 51.2 | AZ15: 7.8 | BA15: 14.9 | BB15: 19.3 | BC15: 20 | BD15: 482.3
B16: 0.20833333 | C16: 3 | D16: 1.6 | E16: 1.1 | F16: 2.1 | G16: 15.7 | H16: 10 | I16: 1.1 | J16: 8.1 | K16: 12 | L16: 7.4 | M16: 11.1 | N16: 5.9 | O16: 18.4 | P16: 3.7 | Q16: 5.2 | R16: 3.2 | S16: 0.9 | T16: 3.5 | U16: 3.5 | V16: 4.6 | W16: 4.8 | X16: 0 | Y16: 3.5 | Z16: 2.6 | AA16: 10 | AB16: 16.9 | AC16: 20.5 | AD16: 0.6 | AE16: 0 | AF16: 0 | AG16: 94.3 | AH16: 14.6 | AI16: 17 | AJ16: 5.2 | AK16: 10 | AM16: 0 | AN16: 0 | AO16: 0 | AP16: 0 | AQ16: 0.1 | AR16: 0 | AS16: 26.6 | AT16: 25.8 | AU16: 2.2 | AV16: 2.5 | AW16: 0 | AX16: 20.2 | AY16: 51.3 | AZ16: 8.8 | BA16: 13.6 | BB16: 19.7 | BC16: 22.1 | BD16: 515
B17: 0.22916667 | C17: 3 | D17: 1.6 | E17: 1.1 | F17: 2.1 | G17: 15.5 | H17: 9.9 | I17: 1 | J17: 8 | K17: 12 | L17: 7.5 | M17: 11.4 | N17: 5.8 | O17: 18.2 | P17: 3.7 | Q17: 5.2 | R17: 3.2 | S17: 0.9 | T17: 3.5 | U17: 3.6 | V17: 4.7 | W17: 5 | X17: 0 | Y17: 3.5 | Z17: 2.5 | AA17: 10 | AB17: 16.9 | AC17: 20.8 | AD17: 0.6 | AE17: 1.7 | AF17: 1.4 | AG17: 111.4 | AH17: 14.2 | AI17: 16.8 | AJ17: 5 | AK17: 9.9 | AM17: 0 | AN17: 0 | AO17: 1.8 | AP17: 1.5 | AQ17: 1.4 | AR17: 0.3 | AS17: 42 | AT17: 38.6 | AU17: 6.2 | AV17: 6.5 | AW17: 0 | AX17: 20.9 | AY17: 59.6 | AZ17: 7.6 | BA17: 13.8 | BB17: 21.3 | BC17: 28.8 | BD17: 591.9
B18: 0.25 | C18: 3 | D18: 1.6 | E18: 1.1 | F18: 2.1 | G18: 15.5 | H18: 10 | I18: 1.5 | J18: 8 | K18: 12 | L18: 7.5 | M18: 11.3 | N18: 5.9 | O18: 18.1 | P18: 3.7 | Q18: 5.2 | R18: 3.1 | S18: 0.9 | T18: 3.5 | U18: 3.6 | V18: 4.7 | W18: 5 | X18: 0 | Y18: 3.5 | Z18: 2.5 | AA18: 10 | AB18: 16.9 | AC18: 20.8 | AD18: 0.6 | AE18: 24 | AF18: 14.9 | AG18: 112.7 | AH18: 13.6 | AI18: 16.8 | AJ18: 5 | AK18: 10 | AM18: 0.2 | AN18: 0.3 | AO18: 7 | AP18: 3.4 | AQ18: 3.7 | AR18: 5 | AS18: 48.5 | AT18: 41.2 | AU18: 6.5 | AV18: 6.9 | AW18: 0 | AX18: 20 | AY18: 55.6 | AZ18: 7 | BA18: 12.6 | BB18: 15.4 | BC18: 24.3 | BD18: 636.2
... B53: 0.97916667 | C53: 3.2 | D53: 1.6 | E53: 1.2 | F53: 2.1 | G53: 14 | H53: 9.9 | I53: 4.8 | J53: 7 | K53: 12.2 | L53: 7 | M53: 8.8 | N53: 6 | O53: 18 | P53: 3.6 | Q53: 5.8 | R53: 3.2 | S53: 0.6 | T53: 5.5 | U53: 3.4 | V53: 4.6 | W53: 4.8 | X53: 11.8 | Y53: 3.5 | Z53: 2.5 | AA53: 8.3 | AB53: 16.9 | AC53: 20.4 | AD53: 0.3 | AE53: 0 | AF53: 0 | AG53: 32 | AH53: 13.7 | AI53: 21 | AJ53: 7.2 | AK53: 8.7 | AM53: 0 | AN53: 0 | AO53: 0 | AP53: 0 | AQ53: 0 | AR53: 0 | AS53: 41.6 | AT53: 49.7 | AU53: 7.4 | AV53: 2.8 | AW53: 0 | AX53: 20.9 | AY53: 49.2 | AZ53: 7.5 | BA53: 9.6 | BB53: 19.8 | BC53: 7.8 | BD53: 489.9
B54: 1 | C54: 3.2 | D54: 1.6 | E54: 1.2 | F54: 2.1 | G54: 14 | H54: 10 | I54: 4.8 | J54: 7 | K54: 12.2 | L54: 7 | M54: 8.8 | N54: 6 | O54: 17.9 | P54: 3.6 | Q54: 5.8 | R54: 3.1 | S54: 0.6 | T54: 5.5 | U54: 3.4 | V54: 4.6 | W54: 4.8 | X54: 11.8 | Y54: 3.5 | Z54: 2.5 | AA54: 8.4 | AB54: 16.9 | AC54: 20.4 | AD54: 0.3 | AE54: 0 | AF54: 0 | AG54: 30.1 | AH54: 13.4 | AI54: 21 | AJ54: 7.2 | AK54: 8.8 | AM54: 0 | AN54: 0 | AO54: 0 | AP54: 0 | AQ54: 0 | AR54: 0 | AS54: 39 | AT54: 45.3 | AU54: 6 | AV54: 3.6 | AW54: 0 | AX54: 13.3 | AY54: 37.8 | AZ54: 7.9 | BA54: 12.3 | BB54: 17.9 | BC54: 7.4 | BD54: 462 | BF54: TÉRMICO | BG54: SOLAR | BH54: EÓLICO
B55: EJEC MWh | C55: 71.15 | D55: 35.75 | E55: 26.65 | F55: 49.2 | G55: 353.6 | H55: 239 | I55: 91.75 | J55: 167.9 | K55: 277.7 | L55: 175.2 | M55: 242.75 | N55: 142.5 | O55: 433.8 | P55: 87.45 | Q55: 138.65 | R55: 74.05 | S55: 23 | T55: 101.95 | U55: 84.3 | V55: 114 | W55: 118.95 | X55: 235.3 | Y55: 83.5 | Z55: 60.35 | AA55: 232.1 | AB55: 405.6 | AC55: 494.5 | AD55: 11.85 | AE55: 1201.3 | AF55: 850.65 | AG55: 1559.6 | AH55: 331.95 | AI55: 418.3 | AJ55: 126.55 | AK55: 234.4 | AL55: 0 | AM55: 130.75 | AN55: 128.6 | AO55: 171.1 | AP55: 148.2 | AQ55: 124 | AR55: 353.4 | AS55: 1064.85 | AT55: 876.25 | AU55: 177.9 | AV55: 120.95 | AW55: 8.5 | AX55: 395.15 | AY55: 1221.9 | AZ55: 263.9 | BA55: 343.85 | BB55: 527.95 | BC55: 756.6 | BD55: 16109.1 | BF55: =+G_AREAS!AA55/G_AREAS!$X$55 -> 0.0032621982 | BG55: =+G_AREAS!AB55/G_AREAS!$X$55 -> 0.018955236 | BH55: =+G_AREAS!AC55/G_AREAS!$X$55 -> 0.04445433
C56: TC | D56: TC | E56: TC | F56: TC | G56: TC | H56: HN | I56: HN | J56: HN | K56: HC | L56: HC | M56: HC | N56: HN | O56: HC | P56: HC | Q56: HN | R56: HC | S56: HC | T56: HS | U56: HS | V56: HS | W56: HS | X56: HC | Y56: HC | Z56: HC | AA56: HC | AB56: HC | AC56: HC | AD56: HC | AE56: SS | AF56: SS | AG56: EC | AH56: HC | AI56: HC | AJ56: HC | AK56: HN | AL56: HS | AM56: SS | AN56: SS | AO56: SS | AP56: SS | AQ56: SS | AR56: SS | AS56: EC | AT56: EC | AU56: EC | AV56: EC | AW56: SC | AX56: EC | AY56: EC | AZ56: EN | BA56: EN | BB56: EN | BC56: EN | BD56: GF
C57: T | D57: T | E57: T | F57: T | G57: T | H57: H | I57: H | J57: H | K57: H | L57: H | M57: H | N57: H | O57: H | P57: H | Q57: H | R57: H | S57: H | T57: H | U57: H | V57: H | W57: H | X57: H | Y57: H | Z57: H | AA57: H | AB57: H | AC57: H | AD57: H | AE57: S | AF57: S | AG57: E | AH57: H | AI57: H | AJ57: H | AK57: H | AL57: H | AM57: S | AN57: S | AO57: S | AP57: S | AQ57: S | AR57: S | AS57: E | AT57: E | AU57: E | AV57: E | AW57: S | AX57: E | AY57: E | AZ57: E | BA57: E | BB57: E | BC57: E | BE57: =+CONCATENATE(+ROUND(BD55,3)," MWh") -> 16109,1 MWh
C58: C | D58: C | E58: C | F58: C | G58: C | H58: N | I58: N | J58: N | K58: C | L58: C | M58: C | N58: N | O58: C | P58: C | Q58: N | R58: C | S58: C | T58: S | U58: S | V58: S | W58: S | X58: C | Y58: C | Z58: C | AA58: C | AB58: C | AC58: C | AD58: C | AE58: S | AF58: S | AG58: C | AH58: C | AI58: C | AJ58: C | AK58: N | AL58: S | AM58: S | AN58: S | AO58: S | AP58: S | AQ58: S | AR58: S | AS58: C | AT58: C | AU58: C | AV58: C | AW58: C | AX58: C | AY58: C | AZ58: N | BA58: N | BB58: N | BC58: N
C59: R | D59: R | E59: R | F59: R | G59: R | H59: R | I59: R | J59: R | K59: R | L59: R | M59: R | N59: R | O59: R | P59: R | Q59: R | R59: R | S59: R | T59: R | U59: R | V59: R | W59: R | X59: R | Y59: R | Z59: R | AA59: R | AB59: R | AC59: R | AD59: R | AE59: R | AF59: R | AG59: R | AH59: R | AI59: R | AJ59: R | AK59: R | AL59: R | AM59: R | AN59: R | AO59: R | AP59: R | AQ59: R | AR59: R | AS59: R | AT59: R | AU59: R | AV59: R | AW59: R | AX59: R | AY59: R | AZ59: R | BA59: R | BB59: R | BC59: R
C60: =+CONCATENATE(C59,C57) -> RT | D60: RT | E60: RT | F60: RT | G60: =+CONCATENATE(G59,G57) -> RT | H60: =+CONCATENATE(H59,H57) -> RH | I60: =+CONCATENATE(I59,I57) -> RH | J60: =+CONCATENATE(J59,J57) -> RH | K60: =+CONCATENATE(K59,K57) -> RH | L60: =+CONCATENATE(L59,L57) -> RH | M60: =+CONCATENATE(M59,M57) -> RH | N60: =+CONCATENATE(N59,N57) -> RH | ... BC60: =+CONCATENATE(BC59,BC57) -> RE | BD60: GF

Sheet COGENERACION
C1: 202 | D1: 904 | E1: 232 | F1: 213 | G1: 2190 | H1: 289 | I1: 5002 | J1: 5000
B3: 45218
B4: CENTRALES DE COGENERACIÓN DEL SEIN
B5: HORA | C5: SDF ENERGIA | E5: AGROAURORA | F5: AIPSA | G5: AGROINDUSTRIAS SAN JACINTO | H5: BIOENERGÍA DEL CHIRA | I5: TOTAL COGENERACION
C6: OQUENDO TG1 | D6: OQUENDO TV1 | E6: MAPLE | F6: PARAMONGA | G6: SAN JACNTO | H6: C.T. CAÑA BRAVA | I6: MW
B7: 0.020833333 | C7: 29.3 | E7: 14.6 | F7: 16 | G7: 7.79 | H7: 9.6 | I7: 77.29
B8: 0.041666667 | C8: 29.3 | E8: 14.6 | F8: 16.6 | G8: 7.88 | H8: 9.8 | I8: 78.18
B9: 0.0625 | C9: 29.3 | E9: 14.1 | F9: 16 | G9: 8.59 | H9: 9.7 | I9: 77.69
B10: 0.083333333 | C10: 29.3 | E10: 14.5 | F10: 16 | G10: 7.86 | H10: 9.9 | I10: 77.56
B11: 0.10416667 | C11: 29.4 | E11: 14.2 | F11: 16.1 | G11: 7.92 | H11: 10 | I11: 77.62
B12: 0.125 | C12: 29.3 | E12: 14.1 | F12: 16 | G12: 8.45 | H12: 9.4 | I12: 77.25
B13: 0.14583333 | C13: 29.4 | E13: 14.1 | F13: 16 | G13: 9.59 | H13: 9.2 | I13: 78.29
B14: 0.16666667 | C14: 29.4 | E14: 14.1 | F14: 16 | G14: 9.16 | H14: 9.7 | I14: 78.36
B15: 0.1875 | C15: 29.4 | E15: 14.1 | F15: 15.7 | G15: 7.3 | H15: 9.3 | I15: 75.8
B16: 0.20833333 | C16: 29.5 | E16: 13.4 | F16: 15.7 | G16: 8.38 | H16: 10.5 | I16: 77.48
B17: 0.22916667 | C17: 29.5 | E17: 14.2 | F17: 15.5 | G17: 8.02 | H17: 10.1 | I17: 77.32
B18: 0.25 | C18: 29.4 | E18: 12.9 | F18: 15.5 | G18: 6.73 | H18: 10.6 | I18: 75.13
... B54: 1 | C54: 29.3 | E54: 13.9 | F54: 14 | G54: 7.51 | H54: 9.7 | I54: 74.41
B55: EJEC MWh | C55: 697.3 | D55: 0 | E55: 326.85 | F55: 353.6 | G55: 185.33 | H55: 202.95 | I55: 1766.03
C56: TC | D56: TC | E56: TN | F56: TC | G56: TN | H56: TN
C57: T | D57: T | E57: T | F57: T | G57: T | H57: T
C58: C | D58: C | E58: N | F58: C | G58: N | H58: N
C59: 1 | D59: 1 | E59: 1 | F59: 1 | G59: 1 | H59: 1
C60: =+CONCATENATE(C59,C57) -> 1T | D60: =+CONCATENATE(D59,D57) -> 1T | E60: =+CONCATENATE(E59,E57) -> 1T | F60: =+CONCATENATE(F59,F57) -> 1T | G60: =+CONCATENATE(G59,G57) -> 1T | H60: =+CONCATENATE(H59,H57) -> 1T

Sheet TIPO_RECURSO
B10: 45218
B12: REPORTE POTENCIA GENERADA POR TIPO DE RECURSO | X12: P | Y12: R
B13: HORA | C13: H. DE PASADA | D13: H.REGULACION | E13: GN CAMISEA | F13: GN MALACAS | G13: GN AGUAYTIA | H13: GN LA ISLA | I13: CARBÓN | J13: DIESEL | K13: RESIDUAL R500 | L13: RESIDUAL R6 | M13: BAGAZO | N13: BIOGAS | O13: SOLAR | P13: EOLICO | Q13: TOTAL | U13: CODIGO | V13: EMPRESA | W13: CENTRAL | X13: HIDROELECTRICA DE PASADA | Y13: HIDROELECTRICA DE REGULACION
B14: 0.020833333 | C14: 935.559 | D14: 1609.056 | E14: 3422.6 | F14: 84.8 | G14: 60.8 | I14: 0 | J14: 0 | K14: 0 | M14: 47.99 | N14: 7.8 | O14: 0 | P14: 110.3 | Q14: 6278.905 | U14: 212 | V14: CELEPSA | W14: PLATANAL | Y14: 2052.1
B15: 0.041666667 | C15: 917.246 | D15: 1524.512 | E15: 3430.2 | F15: 85.2 | G15: 60.1 | I15: 0 | J15: 0 | K15: 0 | M15: 48.88 | N15: 7.8 | O15: 0 | P15: 104.6 | Q15: 6178.538 | U15: 150 | V15: CHINANGO | W15: CHIMAY | Y15: 1745.55
B16: 0.0625 | C16: 912.405 | D16: 1422.101 | E16: 3422.2 | F16: 84.8 | G16: 58.3 | I16: 0 | J16: 0 | K16: 0 | M16: 48.39 | N16: 7.7 | O16: 0 | P16: 85 | Q16: 6040.896 | U16: 149 | W16: YANANGO | X16: 607.55
B17: 0.083333333 | C17: 918.486 | D17: 1303.34 | E17: 3430 | F17: 85 | G17: 60.1 | I17: 0 | J17: 0 | K17: 0 | M17: 48.26 | N17: 7.7 | O17: 0 | P17: 92 | Q17: 5944.886 | U17: 103 | V17: ENEL GENERACIÓN PERÚ | W17: HUINCO | Y17: 2620.05
B18: 0.10416667 | C18: 910.626 | D18: 1255.79 | E18: 3421 | F18: 81.8 | G18: 58.6 | I18: 0 | J18: 0 | K18: 0 | M18: 48.22 | N18: 7.7 | O18: 0 | P18: 127.1 | Q18: 5910.836 | U18: 104 | W18: MATUCANA | Y18: 1914.35
B19: 0.125 | C19: 883.266 | D19: 1274.416 | E19: 3431.1 | F19: 87.1 | G19: 61.9 | I19: 0 | J19: 0 | K19: 0 | M19: 47.95 | N19: 7.7 | O19: 0 | P19: 149.7 | Q19: 5943.132 | U19: 105 | W19: CALLAHUANCA | Y19: 1556.95
B20: 0.14583333 | C20: 881.931 | D20: 1262.016 | E20: 3423.3 | F20: 86.9 | G20: 60.8 | I20: 0 | J20: 0 | K20: 0 | M20: 48.89 | N20: 7.8 | O20: 0 | P20: 179.5 | Q20: 5951.137 | U20: 106 | W20: MOYOPAMPA | X20: 1542.05
B21: 0.16666667 | C21: 871.614 | D21: 1198.679 | E21: 3450.7 | F21: 87.5 | G21: 62.6 | I21: 0 | J21: 0 | K21: 0 | M21: 48.96 | N21: 7.8 | O21: 0 | P21: 232.9 | Q21: 5960.753 | U21: 107 | W21: HUAMPANI | X21: 665.35
B22: 0.1875 | C22: 878.699 | D22: 1185.433 | E22: 3435.4 | F22: 86.8 | G22: 60.4 | I22: 0 | J22: 0 | K22: 0 | M22: 46.4 | N22: 7.8 | O22: 0 | P22: 254.8 | Q22: 5955.732 | U22: 2165 | W22: HER 1 | X22: 11.85
B23: 0.20833333 | C23: 875.371 | D23: 1263.899 | E23: 3429.1 | F23: 87 | G23: 58.7 | I23: 0 | J23: 0 | K23: 0 | M23: 47.98 | N23: 7.8 | O23: 0.1 | P23: 287.1 | Q23: 6057.05 | U23: 151 | V23: EGASA | W23: CHARCANI I,II,III | X23: 163.85
B24: 0.22916667 | C24: 880.929 | D24: 1422.088 | E24: 3330.1 | F24: 86.9 | G24: 61.2 | I24: 0 | J24: 0 | K24: 0 | M24: 47.82 | N24: 7.8 | O24: 8.1 | P24: 356.7 | Q24: 6201.637 | U24: 152 | W24: CHARCANI IV | Y24: 267.2
B25: 0.25 | C25: 912.104 | D25: 1466.017 | E25: 3194.6 | F25: 87.1 | G25: 60.1 | I25: 0 | J25: 0 | K25: 0 | M25: 45.73 | N25: 7.8 | O25: 58.5 | P25: 350.7 | Q25: 6182.651 | U25: 153 | W25: CHARCANI V | Y25: 1635.45
B26: 0.27083333 | C26: 892.982 | D26: 1659.535 | E26: 3195.8 | F26: 68.4 | G26: 60.2 | I26: 0 | J26: 0 | K26: 0 | M26: 47.87 | N26: 7.8 | O26: 72 | P26: 350.2 | Q26: 6354.787 | U26: 154 | W26: CHARCANI VI | Y26: 0
B27: 0.29166667 | C27: 909.367 | D27: 1900.398 | E27: 3195 | F27: 40.5 | G27: 0 | I27: 0 | J27: 0 | K27: 0 | M27: 43.94 | N27: 7.7 | O27: 72.6 | P27: 337.2 | Q27: 6506.705 | U27: 260 | V27: EGECSAC | W27: CANCHAYLLO | X27: 60.35
B28: 0.3125 | C28: 925.819 | D28: 1873.448 | E28: 3305.7 | F28: 45.7 | G28: 0 | I28: 0 | J28: 0 | K28: 0 | M28: 47.27 | N28: 7.7 | O28: 129.2 | P28: 346.8 | Q28: 6681.637 | U28: 251 | V28: EGEHUANZA | W28: HUANZA | Y28: 792.65
B29: 0.33333333 | C29: 931.672 | D29: 1811.983 | E29: 3340.4 | F29: 50.6 | G29: 0 | I29: 0 | J29: 0 | K29: 0 | M29: 47.81 | N29: 7.7 | O29: 178.3 | P29: 357.8 | Q29: 6726.265 | U29: 258 | V29: EGEJUNÍN | W29: RUNATULLO II | X29: 175.2
B30: 0.35416667 | C30: 944.436 | D30: 1840.688 | E30: 3351.5 | F30: 50.9 | G30: 0 | I30: 0 | J30: 0 | K30: 0 | M30: 48.31 | N30: 7.7 | O30: 296.8 | P30: 365 | Q30: 6905.334 | U30: 259 | W30: RUNATULLO III | X30: 242.75
B31: 0.375 | C31: 923.653 | D31: 2086.448 | E31: 3340.9 | F31: 50.7 | G31: 0 | I31: 0 | J31: 0 | K31: 0 | M31: 45.61 | N31: 7.6 | O31: 353.4 | P31: 340.2 | Q31: 7148.511 | U31: 201 | W31: STACRUZ_1_2 | X31: 167.9
B32: 0.39583333 | C32: 916.411 | D32: 2051.677 | E32: 3344 | F32: 71.6 | G32: 0 | I32: 0 | J32: 0 | K32: 0 | M32: 46.15 | N32: 7.6 | O32: 363 | P32: 304 | Q32: 7104.438 | U32: 226 | W32: HUASAHUASI I y II | X32: 277.7
B33: 0.41666667 | C33: 927.34 | D33: 2126.156 | E33: 3328.7 | F33: 70.6 | G33: 0 | I33: 0 | J33: 0 | K33: 0 | M33: 47.49 | N33: 7.6 | O33: 292.1 | P33: 317.1 | Q33: 7117.086 | U33: 163 | V33: EGEMSA | W33: MACHUPICCHU | X33: 2542.9
B34: 0.4375 | C34: 929.802 | D34: 2136.21 | E34: 3322.3 | F34: 65.5 | G34: 0 | I34: 0 | J34: 0 | K34: 0 | M34: 47.22 | N34: 7.6 | O34: 357.3 | P34: 292.6 | Q34: 7158.532 | U34: 127 | V34: ORAZUL ENERGY | W34: CAÑON DEL PATO | Y34: 4209.25
B35: 0.45833333 | C35: 949.868 | D35: 2428.414 | E35: 3341.3 | F35: 66 | G35: 0 | I35: 0 | J35: 0 | K35: 0 | M35: 47.85 | N35: 7.4 | O35: 263.9 | P35: 276 | Q35: 7380.732 | U35: 126 | W35: CARHUAQUERO | Y35: 1169.6
B36: 0.47916667 | C36: 962.049 | D36: 2443.919 | E36: 3389.6 | F36: 60.5 | G36: 0 | I36: 0 | J36: 0 | K36: 0 | M36: 46.62 | N36: 7.4 | O36: 250.8 | P36: 266.1 | Q36: 7426.988 | U36: 216 | W36: CARHUAQUERO4 | X36: 239
B37: 0.5 | C37: 948.802 | D37: 2233.091 | E37: 3365.1 | F37: 60.2 | G37: 0 | I37: 0 | J37: 0 | K37: 0 | M37: 44.41 | N37: 7.4 | O37: 394.6 | P37: 283.2 | Q37: 7336.803 | U37: 198 | W37: CANA BRAVA | X37: 91.75
B38: 0.52083333 | C38: 962.731 | D38: 2118.021 | E38: 3350.2 | F38: 61.1 | G38: 0 | I38: 0 | J38: 0 | K38: 0 | M38: 44.71 | N38: 7.4 | O38: 369.1 | P38: 310 | Q38: 7223.262 | U38: 298 | V38: EGESUR | W38: ARICOTA I | Y38: 169.55
B39: 0.54166667 | C39: 947.446 | D39: 2145.034 | E39: 3271.5 | F39: 60.7 | G39: 0 | I39: 0 | J39: 0 | K39: 0 | M39: 45.63 | N39: 7.3 | O39: 376.9 | P39: 321 | Q39: 7175.51 | U39: 299 | W39: ARICOTA II | Y39: 0
B40: 0.5625 | C40: 960.693 | D40: 2193.081 | E40: 3282.8 | F40: 61.2 | G40: 0 | I40: 0 | J40: 0 | K40: 0 | M40: 44.74 | N40: 7.2 | O40: 380.3 | P40: 347.4 | Q40: 7277.414 | U40: 223 | V40: ATRIA ENERGÍA | W40: PURMACANA | X40: 23
B41: 0.58333333 | C41: 948.995 | D41: 2168.103 | E41: 3274.7 | F41: 60.6 | G41: 0 | I41: 0 | J41: 0 | K41: 0 | M41: 44.86 | N41: 7.2 | O41: 376.7 | P41: 365.1 | Q41: 7246.258 | U41: 247 | V41: ELÉCTRICA RIO DOBLE | W41: PIZARRAS | X41: 138.65
B42: 0.60416667 | C42: 940.529 | D42: 2291.541 | E42: 3274.5 | F42: 70.8 | G42: 0 | I42: 0 | J42: 0 | K42: 0 | M42: 44.05 | N42: 7.2 | O42: 367 | P42: 402.5 | Q42: 7398.12 | U42: 238 | V42: ELÉCTRICA YANAPAMPA | W42: YANAPAMPA | X42: 87.45
B43: 0.625 | C43: 944.645 | D43: 2231.785 | E43: 3359.1 | F43: 70.9 | G43: 0 | I43: 0 | J43: 0 | K43: 0 | M43: 43.67 | N43: 7.2 | O43: 352.7 | P43: 408.5 | Q43: 7418.5 | U43: 101 | V43: ELECTROPERU | W43: MANTARO | Y43: 13148.6
B44: 0.64583333 | C44: 941.692 | D44: 2163.667 | E44: 3366.9 | F44: 70.8 | G44: 0 | I44: 0 | J44: 0 | K44: 0 | M44: 42.11 | N44: 7.2 | O44: 330.9 | P44: 425.9 | Q44: 7349.169 | U44: 102 | W44: RESTITUCION | X44: 4362.4
B45: 0.66666667 | C45: 942.512 | D45: 2423.078 | E45: 3226.2 | F45: 70.8 | G45: 0 | I45: 0 | J45: 0 | K45: 0 | M45: 39.59 | N45: 7.2 | O45: 293.1 | P45: 439.7 | Q45: 7442.18 | U45: 191 | V45: ENGIE | W45: YUNCAN | Y45: 2304
B46: 0.6875 | C46: 926.085 | D46: 2406.994 | E46: 3163.2 | F46: 71.1 | G46: 0 | I46: 0 | J46: 0 | K46: 0 | M46: 39.36 | N46: 7.2 | O46: 192 | P46: 438.3 | Q46: 7244.239 | U46: 211 | V46: GEPSA | W46: LA JOYA | X46: 101.95
B47: 0.70833333 | C47: 944.303 | D47: 2409.765 | E47: 3169 | F47: 87.5 | G47: 0 | I47: 0 | J47: 0 | K47: 0 | M47: 42.21 | N47: 7.2 | O47: 90.6 | P47: 449.2 | Q47: 7199.778 | U47: 2175 | W47: ÁNGEL I | X47: 84.3
B48: 0.72916667 | C48: 943.252 | D48: 2455.701 | E48: 3177.5 | F48: 88.4 | G48: 0 | I48: 0 | J48: 0 | K48: 0 | M48: 44.2 | N48: 7.3 | O48: 13 | P48: 429 | Q48: 7158.353 | U48: 2178 | W48: ÁNGEL II | X48: 114
B49: 0.75 | C49: 948.223 | D49: 2375.435 | E49: 3168.6 | F49: 87.5 | G49: 0 | I49: 0 | J49: 0 | K49: 0 | M49: 44.19 | N49: 7.5 | O49: 0 | P49: 402.8 | Q49: 7034.248 | U49: 2181 | W49: ÁNGEL III | X49: 118.95
B50: 0.77083333 | C50: 949.164 | D50: 2601.491 | E50: 3235.7 | F50: 88.3 | G50: 0 | I50: 0 | J50: 0 | K50: 0 | M50: 43.76 | N50: 7.5 | O50: 0 | P50: 382 | Q50: 7307.915 | U50: 228 | V50: HIDROCAÑETE | W50: NIMPERIAL | X50: 83.5
...

Sheet DESPACHO_EJECUTADO
B1: 101 | C1: 102 | D1: 147 | E1: 103 | F1: 104 | G1: 105 | H1: 106 | I1: 107 | J1: 2165 | K1: 110 | L1: 208 | M1: 109 | N1: 144 | O1: 113 | P1: 114 | Q1: 193 | R1: 2150 | S1: 907 | T1: 2161 | U1: 150 | V1: 149 | W1: 266 | X1: 117 | Y1: 119 | Z1: 267 | AA1: 268 | AB1: 120 | AC1: 189 | AD1: 121 | AE1: 122 | AF1: 142 | AG1: 143 | AH1: 125 | AI1: 187 | AJ1: 288 | AK1: 115 | AL1: 239 | AM1: 127 | AN1: 126 | AO1: 216 | AP1: 198 | AQ1: 138 | AR1: 139 | AS1: 163 | AT1: 298 | AU1: 299 | AV1: 219 | AW1: 191 | AX1: 174 | AY1: 240 | AZ1: 241 | BA1: 242 | BB1: 995 | BC1: 996 | BD1: 997 | BE1: 194 | BF1: 196 | BG1: 207 | BH1: 236 | BI1: 795 | BJ1: 285 | BK1: 2148 | BL1: 900 | BM1: 901 | BN1: 905 | BO1: 906 | BP1: 151 | BQ1: 152 | BR1: 153 | BS1: 154 | BT1: 756 | BU1: 156 | BV1: 155 | BW1: 182 | BX1: 999 | BY1: 197 | BZ1: 203 | CA1: 204 | CB1: 230 | CC1: 209 | CD1: 888 | CE1: 796 | CF1: 2146 | CG1: 252 | CH1: 249 | CI1: 250 | CJ1: 248 | CK1: 2159 | CL1: 263 | CM1: 265 | CN1: 758 | CO1: 786 | CP1: 787 | CQ1: 788 | CR1: 789 | CS1: 212 | CT1: 251 | CU1: 188 | CV1: 755 | CW1: 775 | CX1: 777 | CY1: 924 | CZ1: 926 | DA1: 202 | DB1: 904 | DC1: 213 | DD1: 232 | DE1: 225 | DF1: 760 | DG1: 2171 | DH1: 2201 | DI1: 201 | DJ1: 226 | DK1: 258 | DL1: 259 | DM1: 215 | DN1: 917 | DO1: 238 | DP1: 247 | DQ1: 214 | DR1: 223 | DS1: 211 | DT1: 2175 | DU1: 2178 | DV1: 2181 | DW1: 228 | DX1: 260 | DY1: 920 | DZ1: 2128 | EA1: 2131 | EB1: 2135 | EC1: 2152 | ED1: 2154 | EE1: 2184 | EF1: 2190 | EG1: 289 | EH1: 296 | EI1: 297 | EJ1: 2194 | EK1: 337 | EL1: 338 | EM1: 233 | EN1: 234 | EO1: 235 | EP1: 237 | EQ1: 261 | ER1: 303 | ES1: 253 | ET1: 770 | EU1: 1262 | EV1: 1263 | EW1: 257 | EX1: 256 | EY1: 6000 | EZ1: 6001 | FA1: 6002 | FD1: 222 | FE1: 199 | FF1: 200 | FG1: 221 | FH1: 224 | FI1: 227 | FJ1: 998 | FK1: 2187 | FL1: 902 | FM1: 903 | FN1: 5000 | FR1: 8002 | FS1: 8000 | FT1: 8002 | FU1: 8003 | FV1: 8004
B2: E1 | C2: E1 | E2: E2 | F2: E2 | G2: E2 | H2: E2 | I2: E2 | J2: E2 | K2: E2 | L2: E2 | M2: E2 | N2: E2 | O2: E2 | P2: E2 | Q2: E2 | R2: E2 | S2: E2 | T2: E2 | U2: E3 | V2: E3 | W2: E46 | X2: E46 | Y2: E46 | Z2: E46 | AA2: E46 | AB2: E46 | AC2: E46 | AD2: E46 | AE2: E46 | AF2: E9 | AG2: E9 | AH2: E9 | AI2: E9 | AJ2: E5 | AK2: E5 | AL2: E5 | AM2: E4 | AN2: E4 | AO2: E4 | AP2: E4 | AQ2: E8 | AR2: E8 | AS2: E11 | AT2: E12 | AU2: E12 | AV2: E12 | AW2: E13 | AX2: E13 | AY2: E13 | AZ2: E13 | BA2: E13 | BB2: E13 | BC2: E13 | BD2: E13 | BE2: E13 | BF2: E13 | BG2: E13 | BH2: E13 | BI2: E13 | BJ2: E13 | BK2: E13 | BL2: E13 | BM2: E13 | BN2: E13 | BO2: E13 | BP2: E14 | BQ2: E14 | BR2: E14 | BS2: E14 | BT2: E14 | BU2: E14 | BV2: E14 | BW2: E15 | BX2: E15 | BY2: E17 | BZ2: E17 | CA2: E17 | CB2: E17 | CC2: E17 | CD2: E17 | CE2: E17 | CF2: E17 | CG2: E18 | CH2: E18 | CI2: E18 | CJ2: E19 | CK2: E19 | CL2: E44 | CM2: E44 | CN2: E48 | CO2: E52 | CP2: E52 | CQ2: E52 | CR2: E52 | CS2: E22 | CT2: E10 | CU2: E7 | CV2: E45 | CW2: E51 | CX2: E51 | CY2: E55 | CZ2: E55 | DA2: E20 | DB2: E20 | DC2: E24 | DD2: E30 | DE2: E28 | DF2: E28 | DG2: E28 | DH2: E28 | DI2: E40 | DJ2: E40 | DK2: E40 | DL2: E40 | DM2: E25 | DN2: E25 | DO2: E36 | DP2: E37 | DQ2: E26 | DR2: E16 | DS2: E23 | DT2: E23 | DU2: E23 | DV2: E23 | DW2: E29 | DX2: E42 | DY2: E54 | DZ2: E56 | EA2: E57 | EB2: E58 | EC2: E60 | ED2: E61 | EE2: E63 | EF2: E65 | EG2: E66 | EH2: E67 | EI2: E67 | EJ2: E68 | EK2: E71 | EL2: E71 | EM2: E32 | EN2: E33 | EO2: E34 | EP2: E35 | EQ2: E41 | ER2: E72 | ES2: E38 | ET2: E50 | EU2: E69 | EV2: E70 | EW2: E39 | EX2: E39 | FD2: NC3 | FE2: NC1 | FF2: NC1 | FG2: NC2 | FH2: NC5 | FI2: NC4 | FJ2: NC6 | FK2: NC7 | FL2: NC8 | FM2: NC8
A3: 45218
A4: POTENCIA ACTIVA EJECUTADA DE LAS UNIDADES DE GENERACIÓN DEL SEIN (MW) | FD4: CENTRALES NO INTEGRANTES COES | FQ4: HORA | FR4: RESERVA FRÍA
A5: HORA | B5: ELECTROPERU | E5: ENEL PERÚ | U5: CHINANGO | W5: STATKRAFT | AF5: SHOUGESA | AJ5: ENEL PIURA | AM5: ORAZUL | AQ5: TERMOSELVA | AS5: EGEMSA | AT5: EGESUR | AW5: ENGIE | BP5: EGASA | BW5: SAN GABAN | BY5: KALLPA | CG5: FENIX POWER | CJ5: TERMOCHILCA | CL5: PLANTA RESERVA FRIA ETEN | CN5: MINERA CERRO VERDE | CO5: SAMAY I | CS5: CELEPSA | CT5: EMGHUANZA | CU5: HUANCHOR | CV5: INLAND ENERGY | CW5: HUALLAGA | CY5: INFR. Y ENERGÍA DEL PERÚ | DA5: SDF ENERGIA | DC5: AIPSA | DD5: AGROAURORA | DE5: PETRAMAS | DI5: EGEJUNÍN | DM5: SINERSA | DO5: ELÉCTRICA YANAPAMPA | DP5: ELÉCTRICA RIO DOBLE | DQ5: MAJA ENERGÍA | DR5: ATRIA ENERGÍA | DS5: GEPSA | DW5: HIDROCAÑETE | DX5: EGECSAC | DY5: EGERBA | DZ5: AGUA AZUL | EA5: CELEPSA RENOVABLES | EB5: HUAURA POWER GROUP | EC5: EGE SANTA ANA | ED5: LA VIRGEN | EE5: ANDEAN POWER | EF5: AGROINDUSTRIAS SAN JACINTO | EG5: BIOENERGÍA DEL CHIRA | EH5: GENERACIÓN ANDINA | EJ5: INVERSIÓN DE ENERGÍAS RENOVABLES S.A. | EK5: CENTRALES SANTA ROSA S.A.C. | EM5: MAJES ARCUS | EN5: REPARTICION ARCUS | EO5: TACNA SOLAR | EP5: PANA. SOLAR | EQ5: MOQUEGUA FV SOLAR | ER5: COLCA SOLAR | ES5: CEM | ET5: PE TRES HERMANAS | EU5: GR PAINO S.A.C | EV5: GR TARUCA S.A.C | EW5: ENERGIA EOLICA | EY5: TOTAL GENERACIÓN COES | EZ5: IMPORTACIÓN ECUADOR | FA5: TOTAL SEIN | FD5: ELECTRO ORIENTE | FE5: SINERSA | FG5: ANDINO | FH5: AGUA Y E. PERU | FI5: ENOSA | FJ5: SDE PIURA | FK5: ELECTRO ZAÑA | FL5: PETROPERÚ | FN5: TOTAL NO COES | FR5: RESERVA FRÍA TOTAL (MW) | FS5: RESERVA FRÍA TERMOELÉCTRICAS (MW) | FT5: INDISPONIBILIDAD MANTENIMINETO TERMOELÉCTRICAS (MW) | FU5: RESERVA FRÍA MÍNIMA (MW)
B6: MANTARO | C6: RESTITUCION | D6: TUMBES | E6: HUINCO | F6: MATUCANA | G6: CALLAHUANCA | H6: MOYOPAMPA | I6: HUAMPANI | J6: HER 1 | K6: STAROSA TG7 | L6: STAROSA TG8 | M6: UTI_5 | N6: UTI_6 | O6: VENTANILLA TG3 | P6: VENTANILLA TG4 | Q6: VENTANILLA TV | R6: C.S. RUBÍ | S6: C.S. CLEMESÍ | T6: WAYRA I | U6: CHIMAY | V6: YANANGO | W6: CHEVES | X6: YAUPI | Y6: MALPASO | Z6: OROYA | AA6: PACHACHACA | AB6: CAHUA | AC6: ARCATA | AD6: PARIAC | AE6: GALLITO CIEGO | AF6: SHOUGESA TV1 | AG6: SHOUGESA TV2 | AH6: SHOUGESA TV3 | AI6: SHOUGESA CUMMINS | AJ6: MALACAS1 TG 6 | AK6: MALACAS2 TG4 | AL6: MALACAS3 TG 5 | AM6: CAÑON DEL PATO | AN6: CARHUAQUERO | AO6: CARHUAQUERO4 | AP6: CAÑA BRAVA | AQ6: AGUAYTIA TG1 | AR6: AGUAYTIA TG2 | AS6: MACHUPICCHU | AT6: ARICOTA I | AU6: ARICOTA II | AV6: INDEPENDENCIA | AW6: YUNCAN | AX6: ILO2 TV CARB1 | AY6: RF ILO2 TG1 | AZ6: RF ILO2 TG2 | BA6: RF ILO2 TG3 | BB6: NEPI TG41 | BC6: NEPI TG42 | BD6: NEPI TG43 | BE6: CHILCA1 TG1 | BF6: CHILCA1 TG2 | BG6: CHILCA1 TG3 | BH6: CHILCA 1 TV | BI6: CHILCA2 TG4 | BJ6: CHILCA2 TV | BK6: INTIPAMPA | BL6: PUNTA LOMITAS-I | BM6: PUNTA LOMITAS-II | BN6: P LOMITAS_EXP-BL1 | BO6: P LOMITAS_EXP-BL2 | BP6: CHARCANI I,II,III | BQ6: CHARCANI IV | BR6: CHARCANI V | BS6: CHARCANI VI | BT6: CHILINA TG | BU6: MOLLENDO 1, 2, 3 | BV6: CHILINA (SULZ 1,2) | BW6: SAN GABAN II | BX6: MCH TUPURI | BY6: KALLPA TG1 | BZ6: KALLPA TG2 | CA6: KALLPA TG3 | CB6: KALLPA TV | CC6: LFLORES TG1 | CD6: LFLORES TV | CE6: CERRO DEL ÁGUILA | CF6: PCH CERRO DELÁGUILA | CG6: FENIX GT11 | CH6: FENIX GT12 | CI6: FENIX TV10 | CJ6: OLLEROS TG1 | CK6: OLLEROS TV | CL6: ETEN TG1 | CM6: ETEN TG2 | CN6: RECKA TG1 | CO6: P BRV TG1 | CP6: P BVR TG2 | CQ6: P BRV TG3 | CR6: P BRV TG4 | CS6: PLATANAL | CT6: HUANZA | CU6: HUANCHOR | CV6: SANTA TERESA | CW6: PCH CHAGLLA | CX6: CHAGLLA | CY6: RF PUCALLPA | CZ6: RF PTO MALDONADO | DA6: OQUENDO TG1 | DB6: OQUENDO TV1 | DC6: PARAMONGA | DD6: MAPLE | DE6: HUAYCOLORO | DF6: LA GRINGA V | DG6: DOÑA CATALINA | DH6: CALLAO | DI6: STACRUZ_1_2 | DJ6: HUASAHUASI I y II | DK6: RUNATULLO II | DL6: RUNATULLO III | DM6: POECHOS2 | DN6: CHANCAY | DO6: YANAPAMPA | DP6: PIZARRAS | DQ6: RONCADOR | DR6: PURMACANA | DS6: LA JOYA | DT6: ÁNGEL I | DU6: ÁNGEL II | DV6: ÁNGEL III | DW6: IMPERIAL | DX6: CANCHAYLLO | DY6: RUCUY | DZ6: POTRERO | EA6: MARAÑÓN | EB6: YARUCAYA | EC6: RENOVANDES | ED6: LA VIRGEN | EE6: CARHUAC | EF6: SAN JACNTO | EG6: C.T. CAÑA BRAVA | EH6: 8 DE AGOSTO | EI6: EL CARMEN | EJ6: MANTA I | EK6: SANTA ROSA I | EL6: SANTA ROSA II | EM6: MAJES | EN6: REPARTICION | EO6: TACNA SOLAR | EP6: PANAMERICANA SOLAR | EQ6: MOQUEGUA | ER6: C.S. YARUCAYA | ES6: PQE-EOLICO MARCONA | ET6: PQE-EOLICO TRES HERMANAS | EU6: HUAMBOS | EV6: DUNA | EW6: TALARA | EX6: PQE-EOLICO CUPISNIQUE | EY6: MW | EZ6: MW | FA6: MW | FD6: CENTRALES ELOR | FE6: CURUMUY | FF6: POECHOS 1 | FG6: CARPAPATA | FH6: PIAS1 | FI6: TABLAZO | FJ6: TALLANCA | FK6: ZAÑA | FL6: RTALARA G1 | FM6: RTALARA G2 | FN6: MW | FV6: GPS
A7: 00:30 | B7: 499.2 | C7: 158.9 | E7: 93.5 | F7: 91.2 | G7: 66.6 | H7: 68.2 | I7: 25.8 | J7: 0.4 | O7: 143.5 | P7: 146.1 | Q7: 147.5 | R7: 0 | S7: 0 | T7: 0 | U7: 74.1 | V7: 25.7 | W7: 56.241 | X7: 106.9 | Y7: 28.715 | Z7: 8.4 | AB7: 43.98 | AC7: 3.189 | AD7: 3.49 | AK7: 84.8 | AM7: 141.5 | AN7: 51.9 | AO7: 10 | AP7: 4.1 | AR7: 60.8 | AS7: 115.3 | AT7: 7.5 | AV7: 22.6 | AW7: 101 | BE7: 170.4 | BF7: 168.9 | BG7: 188.7 | BH7: 268.5 | BI7: 74 | BJ7: 35.7 | BK7: 0 | BL7: 0.3 | BM7: 3.8 | BN7: 0.2 | BO7: 0 | BP7: 6.8 | BQ7: 10.5 | BR7: 56.4 | BW7: 46.5 | BY7: 180.7 | BZ7: 196.5 | CA7: 201.7 | CB7: 292.1 | CC7: 203.9 | CD7: 105.7 | CE7: 250.8 | CF7: 3.5 | CG7: 186.1 | CH7: 186 | CI7: 186.9 | CJ7: 186.6 | CK7: 101.2 | CS7: 33.4 | CT7: 0 | CU7: 15.9 | CV7: 57.1 | CW7: 6.5 | CX7: 0 | DA7: 29.3 | DC7: 16 | DD7: 14.6 | DE7: 3 | DF7: 1.6 | DG7: 1.1 | DH7: 2.1 | DI7: 7.8 | DJ7: 12 | DK7: 7.5 | DL7: 9.7 | DM7: 5.9 | DN7: 18.6 | DO7: 3.6 | DP7: 5.9 | DQ7: 3.5 | DR7: 0.6 | DS7: 3.5 | DT7: 3.4 | DU7: 4.6 | DV7: 4.8 | DW7: 3.5 | DX7: 2.6 | DY7: 15.3 | DZ7: 10.2 | EA7: 19.7 | EB7: 16.9 | EC7: 20.6 | ED7: 45.2 | EE7: 9.1 | EF7: 7.79 | EG7: 9.6 | EH7: 19.6 | EI7: 5.8 | EJ7: 9.9 | EK7: 0.5 | EL7: 1.1 | EM7: 0 | EN7: 0 | EO7: 0 | EP7: 0 | EQ7: 0 | ER7: 0 | ES7: 5.3 | ET7: 5.2 | EU7: 8.7 | EV7: 13.5 | EW7: 24.4 | EX7: 48.9 | EY7: 6278.905 | EZ7: 0 | FA7: 6278.905 | FD7: 0 | FE7: 3.9 | FF7: 5.9 | FG7: 9.9545 | FH7: 4.517 | FI7: 27.74852 | FJ7: 10.73158 | FK7: 7.5 | FM7: 42.8 | FN7: 113.0516 | FQ7: 0.020833333 | FR7: =[1]DESPACHO!B63 -> 2327.828 | FS7: =[1]DESPACHO!C63 -> 2327.828 | FT7: =[1]DESPACHO!D63 -> 656.85612 | FU7: =[1]DESPACHO!E63 -> 631.7173
A8: 01:00 | B8: 496.6 | C8: 162.3 | E8: 83.3 | F8: 71.7 | G8: 67.6 | H8: 64.5 | I8: 25.3 | J8: 0.4 | O8: 144.3 | P8: 147 | Q8: 148.6 | R8: 0 | S8: 0 | T8: 0 | U8: 72.3 | V8: 25.9 | W8: 37.527 | X8: 104.214 | Y8: 18.985 | Z8: 8.4 | AB8: 42.65 | AC8: 3.192 | AD8: 3.49 | AK8: 85.2 | AM8: 115.8 | AN8: 49.5 | AO8: 10 | AP8: 4 | AR8: 60.1 | AS8: 111.3 | AT8: 7 | AV8: 22.7 | AW8: 99.5 | BE8: 171.9 | BF8: 170.5 | BG8: 189.5 | BH8: 269.3 | BI8: 74.8 | BJ8: 35.9 | BK8: 0 | BL8: 2.9 | BM8: 7.2 | BN8: 0 | BO8: 0 | BP8: 6.8 | BQ8: 9.9 | BR8: 55.2 | BW8: 45.5 | BY8: 182.2 | BZ8: 198.1 | CA8: 202.9 | CB8: 293.8 | CC8: 204.4 | CD8: 105.1 | CE8: 245.5 | CF8: 3.3 | CG8: 182.3 | CH8: 182.9 | CI8: 186.5 | CJ8: 187.1 | CK8: 101.1 | CS8: 48.6 | CT8: 0 | CU8: 15.9 | CV8: 56.3 | CW8: 6.5 | CX8: 0 | DA8: 29.3 | DC8: 16.6 | DD8: 14.6 | DE8: 3 | DF8: 1.6 | DG8: 1.1 | DH8: 2.1 | DI8: 8.2 | DJ8: 12 | DK8: 7.4 | DL8: 9.4 | DM8: 5.5 | DN8: 18.5 | DO8: 3.7 | DP8: 6 | DQ8: 3.3 | DR8: 0.6 | DS8: 3.5 | DT8: 3.4 | DU8: 4.6 | DV8: 4.8 | DW8: 3.5 | DX8: 2.6 | DY8: 15.2 | DZ8: 10.2 | EA8: 19.7 | EB8: 16.9 | EC8: 20.4 | ED8: 43.3 | EE8: 3.1 | EF8: 7.88 | EG8: 9.8 | EH8: 19.6 | EI8: 5.8 | EJ8: 9.9 | EK8: 0.6 | EL8: 1.1 | EM8: 0 | EN8: 0 | EO8: 0 | EP8: 0 | EQ8: 0 | ER8: 0 | ES8: 4.9 | ET8: 6.6 | EU8: 10.1 | EV8: 15.3 | EW8: 20.3 | EX8: 37.3 | EY8: 6178.538 | EZ8: 0 | FA8: 6178.538 | FD8: 0 | FE8: 4 | FF8: 5.9 | FG8: 9.72484 | FH8: 4.515 | FI8: 27.72238 | FJ8: 18.9064 | FK8: 7.5 | FM8: 43.1 | FN8: 121.36862 | FQ8: 0.041666667 | FR8: =[1]DESPACHO!B64 -> 2327.828 | FS8: =[1]DESPACHO!C64 -> 2327.828 | FT8: =[1]DESPACHO!D64 -> 656.85612 | FU8: =[1]DESPACHO!E64 -> 616.41531
A9: 01:30 | B9: 492.1 | C9: 161 | E9: 62.7 | F9: 64.2 | G9: 68.9 | H9: 63.3 | I9: 25.6 | J9: 0.4 | O9: 144.4 | P9: 147 | Q9: 148.1 | R9: 0 | S9: 0 | T9: 0 | U9: 71.4 | V9: 24.8 | W9: 18.047 | X9: 105.583 | Y9: 13.054 | Z9: 8.3 | AB9: 42.44 | AC9: 3.192 | AD9: 3.49 | AK9: 84.8 | AM9: 91.7 | AN9: 47.4 | AO9: 10 | AP9: 4 | AR9: 58.3 | AS9: 109.9 | AT9: 6.7 | AV9: 22.6 | AW9: 98.3 | BE9: 171.5 | BF9: 170.1 | BG9: 188.5 | BH9: 268.5 | BI9: 74.7 | BJ9: 35.8 | BK9: 0 | BL9: 2.4 | BM9: 7.7 | BN9: 0 | BO9: 0 | BP9: 6.8 | BQ9: 9.9 | BR9: 54.1 | BW9: 44.8 | BY9: 182.4 | BZ9: 198.3 | CA9: 203.1 | CB9: 293 | CC9: 205.2 | CD9: 106.3 | CE9: 219.6 | CF9: 3.3 | CG9: 179.6 | CH9: 179.7 | CI9: 186.2 | CJ9: 186.9 | CK9: 101 | CS9: 59.2 | CT9: 0 | CU9: 15.8 | CV9: 55.5 | CW9: 6.5 | CX9: 0 | DA9: 29.3 | DC9: 16 | DD9: 14.1 | DE9: 3 | DF9: 1.5 | DG9: 1.1 | DH9: 2.1 | DI9: 7.9 | DJ9: 12 | DK9: 7.3 | DL9: 9.7 | DM9: 5.9 | DN9: 18.5 | DO9: 3.7 | DP9: 6 | DQ9: 3.2 | DR9: 0.7 | DS9: 3.5 | DT9: 3.2 | DU9: 4.3 | DV9: 4.5 | DW9: 3.5 | DX9: 2.6 | DY9: 15.2 | DZ9: 10.2 | EA9: 19.7 | EB9: 16.9 | EC9: 20.3 | ED9: 44.1 | EE9: 3 | EF9: 8.59 | EG9: 9.7 | EH9: 19.2 | EI9: 5.8 | EJ9: 9.9 | EK9: 0.6 | EL9: 1.1 | EM9: 0 | EN9: 0 | EO9: 0 | EP9: 0 | EQ9: 0 | ER9: 0 | ES9: 3.9 | ET9: 8.3 | EU9: 6.4 | EV9: 11.4 | EW9: 22.7 | EX9: 22.2 | EY9: 6040.896 | EZ9: 0 | FA9: 6040.896 | FD9: 0 | FE9: 4 | FF9: 5.8 | FG9: 10.10784 | FH9: 4.514 | FI9: 27.7991 | FJ9: 18.90668 | FK9: 7.5 | FM9: 43.19 | FN9: 121.81762 | FQ9: 0.0625 | FR9: =[1]DESPACHO!B65 -> 2327.828 | FS9: =[1]DESPACHO!C65 -> 2327.828 | FT9: =[1]DESPACHO!D65 -> 656.85612 | FU9: =[1]DESPACHO!E65 -> 609.45684
A10: 02:00 | B10: 494.1 | C10: 159 | E10: 26.6 | F10: 64.7 | G10: 67.8 | H10: 65.4 | I10: 25.8 | J10: 0.3 | O10: 144.2 | P10: 147 | Q10: 146.4 | R10: 0 | S10: 0 | T10: 0 | U10: 72.2 | V10: 26.9 | W10: 19.015 | X10: 104.04 | Y10: 11.725 | Z10: 8.2 | AB10: 42.75 | AC10: 3.191 | AD10: 3.505 | AK10: 85 | AM10: 95.2 | AN10: 49.7 | AO10: 9.9 | AP10: 4.1 | AR10: 60.1 | AS10: 113.9 | AT10: 7 | AV10: 22.6 | AW10: 99.4 | BE10: 172.2 | BF10: 170.6 | BG10: 190 | BH10: 269.4 | BI10: 74.8 | BJ10: 36 | BK10: 0 | BL10: 6.3 | BM10: 13.2 | BN10: 0.5 | BO10: 0 | BP10: 6.8 | BQ10: 9.9 | BR10: 54.9 | BW10: 45.3 | BY10: 182.3 | BZ10: 198.1 | CA10: 203.7 | CB10: 294.2 | CC10: 203.8 | CD10: 106.3 | CE10: 145.8 | CF10: 3.4 | CG10: 182.4 | CH10: 182.8 | CI10: 185.2 | CJ10: 187.5 | CK10: 101.2 | CS10: 40 | CT10: 0 | CU10: 15.9 | CV10: 55.6 | CW10: 6.5 | CX10: 0 | DA10: 29.3 | DC10: 16 | DD10: 14.5 | DE10: 3 | DF10: 1.5 | DG10: 1.1 | DH10: 2.1 | DI10: 7.9 | DJ10: 12 | DK10: 7.3 | DL10: 9.3 | DM10: 5.9 | DN10: 18.5 | DO10: 3.7 | DP10: 6 | DQ10: 3.2 | DR10: 0.7 | DS10: 3.5 | DT10: 3.2 | DU10: 4.3 | DV10: 4.5 | DW10: 3.5 | DX10: 2.6 | DY10: 15.2 | DZ10: 10.2 | EA10: 19.7 | EB10: 16.9 | EC10: 20.4 | ED10: 44.6 | EE10: 3 | EF10: 7.86 | EG10: 9.9 | EH10: 19 | EI10: 5.6 | EJ10: 10.9 | EK10: 0.6 | EL10: 1.1 | EM10: 0 | EN10: 0 | EO10: 0 | EP10: 0 | EQ10: 0 | ER10: 0 | ES10: 5.6 | ET10: 14.2 | EU10: 4.8 | EV10: 7.8 | EW10: 23.4 | EX10: 16.2 | EY10: 5944.886 | EZ10: 0 | FA10: 5944.886 | FD10: 0 | FE10: 4 | FF10: 5.8 | FG10: 10.41838 | FH10: 4.512 | FI10: 27.76814 | FJ10: 18.90655 | FK10: 7.5 | FM10: 42.83 | FN10: 121.73507 | FQ10: 0.083333333 | FR10: =[1]DESPACHO!B66 -> 2327.828 | FS10: =[1]DESPACHO!C66 -> 2327.828 | FT10: =[1]DESPACHO!D66 -> 656.85612 | FU10: =[1]DESPACHO!E66 -> 603.48356
