Workbook
Name AREA_CMgCP: #REF!
Name AREA_PROGRAMADO: PROGRAMADO!$C$5:$HC$53
Name BORRA_RESUMEN1: RESUMEN!$D$6:$S$70
Name BORRA_RESUMEN2: RESUMEN!$D$79:$S$89
Name CERRO_VERDE_COMB: #REF!
Name CIRATO: #REF!
Name CMgCP: #REF!
Name CMgCP_h: #REF!
Name CONTRIBUCION_CENTRO: [1]EXTRA!$O$16
Name CONTRIBUCION_NORTE: [1]EXTRA!$M$16
Name CONTRIBUCION_SUR: [1]EXTRA!$N$16
Name DEMANDA_USUARIOS_LIBRES: DEMANDA_UL!$C$21:$CX$68
Name DESV_EJE_PROG: DESVIACION!$XE$12
Name DESV_MAX: DESVIACION!$XJ$69
Name DESV_MEDIA: DESVIACION!$XJ$68
Name DESV_MINIMA: DESVIACION!$XJ$67
Name EDEGEL_COMB: #REF!
Name EEPSA_COMBUSTIBLE: #REF!
Name EGASA_COMBUSTIBLE: #REF!
Name EJE_DESP_EJE: DESPACHO_EJECUTADO!$EY$7
Name EJE_DESV: DESVIACION!$XC$12
Name EMBALSES: #REF!
Name ENE_COMBUSTIBLE: #REF!
Name ENERGIA_PROGRAMADO: PROGRAMADO!$C$53:$HC$53
Name ENERGIA_REPROGRAMADO: REPROGRAMADO!$D$53:$GC$53
Name ENERGIA_SEIN: DESPACHO_EJECUTADO!$FA$55
Name ETEN_COMBUSTIBLE: #REF!
Name FECHA_COGENERACION: COGENERACION!$B$3
Name FECHA_COMB_GAS: #REF!
Name FECHA_COMB_SOLIDOS: #REF!
Name FECHA_DEMANDA: DEMANDA_UL!$B$10
Name FECHA_DEMANDA_AREAS: DEMANDA_AREAS!$B$8
Name FECHA_DESPACHO_EJE: DESPACHO_EJECUTADO!$A$3
Name FECHA_DESVIACION: DESVIACION!$B$7
Name FECHA_EXTRA: [1]EXTRA!$F$3
Name FECHA_FLUJOS: FLUJOS!$A$1
Name FECHA_GENERACION_EREAS: G_AREAS!$B$2
Name FECHA_HIDRO: #REF!
Name FECHA_INTER: INTERCONEXIONES!$A$1
Name FECHA_MARGINALES: #REF!
Name FECHA_PROGRAMADO: PROGRAMADO!$A$1
Name FECHA_REACTIVA: REACTIVA!$A$3
Name FECHA_REPROGRAMADO: REPROGRAMADO!$A$1
Name FECHA_RER: 'GENERACION RER'!$B$3
Name FECHA_RESTRICCIONES: RESTRIC_OPE!$B$2
Name FECHA_RESUMEN: RESUMEN!$C$1
Name FECHA_TIPO_RECURSO: TIPO_RECURSO!$B$10
Name FECHA_TRANGRESIONES: TRANSGRESIONES!$B$2
Name FECHA_TRANSGRESIONES: TRANSGRESIONES!$B$2
Name FENIX_PRESION: #REF!
Name GENERACION_RECURSO_RER: G_AREAS!$Z$7:$AD$54
Name GENERACION_RECURSO_SEIN: G_AREAS!$T$7:$X$54
Name GENERACION_TIPO_RECURSO_SEIN: TIPO_RECURSO!$C$14:$T$61
Name HIDRAULICA_TIPO: TIPO_RECURSO!$X$14:$Y$60
Name MARGINALES_DIA: RESUMEN!$V$10
Name MAX_CENTRO: FLUJOS!$KU$54
Name MAX_HORA_EXTRA: [1]EXTRA!$J$13
Name MAX_NORTE: FLUJOS!$KT$54
Name MAX_SUR: FLUJOS!$KV$54
Name MAXIMA_DIA: RESUMEN!$V$9

Sheet RESUMEN
C1: 45218
C2: RESUMEN DE GENERACIÓN DE ENERGÍA ELÉCTRICA POR EMPRESAS INTEGRANTES DEL COES
C3: EMPRESAS | D3: HIDROELÉCTRICO (MWh) | G3: TERMOELÉCTRICO (MWh) | J3: SOLAR (MWh) | M3: EÓLICO (MWh) | P3: TOTAL (MWh) | S3: PARTICIPACIÓN %
D5: PROGRAMADO | E5: EJECUTADO | F5: DESVIACIÓN | G5: PROGRAMADO | H5: EJECUTADO | I5: DESVIACIÓN | J5: PROGRAMADO | K5: EJECUTADO | L5: DESVIACIÓN | M5: PROGRAMADO | N5: EJECUTADO | O5: DESVIACIÓN | P5: PROGRAMADO | Q5: EJECUTADO | R5: DESVIACIÓN
B6: E1 | C6: KALLPA GENERACION | D6: 4842.2018 | E6: 4850.15 | F6: =+D6-E6 -> -7.94815 | G6: 28549.503 | H6: 28360 | I6: =+G6-H6 -> 189.50288 | L6: =+J6-K6 -> 0 | O6: =+M6-N6 -> 0 | P6: 33391.705 | Q6: 33210.15 | R6: =+P6-Q6 -> 181.55473 | S6: =+Q6/TOTAL_RESUMEN_SEIN -> 0.20199141
B7: E2 | C7: ENGIE | D7: 2662.848 | E7: 2304 | F7: =+D7-E7 -> 358.84802 | G7: 21718.867 | H7: 21761.25 | I7: =+G7-H7 -> -42.382925 | J7: 360.905 | K7: 353.4 | L7: =+J7-K7 -> 7.505 | M7: 2545.8 | N7: 2239.95 | O7: =+M7-N7 -> 305.85 | P7: 27288.42 | Q7: 26658.6 | R7: =+P7-Q7 -> 629.82009 | S7: =+Q7/TOTAL_RESUMEN_SEIN -> 0.16214344
B8: E3 | C8: ENEL PERÚ | D8: 8505.9594 | E8: 8310.6 | F8: =+D8-E8 -> 195.35941 | G8: 12401.742 | H8: 10508.55 | I8: =+G8-H8 -> 1893.1917 | J8: 2477.356 | K8: 2051.95 | L8: =+J8-K8 -> 425.406 | M8: 1481 | N8: 1559.6 | O8: =+M8-N8 -> -78.6 | P8: 24866.057 | Q8: 22430.7 | R8: =+P8-Q8 -> 2435.3571 | S8: =+Q8/TOTAL_RESUMEN_SEIN -> 0.13642843
B9: E4 | C9: ELECTROPERU | D9: 17142.563 | E9: 17511 | F9: =+D9-E9 -> -368.43725 | G9: 0 | I9: =+G9-H9 -> 0 | L9: =+J9-K9 -> 0 | O9: =+M9-N9 -> 0 | P9: 17142.563 | Q9: 17511 | R9: =+P9-Q9 -> -368.43725 | S9: =+Q9/TOTAL_RESUMEN_SEIN -> 0.10650574 | V9: La máxima demanda del jueves, 19 de Octubre de 2023 ocurrió a las 16:00 horas con un valor de 7442.17999999999 MW, 37.01 MW mas de lo programado , (0.5 %)
B10: E5 | C10: FENIX POWER | F10: =+D10-E10 -> 0 | G10: 13372.634 | H10: 12475.05 | I10: =+G10-H10 -> 897.58416 | L10: =+J10-K10 -> 0 | O10: =+M10-N10 -> 0 | P10: 13372.634 | Q10: 12475.05 | R10: =+P10-Q10 -> 897.58416 | S10: =+Q10/TOTAL_RESUMEN_SEIN -> 0.075875986
B11: E7 | C11: HUALLAGA | D11: 153.36 | E11: 6337.85 | F11: =+D11-E11 -> -6184.49 | I11: =+G11-H11 -> 0 | L11: =+J11-K11 -> 0 | O11: =+M11-N11 -> 0 | P11: 153.36 | Q11: 6337.85 | R11: =+P11-Q11 -> -6184.49 | S11: =+Q11/TOTAL_RESUMEN_SEIN -> 0.038548192
B12: E8 | C12: STATKRAFT | D12: 5816.3334 | E12: 6094.9485 | F12: =+D12-E12 -> -278.61511 | I12: =+G12-H12 -> 0 | L12: =+J12-K12 -> 0 | O12: =+M12-N12 -> 0 | P12: 5816.3334 | Q12: 6094.9485 | R12: =+P12-Q12 -> -278.61511 | S12: =+Q12/TOTAL_RESUMEN_SEIN -> 0.037070812
B13: E9 | C13: TERMOCHILCA | F13: =+D13-E13 -> 0 | G13: 6822.4781 | H13: 5958.05 | I13: =+G13-H13 -> 864.42808 | L13: =+J13-K13 -> 0 | O13: =+M13-N13 -> 0 | P13: 6822.4781 | Q13: 5958.05 | R13: =+P13-Q13 -> 864.42808 | S13: =+Q13/TOTAL_RESUMEN_SEIN -> 0.036238165
B14: E10 | C14: ORAZUL | D14: 6559.9422 | E14: 5709.6 | F14: =+D14-E14 -> 850.34219 | I14: =+G14-H14 -> 0 | L14: =+J14-K14 -> 0 | O14: =+M14-N14 -> 0 | P14: 6559.9422 | Q14: 5709.6 | R14: =+P14-Q14 -> 850.34219 | S14: =+Q14/TOTAL_RESUMEN_SEIN -> 0.034727038
B15: E11 | C15: EGEMSA | D15: 2649.9818 | E15: 2542.9 | F15: =+D15-E15 -> 107.08184 | I15: =+G15-H15 -> 0 | L15: =+J15-K15 -> 0 | O15: =+M15-N15 -> 0 | P15: 2649.9818 | Q15: 2542.9 | R15: =+P15-Q15 -> 107.08184 | S15: =+Q15/TOTAL_RESUMEN_SEIN -> 0.015466475
B16: E12 | C16: CHINANGO | D16: 2159.4938 | E16: 2353.1 | F16: =+D16-E16 -> -193.60616 | I16: =+G16-H16 -> 0 | L16: =+J16-K16 -> 0 | O16: =+M16-N16 -> 0 | P16: 2159.4938 | Q16: 2353.1 | R16: =+P16-Q16 -> -193.60616 | S16: =+Q16/TOTAL_RESUMEN_SEIN -> 0.01431207
B17: E13 | C17: EGASA | D17: 2104.759 | E17: 2066.5 | F17: =+D17-E17 -> 38.258975 | G17: 0 | H17: 0 | I17: =+G17-H17 -> 0 | L17: =+J17-K17 -> 0 | O17: =+M17-N17 -> 0 | P17: 2104.759 | Q17: 2066.5 | R17: =+P17-Q17 -> 38.258975 | S17: =+Q17/TOTAL_RESUMEN_SEIN -> 0.012568906
B18: E14 | C18: CELEPSA | D18: 1740.7291 | E18: 2052.1 | F18: =+D18-E18 -> -311.37087 | I18: =+G18-H18 -> 0 | L18: =+J18-K18 -> 0 | O18: =+M18-N18 -> 0 | P18: 1740.7291 | Q18: 2052.1 | R18: =+P18-Q18 -> -311.37087 | S18: =+Q18/TOTAL_RESUMEN_SEIN -> 0.012481322
B19: E15 | C19: ENEL PIURA | F19: =+D19-E19 -> 0 | G19: 2040 | H19: 1825.2 | I19: =+G19-H19 -> 214.8 | L19: =+J19-K19 -> 0 | O19: =+M19-N19 -> 0 | P19: 2040 | Q19: 1825.2 | R19: =+P19-Q19 -> 214.8 | S19: =+Q19/TOTAL_RESUMEN_SEIN -> 0.011101266
B20: E16 | C20: SAN GABAN | D20: 1425.0542 | E20: 1505.6 | F20: =+D20-E20 -> -80.54576 | I20: =+G20-H20 -> 0 | L20: =+J20-K20 -> 0 | O20: =+M20-N20 -> 0 | P20: 1425.0542 | Q20: 1505.6 | R20: =+P20-Q20 -> -80.54576 | S20: =+Q20/TOTAL_RESUMEN_SEIN -> 0.0091573889
B21: E17 | C21: INLAD ENERGY | D21: 1450.2485 | E21: 1339.6 | F21: =+D21-E21 -> 110.64848 | I21: =+G21-H21 -> 0 | L21: =+J21-K21 -> 0 | O21: =+M21-N21 -> 0 | P21: 1450.2485 | Q21: 1339.6 | R21: =+P21-Q21 -> 110.64848 | S21: =+Q21/TOTAL_RESUMEN_SEIN -> 0.0081477406
B22: E18 | C22: ENERGIA EOLICA | F22: =+D22-E22 -> 0 | I22: =+G22-H22 -> 0 | L22: =+J22-K22 -> 0 | M22: 1421.162 | N22: 1284.55 | O22: =+M22-N22 -> 136.612 | P22: 1421.162 | Q22: 1284.55 | R22: =+P22-Q22 -> 136.612 | S22: =+Q22/TOTAL_RESUMEN_SEIN -> 0.0078129144
B23: E19 | C23: TRES HERMANAS | F23: =+D23-E23 -> 0 | I23: =+G23-H23 -> 0 | L23: =+J23-K23 -> 0 | M23: 1080.966 | N23: 1221.9 | O23: =+M23-N23 -> -140.934 | P23: 1080.966 | Q23: 1221.9 | R23: =+P23-Q23 -> -140.934 | S23: =+Q23/TOTAL_RESUMEN_SEIN -> 0.0074318634
B24: E20 | C24: LA VIRGEN | D24: 901.91904 | E24: 999.35 | F24: =+D24-E24 -> -97.43096 | I24: =+G24-H24 -> 0 | L24: =+J24-K24 -> 0 | O24: =+M24-N24 -> 0 | P24: 901.91904 | Q24: 999.35 | R24: =+P24-Q24 -> -97.43096 | S24: =+Q24/TOTAL_RESUMEN_SEIN -> 0.0060782656
B25: E22 | C25: EGEJUNÍN | D25: 890.31336 | E25: 863.55 | F25: =+D25-E25 -> 26.76336 | I25: =+G25-H25 -> 0 | L25: =+J25-K25 -> 0 | O25: =+M25-N25 -> 0 | P25: 890.31336 | Q25: 863.55 | R25: =+P25-Q25 -> 26.76336 | S25: =+Q25/TOTAL_RESUMEN_SEIN -> 0.0052523002
B26: E23 | C26: EGEHUANZA | D26: 1012.032 | E26: 792.65 | F26: =+D26-E26 -> 219.382 | I26: =+G26-H26 -> 0 | L26: =+J26-K26 -> 0 | O26: =+M26-N26 -> 0 | P26: 1012.032 | Q26: 792.65 | R26: =+P26-Q26 -> 219.382 | S26: =+Q26/TOTAL_RESUMEN_SEIN -> 0.0048210709
B27: E24 | C27: SDF ENERGIA | F27: =+D27-E27 -> 0 | G27: 720 | H27: 697.3 | I27: =+G27-H27 -> 22.7 | L27: =+J27-K27 -> 0 | O27: =+M27-N27 -> 0 | P27: 720 | Q27: 697.3 | R27: =+P27-Q27 -> 22.7 | S27: =+Q27/TOTAL_RESUMEN_SEIN -> 0.0042411313
B28: E25 | C28: SINERSA | D28: 552.42696 | E28: 576.3 | F28: =+D28-E28 -> -23.87304 | I28: =+G28-H28 -> 0 | L28: =+J28-K28 -> 0 | O28: =+M28-N28 -> 0 | P28: 552.42696 | Q28: 576.3 | R28: =+P28-Q28 -> -23.87304 | S28: =+Q28/TOTAL_RESUMEN_SEIN -> 0.0035051828
B29: E26 | C29: GENERACIÓN ANDINA | D29: 543.36648 | E29: 544.85 | F29: =+D29-E29 -> -1.48352 | I29: =+G29-H29 -> 0 | L29: =+J29-K29 -> 0 | O29: =+M29-N29 -> 0 | P29: 543.36648 | Q29: 544.85 | R29: =+P29-Q29 -> -1.48352 | S29: =+Q29/TOTAL_RESUMEN_SEIN -> 0.003313897
B30: E28 | C30: EGE SANTA ANA | D30: 469.20816 | E30: 494.5 | F30: =+D30-E30 -> -25.29184 | I30: =+G30-H30 -> 0 | L30: =+J30-K30 -> 0 | O30: =+M30-N30 -> 0 | P30: 469.20816 | Q30: 494.5 | R30: =+P30-Q30 -> -25.29184 | S30: =+Q30/TOTAL_RESUMEN_SEIN -> 0.0030076573
B31: E29 | C31: CELEPSA RENOVABLES | D31: 293.25504 | E31: 472 | F31: =+D31-E31 -> -178.74496 | I31: =+G31-H31 -> 0 | L31: =+J31-K31 -> 0 | O31: =+M31-N31 -> 0 | P31: 293.25504 | Q31: 472 | R31: =+P31-Q31 -> -178.74496 | S31: =+Q31/TOTAL_RESUMEN_SEIN -> 0.0028708074
B32: E30 | C32: GEPSA | D32: 523.2 | E32: 419.2 | F32: =+D32-E32 -> 104 | I32: =+G32-H32 -> 0 | L32: =+J32-K32 -> 0 | O32: =+M32-N32 -> 0 | P32: 523.2 | Q32: 419.2 | R32: =+P32-Q32 -> 104 | S32: =+Q32/TOTAL_RESUMEN_SEIN -> 0.0025496662
B33: E32 | C33: HUAURA POWER GROUP | D33: 403.51896 | E33: 405.6 | F33: =+D33-E33 -> -2.08104 | I33: =+G33-H33 -> 0 | L33: =+J33-K33 -> 0 | O33: =+M33-N33 -> 0 | P33: 403.51896 | Q33: 405.6 | R33: =+P33-Q33 -> -2.08104 | S33: =+Q33/TOTAL_RESUMEN_SEIN -> 0.002466948
B34: E33 | C34: HUANCHOR | D34: 381.93792 | E34: 396.75 | F34: =+D34-E34 -> -14.81208 | I34: =+G34-H34 -> 0 | L34: =+J34-K34 -> 0 | O34: =+M34-N34 -> 0 | P34: 381.93792 | Q34: 396.75 | R34: =+P34-Q34 -> -14.81208 | S34: =+Q34/TOTAL_RESUMEN_SEIN -> 0.0024131204
B35: E34 | C35: PARQUE EÓLICO MARCONA | F35: =+D35-E35 -> 0 | I35: =+G35-H35 -> 0 | L35: =+J35-K35 -> 0 | M35: 358.4895 | N35: 395.15 | O35: =+M35-N35 -> -36.6605 | P35: 358.4895 | Q35: 395.15 | R35: =+P35-Q35 -> -36.6605 | S35: =+Q35/TOTAL_RESUMEN_SEIN -> 0.0024033888
B36: E35 | C36: TERMOSELVA | F36: =+D36-E36 -> 0 | G36: 1364.9648 | H36: 391.9 | I36: =+G36-H36 -> 973.06481 | L36: =+J36-K36 -> 0 | O36: =+M36-N36 -> 0 | P36: 1364.9648 | Q36: 391.9 | R36: =+P36-Q36 -> 973.06481 | S36: =+Q36/TOTAL_RESUMEN_SEIN -> 0.0023836216
B37: E36 | C37: AIPSA | F37: =+D37-E37 -> 0 | G37: 312 | H37: 353.6 | I37: =+G37-H37 -> -41.6 | L37: =+J37-K37 -> 0 | O37: =+M37-N37 -> 0 | P37: 312 | Q37: 353.6 | R37: =+P37-Q37 -> -41.6 | S37: =+Q37/TOTAL_RESUMEN_SEIN -> 0.0021506726
B38: E37 | C38: GR TARUCA S.A.C | F38: =+D38-E38 -> 0 | I38: =+G38-H38 -> 0 | L38: =+J38-K38 -> 0 | M38: 284.102 | N38: 343.85 | O38: =+M38-N38 -> -59.748 | P38: 284.102 | Q38: 343.85 | R38: =+P38-Q38 -> -59.748 | S38: =+Q38/TOTAL_RESUMEN_SEIN -> 0.002091371
B39: E38 | C39: EGERBA | D39: 258.06456 | E39: 331.95 | F39: =+D39-E39 -> -73.88544 | I39: =+G39-H39 -> 0 | L39: =+J39-K39 -> 0 | O39: =+M39-N39 -> 0 | P39: 258.06456 | Q39: 331.95 | R39: =+P39-Q39 -> -73.88544 | S39: =+Q39/TOTAL_RESUMEN_SEIN -> 0.0020189926
B40: E39 | C40: AGROAURORA S.A.C. | F40: =+D40-E40 -> 0 | G40: 360 | H40: 326.85 | I40: =+G40-H40 -> 33.15 | L40: =+J40-K40 -> 0 | O40: =+M40-N40 -> 0 | P40: 360 | Q40: 326.85 | R40: =+P40-Q40 -> 33.15 | S40: =+Q40/TOTAL_RESUMEN_SEIN -> 0.0019879733
B41: E40 | C41: EGESUR | D41: 92.31912 | E41: 169.55 | F41: =+D41-E41 -> -77.23088 | G41: 515.454 | H41: 110.85 | I41: =+G41-H41 -> 404.604 | L41: =+J41-K41 -> 0 | O41: =+M41-N41 -> 0 | P41: 607.77312 | Q41: 280.4 | R41: =+P41-Q41 -> 327.37312 | S41: =+Q41/TOTAL_RESUMEN_SEIN -> 0.0017054542
B42: E41 | C42: GR PAINO S.A.C | F42: =+D42-E42 -> 0 | I42: =+G42-H42 -> 0 | L42: =+J42-K42 -> 0 | M42: 222.164 | N42: 263.9 | O42: =+M42-N42 -> -41.736 | P42: 222.164 | Q42: 263.9 | R42: =+P42-Q42 -> -41.736 | S42: =+Q42/TOTAL_RESUMEN_SEIN -> 0.0016050976
B43: E42 | C43: ANDEAN POWER | D43: 235.69266 | E43: 235.3 | F43: =+D43-E43 -> 0.39266 | I43: =+G43-H43 -> 0 | L43: =+J43-K43 -> 0 | O43: =+M43-N43 -> 0 | P43: 235.69266 | Q43: 235.3 | R43: =+P43-Q43 -> 0.39266 | S43: =+Q43/TOTAL_RESUMEN_SEIN -> 0.0014311461
B44: E44 | C44: INVERSIÓN DE ENERGÍAS RENOVABLES S.A. | D44: 216 | E44: 234.4 | F44: =+D44-E44 -> -18.4 | I44: =+G44-H44 -> 0 | L44: =+J44-K44 -> 0 | O44: =+M44-N44 -> 0 | P44: 216 | Q44: 234.4 | R44: =+P44-Q44 -> -18.4 | S44: =+Q44/TOTAL_RESUMEN_SEIN -> 0.0014256721
B45: E45 | C45: AGUA AZUL | D45: 240 | E45: 232.1 | F45: =+D45-E45 -> 7.9 | I45: =+G45-H45 -> 0 | L45: =+J45-K45 -> 0 | O45: =+M45-N45 -> 0 | P45: 240 | Q45: 232.1 | R45: =+P45-Q45 -> 7.9 | S45: =+Q45/TOTAL_RESUMEN_SEIN -> 0.001411683
B46: E46 | C46: BIOENERGÍA DEL CHIRA | F46: =+D46-E46 -> 0 | G46: 230.4 | H46: 202.95 | I46: =+G46-H46 -> 27.45 | L46: =+J46-K46 -> 0 | O46: =+M46-N46 -> 0 | P46: 230.4 | Q46: 202.95 | R46: =+P46-Q46 -> 27.45 | S46: =+Q46/TOTAL_RESUMEN_SEIN -> 0.0012343863
B47: E48 | C47: AGROINDUSTRIA SAN JACINTO | F47: =+D47-E47 -> 0 | G47: 199.92 | H47: 185.33 | I47: =+G47-H47 -> 14.59 | L47: =+J47-K47 -> 0 | O47: =+M47-N47 -> 0 | P47: 199.92 | Q47: 185.33 | R47: =+P47-Q47 -> 14.59 | S47: =+Q47/TOTAL_RESUMEN_SEIN -> 0.0011272176
B48: E50 | C48: PETRAMAS | F48: =+D48-E48 -> 0 | G48: 182.376 | H48: 182.75 | I48: =+G48-H48 -> -0.374 | L48: =+J48-K48 -> 0 | O48: =+M48-N48 -> 0 | P48: 182.376 | Q48: 182.75 | R48: =+P48-Q48 -> -0.374 | S48: =+Q48/TOTAL_RESUMEN_SEIN -> 0.0011115255
B49: E51 | C49: TACNA SOLAR | F49: =+D49-E49 -> 0 | I49: =+G49-H49 -> 0 | J49: 180.723 | K49: 171.1 | L49: =+J49-K49 -> 9.623 | O49: =+M49-N49 -> 0 | P49: 180.723 | Q49: 171.1 | R49: =+P49-Q49 -> 9.623 | S49: =+Q49/TOTAL_RESUMEN_SEIN -> 0.0010406677
B50: E52 | C50: PANAMERICANA SOLAR | F50: =+D50-E50 -> 0 | I50: =+G50-H50 -> 0 | J50: 186.0425 | K50: 148.2 | L50: =+J50-K50 -> 37.8425 | O50: =+M50-N50 -> 0 | P50: 186.0425 | Q50: 148.2 | R50: =+P50-Q50 -> 37.8425 | S50: =+Q50/TOTAL_RESUMEN_SEIN -> 0.00090138486
B51: E55 | C51: ELÉCTRICA RIO DOBLE | D51: 144 | E51: 138.65 | F51: =+D51-E51 -> 5.35 | I51: =+G51-H51 -> 0 | L51: =+J51-K51 -> 0 | O51: =+M51-N51 -> 0 | P51: 144 | Q51: 138.65 | R51: =+P51-Q51 -> 5.35 | S51: =+Q51/TOTAL_RESUMEN_SEIN -> 0.00084329966
B52: E56 | C52: MAJES ARCUS | F52: =+D52-E52 -> 0 | I52: =+G52-H52 -> 0 | J52: 148.138 | K52: 130.75 | L52: =+J52-K52 -> 17.388 | O52: =+M52-N52 -> 0 | P52: 148.138 | Q52: 130.75 | R52: =+P52-Q52 -> 17.388 | S52: =+Q52/TOTAL_RESUMEN_SEIN -> 0.00079525013
B53: E57 | C53: REPARTICION ARCUS | F53: =+D53-E53 -> 0 | I53: =+G53-H53 -> 0 | J53: 141.153 | K53: 128.6 | L53: =+J53-K53 -> 12.553 | O53: =+M53-N53 -> 0 | P53: 141.153 | Q53: 128.6 | R53: =+P53-Q53 -> 12.553 | S53: =+Q53/TOTAL_RESUMEN_SEIN -> 0.00078217336
B54: E58 | C54: MOQUEGUA FV SOLAR | F54: =+D54-E54 -> 0 | I54: =+G54-H54 -> 0 | J54: 148.838 | K54: 124 | L54: =+J54-K54 -> 24.838 | O54: =+M54-N54 -> 0 | P54: 148.838 | Q54: 124 | R54: =+P54-Q54 -> 24.838 | S54: =+Q54/TOTAL_RESUMEN_SEIN -> 0.00075419516
B55: E60 | C55: ELÉCTRICA YANAPAMPA | D55: 86.4 | E55: 87.45 | F55: =+D55-E55 -> -1.05 | I55: =+G55-H55 -> 0 | L55: =+J55-K55 -> 0 | O55: =+M55-N55 -> 0 | P55: 86.4 | Q55: 87.45 | R55: =+P55-Q55 -> -1.05 | S55: =+Q55/TOTAL_RESUMEN_SEIN -> 0.00053189005
B56: E61 | C56: HIDROCAÑETE | D56: 84 | E56: 83.5 | F56: =+D56-E56 -> 0.5 | I56: =+G56-H56 -> 0 | L56: =+J56-K56 -> 0 | O56: =+M56-N56 -> 0 | P56: 84 | Q56: 83.5 | R56: =+P56-Q56 -> 0.5 | S56: =+Q56/TOTAL_RESUMEN_SEIN -> 0.00050786529
B57: E63 | C57: MAJA | D57: 71.35 | E57: 74.05 | F57: =+D57-E57 -> -2.7 | I57: =+G57-H57 -> 0 | L57: =+J57-K57 -> 0 | O57: =+M57-N57 -> 0 | P57: 71.35 | Q57: 74.05 | R57: =+P57-Q57 -> -2.7 | S57: =+Q57/TOTAL_RESUMEN_SEIN -> 0.00045038832
B58: E65 | C58: EGECSAC | D58: 60 | E58: 60.35 | F58: =+D58-E58 -> -0.35 | I58: =+G58-H58 -> 0 | L58: =+J58-K58 -> 0 | O58: =+M58-N58 -> 0 | P58: 60 | Q58: 60.35 | R58: =+P58-Q58 -> -0.35 | S58: =+Q58/TOTAL_RESUMEN_SEIN -> 0.00036706192
B59: E54 | C59: CENTRALES SANTA ROSA S.A.C. | D59: 38.16 | E59: 35.65 | F59: =+D59-E59 -> 2.51 | I59: =+G59-H59 -> 0 | L59: =+J59-K59 -> 0 | O59: =+M59-N59 -> 0 | P59: 38.16 | Q59: 35.65 | R59: =+P59-Q59 -> 2.51 | S59: =+Q59/TOTAL_RESUMEN_SEIN -> 0.00021683111
B60: E66 | C60: ATRIA ENERGÍA | D60: 36 | E60: 23 | F60: =+D60-E60 -> 13 | I60: =+G60-H60 -> 0 | L60: =+J60-K60 -> 0 | O60: =+M60-N60 -> 0 | P60: 36 | Q60: 23 | R60: =+P60-Q60 -> 13 | S60: =+Q60/TOTAL_RESUMEN_SEIN -> 0.00013989104
B61: E67 | C61: COLCA SOLAR S.A.C. | F61: =+D61-E61 -> 0 | I61: =+G61-H61 -> 0 | J61: 8.345 | K61: 8.5 | L61: =+J61-K61 -> -0.155 | O61: =+M61-N61 -> 0 | P61: 8.345 | Q61: 8.5 | R61: =+P61-Q61 -> -0.155 | S61: =+Q61/TOTAL_RESUMEN_SEIN -> 5.1698862e-05
B62: E68 | C62: SHOUGESA | F62: =+D62-E62 -> 0 | G62: 0 | H62: 0 | I62: =+G62-H62 -> 0 | L62: =+J62-K62 -> 0 | O62: =+M62-N62 -> 0 | P62: 0 | Q62: 0 | R62: =+P62-Q62 -> 0 | S62: =+Q62/TOTAL_RESUMEN_SEIN -> 0
B63: E69 | C63: ETEN | F63: =+D63-E63 -> 0 | G63: 0 | H63: 0 | I63: =+G63-H63 -> 0 | L63: =+J63-K63 -> 0 | O63: =+M63-N63 -> 0 | P63: 0 | Q63: 0 | R63: =+P63-Q63 -> 0 | S63: =+Q63/TOTAL_RESUMEN_SEIN -> 0
B64: E70 | C64: MINERA CERRO VERDE | F64: =+D64-E64 -> 0 | G64: 0 | H64: 0 | I64: =+G64-H64 -> 0 | L64: =+J64-K64 -> 0 | O64: =+M64-N64 -> 0 | P64: 0 | Q64: 0 | R64: =+P64-Q64 -> 0 | S64: =+Q64/TOTAL_RESUMEN_SEIN -> 0
B65: E71 | C65: SAMAY I | F65: =+D65-E65 -> 0 | G65: 0 | H65: 0 | I65: =+G65-H65 -> 0 | L65: =+J65-K65 -> 0 | O65: =+M65-N65 -> 0 | P65: 0 | Q65: 0 | R65: =+P65-Q65 -> 0 | S65: =+Q65/TOTAL_RESUMEN_SEIN -> 0
B66: E72 | C66: INFRAESTRUCTURA Y ENERGÍA DEL PERÚ | F66: =+D66-E66 -> 0 | G66: 0 | H66: 0 | I66: =+G66-H66 -> 0 | L66: =+J66-K66 -> 0 | O66: =+M66-N66 -> 0 | P66: 0 | Q66: 0 | R66: =+P66-Q66 -> 0 | S66: =+Q66/TOTAL_RESUMEN_SEIN -> 0
B67: TOTAL_E | C67: TOTAL INTEGRANTES COES | D67: =+SUM(D6:D66) -> 64746.638 | E67: =+SUM(E6:E66) -> 70648.648 | F67: =+SUM(F6:F66) -> -5902.0101 | G67: =+SUM(G6:G66) -> 88790.339 | H67: =+SUM(H6:H66) -> 83339.63 | I67: =+SUM(I6:I66) -> 5450.7088 | J67: =+SUM(J6:J66) -> 3651.5005 | K67: =+SUM(K6:K66) -> 3116.5 | ... R67: =+SUM(R6:R66) -> 168.48262 | S67: =SUM(S6:S66) -> 1
B68: N
B69: N
B70: N
B71: N
B72: N
B73: N
B74: N
B75: N | C75: RESUMEN DE GENERACIÓN DE ENERGÍA ELÉCTRICA POR EMPRESAS NO INTEGRANTES COES
B76: N
B77: N | C77: EMPRESAS | D77: HIDROELÉCTRICO (MWh) | G77: TERMOELÉCTRICO (MWh) | J77: SOLAR (MWh) | M77: EÓLICO (MWh) | P77: TOTAL (MWh) | S77: PARTICIPACION %
B78: N | D78: PROGRAMADO | E78: EJECUTADO | F78: DESVIACIÓN | G78: PROGRAMADO | H78: EJECUTADO | I78: DESVIACIÓN | J78: PROGRAMADO | K78: EJECUTADO | L78: DESVIACIÓN | M78: PROGRAMADO | N78: EJECUTADO | O78: DESVIACIÓN | P78: PROGRAMADO | Q78: EJECUTADO | R78: DESVIACIÓN
B79: NC1 | C79: SINERSA: C.H. POECHOS1 +C.H. CURUMUY | D79: 330.87026 | E79: 300.85 | F79: =+D79-E79 -> 30.020255 | I79: =+G79-H79 -> 0 | L79: =+J79-K79 -> 0 | O79: =+M79-N79 -> 0 | P79: 330.87026 | Q79: 300.85 | R79: =+P79-Q79 -> 30.020255 | S79: =+Q79/TOTAL_RESUMEN_NOCOES -> 0.09787264
B80: NC2 | C80: CEMENTO ANDINO: C.H. CARPAPATA | D80: 230.87969 | E80: 241.94685 | F80: =+D80-E80 -> -11.067155 | I80: =+G80-H80 -> 0 | L80: =+J80-K80 -> 0 | O80: =+M80-N80 -> 0 | P80: 230.87969 | Q80: 241.94685 | R80: =+P80-Q80 -> -11.067155 | S80: =+Q80/TOTAL_RESUMEN_NOCOES -> 0.078710244
B81: NC3 | C81: ELECTRO ORIENTE: CENTRALES ELOR | D81: 36.1 | E81: 64.8295 | F81: =+D81-E81 -> -28.7295 | I81: =+G81-H81 -> 0 | L81: =+J81-K81 -> 0 | O81: =+M81-N81 -> 0 | P81: 36.1 | Q81: 64.8295 | R81: =+P81-Q81 -> -28.7295 | S81: =+Q81/TOTAL_RESUMEN_NOCOES -> 0.021090358
B82: NC4 | C82: ENOSA (TABLAZO) | F82: =+D82-E82 -> 0 | G82: 648 | H82: 654.49195 | I82: =+G82-H82 -> -6.491955 | L82: =+J82-K82 -> 0 | O82: =+M82-N82 -> 0 | P82: =+G82 -> 648 | Q82: =+H82 -> 654.49195 | R82: =+P82-Q82 -> -6.491955 | S82: =+Q82/TOTAL_RESUMEN_NOCOES -> 0.21291958
B83: NC5 | C83: AGUA Y ENERGIA DEL PERU | D83: 161.1477 | E83: 151.54309 | F83: =+D83-E83 -> 9.60461 | I83: =+G83-H83 -> 0 | L83: =+J83-K83 -> 0 | O83: =+M83-N83 -> 0 | P83: 161.1477 | Q83: 151.54309 | R83: =+P83-Q83 -> 9.60461 | S83: =+Q83/TOTAL_RESUMEN_NOCOES -> 0.049300059
B84: NC6 | C84: SDE PIURA (TALLANCA) | F84: =+D84-E84 -> 0 | G84: 432 | H84: 449.69136 | I84: =+G84-H84 -> -17.69136 | L84: =+J84-K84 -> 0 | O84: =+M84-N84 -> 0 | P84: =+G84 -> 432 | Q84: =+H84 -> 449.69136 | R84: =+P84-Q84 -> -17.69136 | S84: =+Q84/TOTAL_RESUMEN_NOCOES -> 0.14629377
B85: NC7 | C85: ELECTRO ZAÑA | D85: 180 | E85: 180 | F85: =+D85-E85 -> 0 | I85: =+G85-H85 -> 0 | L85: =+J85-K85 -> 0 | O85: =+M85-N85 -> 0 | P85: =+D85 -> 180 | Q85: =+E85 -> 180 | R85: =+P85-Q85 -> 0 | S85: =+Q85/TOTAL_RESUMEN_NOCOES -> 0.058557671
B86: NC8 | C86: PETROPERÚ | F86: =+D86-E86 -> 0 | G86: 0 | H86: 1030.54 | I86: =+G86-H86 -> -1030.54 | L86: =+J86-K86 -> 0 | O86: =+M86-N86 -> 0 | P86: =+G86 -> 0 | Q86: =+H86 -> 1030.54 | R86: =+P86-Q86 -> -1030.54 | S86: =+Q86/TOTAL_RESUMEN_NOCOES -> 0.33525568
B87: N | F87: 0 | I87: 0 | L87: 0 | O87: 0 | R87: 0 | S87: 0
B88: N | F88: 0 | I88: 0 | L88: 0 | O88: 0 | R88: 0 | S88: 0
B89: TOTAL_NC | C89: TOTAL NO COES | D89: =+SUM(D79:D86) -> 938.99765 | E89: =+SUM(E79:E86) -> 939.16944 | F89: =+SUM(F79:F86) -> -0.17179 | G89: =+SUM(G79:G86) -> 1080 | H89: =+SUM(H79:H86) -> 2134.7233 | I89: =+SUM(I79:I86) -> -1054.7233 | J89: =+SUM(J79:J86) -> 0 | K89: =+SUM(K79:K86) -> 0 | ... R89: =+SUM(R79:R86) -> -1054.8951 | S89: =SUM(S79:S86) -> 1

Sheet G_AREAS
B2: 45218
C3: HN | D3: TN | E3: SN | F3: EN | G3: HC | H3: TC | I3: SC | J3: EC | K3: HS | L3: TS | M3: SS | N3: ES | O3: N | P3: C | Q3: S | T3: H | U3: T | V3: S | W3: E
B4: HORA | C4: RESUMEN DE GENERACIÓN POR ÁREAS DEL SEIN | S4: HORA | T4: GENERACIÓN POR TIPO DE GENERACIÓN | Y4: HORA | Z4: GENERACIÓN POR TIPO DE GENERACIÓN
C5: NORTE | G5: CENTRO | K5: SUR | O5: GENERACIÓN INTEGRANTES COES | T5: INTEGRANTES COES | Z5: INTEGRANTES COES RER
C6: Generación Hidroeléctrica Norte | D6: Generación Termeléctrica Norte | E6: Generación Solar Norte | F6: Generación Eólico Norte | G6: Generación Hidroeléctrica Centro | H6: Generación Termeléctrica Centro | I6: Generación Solar Centro | J6: Generación Eólico Centro | K6: Generación Hidroeléctrica Sur | L6: Generación Termeléctrica Sur | M6: Generación Solar Sur | N6: Generación Eólico Sur | O6: Generación COES Norte | P6: Generación COES Centro | Q6: Generación COES Sur | R6: TOTAL GENERACIÓN COES | T6: HÍDRICO | U6: TÉRMICO | V6: SOLAR | W6: EÓLICO | X6: TOTAL GENERACIÓN COES | Z6: HÍDRICO | AA6: TÉRMICO | AB6: SOLAR | AC6: EÓLICO | AD6: TOTAL RER
B7: 0.020833333 | C7: 250.69 | D7: 116.79 | F7: 95.5 | G7: 1974.336 | H7: 3507.2 | I7: 0 | J7: 14.8 | K7: 319.589 | L7: 0 | M7: 0 | O7: 462.98 | P7: 5496.336 | Q7: 319.589 | R7: 6278.905 | S7: 0.020833333 | T7: 2544.615 | U7: 3623.99 | V7: 0 | W7: 110.3 | X7: 6278.905 | Y7: 0.020833333 | Z7: 219.4 | AA7: 23.8 | AB7: 0 | AC7: 110.3 | AD7: 353.5
B8: 0.041666667 | C8: 222.59 | D8: 117.48 | F8: 83 | G8: 1907.676 | H8: 3514.7 | I8: 0 | J8: 21.6 | K8: 311.492 | L8: 0 | M8: 0 | O8: 423.07 | P8: 5443.976 | Q8: 311.492 | R8: 6178.538 | S8: 0.041666667 | T8: 2441.758 | U8: 3632.18 | V8: 0 | W8: 104.6 | X8: 6178.538 | Y8: 0.041666667 | Z8: 212.5 | AA8: 24.4 | AB8: 0 | AC8: 104.6 | AD8: 341.5
B9: 0.0625 | C9: 196.49 | D9: 117.19 | F9: 62.7 | G9: 1831.624 | H9: 3504.2 | I9: 0 | J9: 22.3 | K9: 306.392 | L9: 0 | M9: 0 | O9: 376.38 | P9: 5358.124 | Q9: 306.392 | R9: 6040.896 | S9: 0.0625 | T9: 2334.506 | U9: 3621.39 | V9: 0 | W9: 85 | X9: 6040.896 | Y9: 0.0625 | Z9: 211.4 | AA9: 23.7 | AB9: 0 | AC9: 85 | AD9: 320.1
B10: 0.083333333 | C10: 203.305 | D10: 117.26 | F10: 52.2 | G10: 1706.43 | H10: 3513.8 | I10: 0 | J10: 39.8 | K10: 312.091 | L10: 0 | M10: 0 | O10: 372.765 | P10: 5260.03 | Q10: 312.091 | R10: 5944.886 | S10: 0.083333333 | T10: 2221.826 | U10: 3631.06 | V10: 0 | W10: 92 | X10: 5944.886 | Y10: 0.083333333 | Z10: 211.6 | AA10: 23.7 | AB10: 0 | AC10: 92 | AD10: 327.3
B11: 0.10416667 | C11: 166.908 | D11: 113.92 | F11: 57 | G11: 1693.513 | H11: 3503.4 | I11: 0 | J11: 70.1 | K11: 305.995 | L11: 0 | M11: 0 | O11: 337.828 | P11: 5267.013 | Q11: 305.995 | R11: 5910.836 | S11: 0.10416667 | T11: 2166.416 | U11: 3617.32 | V11: 0 | W11: 127.1 | X11: 5910.836 | Y11: 0.10416667 | Z11: 209.1 | AA11: 23.8 | AB11: 0 | AC11: 127.1 | AD11: 360
B12: 0.125 | C12: 172.418 | D12: 119.05 | F12: 60.1 | G12: 1672.649 | H12: 3516.7 | I12: 0 | J12: 89.6 | K12: 312.615 | L12: 0 | M12: 0 | O12: 351.568 | P12: 5278.949 | Q12: 312.615 | R12: 5943.132 | S12: 0.125 | T12: 2157.682 | U12: 3635.75 | V12: 0 | W12: 149.7 | X12: 5943.132 | Y12: 0.125 | Z12: 206.1 | AA12: 23.7 | AB12: 0 | AC12: 149.7 | AD12: 379.5
B13: 0.14583333 | C13: 173.917 | D13: 119.79 | F13: 63.5 | G13: 1658.422 | H13: 3507.9 | I13: 0 | J13: 116 | K13: 311.608 | L13: 0 | M13: 0 | O13: 357.207 | P13: 5282.322 | Q13: 311.608 | R13: 5951.137 | S13: 0.14583333 | T13: 2143.947 | U13: 3627.69 | V13: 0 | W13: 179.5 | X13: 5951.137 | Y13: 0.14583333 | Z13: 206.7 | AA13: 23.8 | AB13: 0 | AC13: 179.5 | AD13: 410
B14: 0.16666667 | C14: 166.125 | D14: 120.46 | F14: 62.4 | G14: 1599.251 | H14: 3537.1 | I14: 0 | J14: 170.5 | K14: 304.917 | L14: 0 | M14: 0 | O14: 348.985 | P14: 5306.851 | Q14: 304.917 | R14: 5960.753 | S14: 0.16666667 | T14: 2070.293 | U14: 3657.56 | V14: 0 | W14: 232.9 | X14: 5960.753 | Y14: 0.16666667 | Z14: 203.9 | AA14: 23.8 | AB14: 0 | AC14: 232.9 | AD14: 460.6
B15: 0.1875 | C15: 201.022 | D15: 117.5 | F15: 62 | G15: 1551 | H15: 3519.3 | I15: 0 | J15: 192.8 | K15: 312.11 | L15: 0 | M15: 0 | O15: 380.522 | P15: 5263.1 | Q15: 312.11 | R15: 5955.732 | S15: 0.1875 | T15: 2064.132 | U15: 3636.8 | V15: 0 | W15: 254.8 | X15: 5955.732 | Y15: 0.1875 | Z15: 204 | AA15: 23.5 | AB15: 0 | AC15: 254.8 | AD15: 482.3
B16: 0.20833333 | C16: 171.62 | D16: 119.28 | F16: 64.2 | G16: 1660.039 | H16: 3511.3 | I16: 0 | J16: 222.9 | K16: 307.611 | L16: 0 | M16: 0.1 | O16: 355.1 | P16: 5394.239 | Q16: 307.711 | R16: 6057.05 | S16: 0.20833333 | T16: 2139.27 | U16: 3630.58 | V16: 0.1 | W16: 287.1 | X16: 6057.05 | Y16: 0.20833333 | Z16: 204.3 | AA16: 23.5 | AB16: 0.1 | AC16: 287.1 | AD16: 515
B17: 0.22916667 | C17: 191.92 | D17: 119.22 | F17: 71.5 | G17: 1795.688 | H17: 3414.6 | I17: 0 | J17: 285.2 | K17: 315.409 | L17: 0 | M17: 8.1 | O17: 382.64 | P17: 5495.488 | Q17: 323.509 | R17: 6201.637 | S17: 0.22916667 | T17: 2303.017 | U17: 3533.82 | V17: 8.1 | W17: 356.7 | X17: 6201.637 | Y17: 0.22916667 | Z17: 203.8 | AA17: 23.3 | AB17: 8.1 | AC17: 356.7 | AD17: 591.9
B18: 0.25 | C18: 248.522 | D18: 117.33 | F18: 59.3 | G18: 1815.899 | H18: 3278 | I18: 0 | J18: 291.4 | K18: 313.7 | L18: 0 | M18: 58.5 | O18: 425.152 | P18: 5385.299 | Q18: 372.2 | R18: 6182.651 | S18: 0.25 | T18: 2378.121 | U18: 3395.33 | V18: 58.5 | W18: 350.7 | X18: 6182.651 | Y18: 0.25 | Z18: 203.7 | AA18: 23.3 | AB18: 58.5 | AC18: 350.7 | AD18: 636.2
... B54: 1 | C54: 242.043 | D54: 117.11 | F54: 45.5 | G54: 2414.059 | H54: 3186.9 | I54: 0 | J54: 175.1 | K54: 317.452 | L54: 0 | M54: 0 | O54: 404.653 | P54: 5776.059 | Q54: 317.452 | R54: 6498.164 | S54: 1 | T54: 2973.554 | U54: 3304.01 | V54: 0 | W54: 220.6 | X54: 6498.164 | Y54: 1 | Z54: 219.3 | AA54: 22.1 | AB54: 0 | AC54: 220.6 | AD54: 462
B55: TOTAL MWh | C55: 6710.4215 | D55: 2540.33 | E55: 0 | F55: 1892.3 | G55: 55817.019 | H55: 80799.3 | I55: 8.5 | J55: 5416.6 | K55: 8121.2085 | L55: 0 | M55: 3108 | N55: 0 | O55: 11143.051 | P55: 142041.42 | Q55: 11229.208 | R55: 164413.68 | S55: TOTAL MWh | T55: 70648.649 | U55: 83339.63 | V55: 3116.5 | W55: 7308.9 | X55: 164413.68 | Y55: TOTAL MWh | Z55: 5147.35 | AA55: 536.35 | AB55: 3116.5 | AC55: 7308.9 | AD55: 16109.1
C56: H | D56: T | E56: S | F56: E | G56: H | H56: T | I56: S | J56: E | K56: H | L56: T | M56: S | N56: E | O56: TOTAL | Z56: RH | AA56: RT | AB56: RS | AC56: RE | AD56: TOTAL RER
T57: H | U57: T | V57: S | W57: E | X57: TOTAL_R

Sheet GENERACION RER
C1: 225 | D1: 760 | E1: 2171 | F1: 2201 | G1: 213 | H1: 216 | I1: 198 | J1: 201 | K1: 226 | L1: 258 | M1: 259 | N1: 215 | O1: 917 | P1: 238 | Q1: 247 | R1: 214 | S1: 223 | T1: 211 | U1: 2175 | V1: 2178 | W1: 2181 | X1: 2184 | Y1: 228 | Z1: 260 | AA1: 2128 | AB1: 2135 | AC1: 2152 | AD1: 2165 | AE1: 2150 | AF1: 907 | AG1: 2161 | AH1: 920 | AI1: 296 | AJ1: 297 | AK1: 2194 | AL1: 999 | AM1: 233 | AN1: 234 | AO1: 235 | AP1: 237 | AQ1: 261 | AR1: 2148 | AS1: 900 | AT1: 901 | AU1: 905 | AV1: 906 | AW1: 303 | AX1: 253 | AY1: 770 | AZ1: 1262 | BA1: 1263 | BB1: 257 | BC1: 256 | BD1: 5001 | BE1: 5000
B3: 45218
B4: GENERACIÓN ELÉCTRICA DE LAS CENTRALES RER (MW)
B5: HORA | C5: PETRAMAS | G5: AIPSA | H5: ORAZUL | J5: EGEJUNÍN | N5: SINERSA | P5: ELÉCTRICA YANAPAMPA | Q5: ELÉCTRICA RIO DOBLE | R5: MAJA | S5: ATRIA ENERGÍA | T5: GEPSA | X5: ANDEAN POWER | Y5: HIDROCAÑETE | Z5: EGECSAC | AA5: AGUA AZUL | AB5: HUAURA POWER GROUP | AC5: EGE SANTA ANA | AD5: ENEL GENERACIÓN PERÚ | AH5: EGERBA | AI5: GENERACIÓN ANDINA | AK5: INVERSIÓN DE ENERGÍAS RENOVABLES S.A. | AL5: SAN GABÁN | AM5: MAJES ARCUS | AN5: REPARTICION ARCUS | AO5: TACNA SOLAR | AP5: PANA. SOLAR | AQ5: MOQUEGUA SOLAR | AR5: ENGIE | AW5: COLCA | AX5: CEM | AY5: TRES HERMANAS | AZ5: GR PAINO S.A.C | BA5: GR TARUCA S.A.C | BB5: ENERGIA EOLICA | BD5: TOTAL RER
C6: HUAYCOLORO | D6: LA GRINGA V | E6: DOÑA CATALINA | F6: CALLAO | G6: PARAMONGA | H6: CARHUAQUERO4 | I6: CAÑA BRAVA | J6: STACRUZ_1_2 | K6: HUASAHUASI I y II | L6: RUNATULLO II | M6: RUNATULLO III | N6: POECHOS2 | O6: CHANCAY | P6: YANAPAMPA | Q6: PIZARRAS | R6: RONCADOR | S6: PURMACANA | T6: LA JOYA | U6: ÁNGEL I | V6: ÁNGEL II | W6: ÁNGEL III | X6: CARHUAC | Y6: NIMPERIAL | Z6: CANCHAYLLO | AA6: POTRERO | AB6: YARUCAYA | AC6: RENOVANDES | AD6: HER 1 | AE6: C.S. RUBÍ | AF6: C.S. CLEMESÍ | AG6: WAYRA I | AH6: RUCUY | AI6: 8 DE AGOSTO | AJ6: EL CARMEN | AK6: MANTA I | AL6: MCH TUPURI | AM6: MAJES | AN6: REPARTICION | AO6: TACNA SOLAR | AP6: PANAMERICANA SOLAR | AQ6: MOQUEGUA | AR6: INTIPAMPA | AS6: PUNTA LOMITAS-I | AT6: PUNTA LOMITAS-II | AU6: P LOMITAS_EXP-BL1 | AV6: P LOMITAS_EXP-BL2 | AW6: YARUCAYA | AX6: PQE-EOLICO MARCONA | AY6: PQE-EOLICO TRES HERMANAS | AZ6: HUAMBOS | BA6: DUNA | BB6: TALARA | BC6: PQE-EOLICO CUPISNIQUE | BD6: MW
B7: 0.020833333 | C7: 3 | D7: 1.6 | E7: 1.1 | F7: 2.1 | G7: 16 | H7: 10 | I7: 4.1 | J7: 7.8 | K7: 12 | L7: 7.5 | M7: 9.7 | N7: 5.9 | O7: 18.6 | P7: 3.6 | Q7: 5.9 | R7: 3.5 | S7: 0.6 | T7: 3.5 | U7: 3.4 | V7: 4.6 | W7: 4.8 | X7: 9.1 | Y7: 3.5 | Z7: 2.6 | AA7: 10.2 | AB7: 16.9 | AC7: 20.6 | AD7: 0.4 | AE7: 0 | AF7: 0 | AG7: 0 | AH7: 15.3 | AI7: 19.6 | AJ7: 5.8 | AK7: 9.9 | AM7: 0 | AN7: 0 | AO7: 0 | AP7: 0 | AQ7: 0 | AR7: 0 | AS7: 0.3 | AT7: 3.8 | AU7: 0.2 | AV7: 0 | AW7: 0 | AX7: 5.3 | AY7: 5.2 | AZ7: 8.7 | BA7: 13.5 | BB7: 24.4 | BC7: 48.9 | BD7: 353.5
B8: 0.041666667 | C8: 3 | D8: 1.6 | E8: 1.1 | F8: 2.1 | G8: 16.6 | H8: 10 | I8: 4 | J8: 8.2 | K8: 12 | L8: 7.4 | M8: 9.4 | N8: 5.5 | O8: 18.5 | P8: 3.7 | Q8: 6 | R8: 3.3 | S8: 0.6 | T8: 3.5 | U8: 3.4 | V8: 4.6 | W8: 4.8 | X8: 3.1 | Y8: 3.5 | Z8: 2.6 | AA8: 10.2 | AB8: 16.9 | AC8: 20.4 | AD8: 0.4 | AE8: 0 | AF8: 0 | AG8: 0 | AH8: 15.2 | AI8: 19.6 | AJ8: 5.8 | AK8: 9.9 | AM8: 0 | AN8: 0 | AO8: 0 | AP8: 0 | AQ8: 0 | AR8: 0 | AS8: 2.9 | AT8: 7.2 | AU8: 0 | AV8: 0 | AW8: 0 | AX8: 4.9 | AY8: 6.6 | AZ8: 10.1 | BA8: 15.3 | BB8: 20.3 | BC8: 37.3 | BD8: 341.5
B9: 0.0625 | C9: 3 | D9: 1.5 | E9: 1.1 | F9: 2.1 | G9: 16 | H9: 10 | I9: 4 | J9: 7.9 | K9: 12 | L9: 7.3 | M9: 9.7 | N9: 5.9 | O9: 18.5 | P9: 3.7 | Q9: 6 | R9: 3.2 | S9: 0.7 | T9: 3.5 | U9: 3.2 | V9: 4.3 | W9: 4.5 | X9: 3 | Y9: 3.5 | Z9: 2.6 | AA9: 10.2 | AB9: 16.9 | AC9: 20.3 | AD9: 0.4 | AE9: 0 | AF9: 0 | AG9: 0 | AH9: 15.2 | AI9: 19.2 | AJ9: 5.8 | AK9: 9.9 | AM9: 0 | AN9: 0 | AO9: 0 | AP9: 0 | AQ9: 0 | AR9: 0 | AS9: 2.4 | AT9: 7.7 | AU9: 0 | AV9: 0 | AW9: 0 | AX9: 3.9 | AY9: 8.3 | AZ9: 6.4 | BA9: 11.4 | BB9: 22.7 | BC9: 22.2 | BD9: 320.1
B10: 0.083333333 | C10: 3 | D10: 1.5 | E10: 1.1 | F10: 2.1 | G10: 16 | H10: 9.9 | I10: 4.1 | J10: 7.9 | K10: 12 | L10: 7.3 | M10: 9.3 | N10: 5.9 | O10: 18.5 | P10: 3.7 | Q10: 6 | R10: 3.2 | S10: 0.7 | T10: 3.5 | U10: 3.2 | V10: 4.3 | W10: 4.5 | X10: 3 | Y10: 3.5 | Z10: 2.6 | AA10: 10.2 | AB10: 16.9 | AC10: 20.4 | AD10: 0.3 | AE10: 0 | AF10: 0 | AG10: 0 | AH10: 15.2 | AI10: 19 | AJ10: 5.6 | AK10: 10.9 | AM10: 0 | AN10: 0 | AO10: 0 | AP10: 0 | AQ10: 0 | AR10: 0 | AS10: 6.3 | AT10: 13.2 | AU10: 0.5 | AV10: 0 | AW10: 0 | AX10: 5.6 | AY10: 14.2 | AZ10: 4.8 | BA10: 7.8 | BB10: 23.4 | BC10: 16.2 | BD10: 327.3
B11: 0.10416667 | C11: 3 | D11: 1.5 | E11: 1.1 | F11: 2.1 | G11: 16.1 | H11: 9.9 | I11: 3.5 | J11: 7.8 | K11: 12 | L11: 7.3 | M11: 9.3 | N11: 5.8 | O11: 18.4 | P11: 3.7 | Q11: 6 | R11: 3 | S11: 0.7 | T11: 3.5 | U11: 3.1 | V11: 4 | W11: 4.2 | X11: 2.9 | Y11: 3.5 | Z11: 2.6 | AA11: 10.2 | AB11: 16.9 | AC11: 20.2 | AD11: 0.4 | AE11: 0 | AF11: 0 | AG11: 0 | AH11: 15 | AI11: 18.5 | AJ11: 5.6 | AK11: 11.1 | AM11: 0 | AN11: 0 | AO11: 0 | AP11: 0 | AQ11: 0 | AR11: 0 | AS11: 13.1 | AT11: 19.6 | AU11: 0.9 | AV11: 0.7 | AW11: 0 | AX11: 8.7 | AY11: 27.1 | AZ11: 7.2 | BA11: 11.9 | BB11: 22.5 | BC11: 15.4 | BD11: 360
B12: 0.125 | C12: 3 | D12: 1.5 | E12: 1.1 | F12: 2.1 | G12: 16 | H12: 9.9 | I12: 1.8 | J12: 8 | K12: 12 | L12: 7.4 | M12: 9.9 | N12: 5.8 | O12: 18.4 | P12: 3.7 | Q12: 5.2 | R12: 2.9 | S12: 0.7 | T12: 3.5 | U12: 3.1 | V12: 4 | W12: 4.2 | X12: 3 | Y12: 3.6 | Z12: 2.6 | AA12: 9.8 | AB12: 16.9 | AC12: 20.6 | AD12: 0.6 | AE12: 0 | AF12: 0 | AG12: 0 | AH12: 14.7 | AI12: 18.2 | AJ12: 5.4 | AK12: 10.2 | AM12: 0 | AN12: 0 | AO12: 0 | AP12: 0 | AQ12: 0 | AR12: 0 | AS12: 15.9 | AT12: 21.7 | AU12: 2.1 | AV12: 1.2 | AW12: 0 | AX12: 14.4 | AY12: 34.3 | AZ12: 9.6 | BA12: 13.7 | BB12: 24.5 | BC12: 12.3 | BD12: 379.5
B13: 0.14583333 | C13: 3 | D13: 1.6 | E13: 1.1 | F13: 2.1 | G13: 16 | H13: 10 | I13: 2 | J13: 8.1 | K13: 12 | L13: 7.3 | M13: 11.1 | N13: 5.8 | O13: 18.2 | P13: 3.7 | Q13: 5.2 | R13: 3.1 | S13: 0.7 | T13: 3.5 | U13: 3.2 | V13: 4 | W13: 4.2 | X13: 3 | Y13: 3.6 | Z13: 2.6 | AA13: 9.8 | AB13: 16.9 | AC13: 20.5 | AD13: 0.6 | AE13: 0 | AF13: 0 | AG13: 6.7 | AH13: 14.2 | AI13: 18.2 | AJ13: 5.2 | AK13: 10 | AM13: 0 | AN13: 0 | AO13: 0 | AP13: 0 | AQ13: 0 | AR13: 0 | AS13: 19.3 | AT13: 26.4 | AU13: 2 | AV13: 2.8 | AW13: 0 | AX13: 15.3 | AY13: 43.5 | AZ13: 10.2 | BA13: 14.3 | BB13: 25.4 | BC13: 13.6 | BD13: 410
B14: 0.16666667 | C14: 3 | D14: 1.6 | E14: 1.1 | F14: 2.1 | G14: 16 | H14: 10 | I14: 1.5 | J14: 8.1 | K14: 12 | L14: 7.5 | M14: 11.1 | N14: 5.9 | O14: 18.2 | P14: 3.7 | Q14: 5.2 | R14: 3 | S14: 0.7 | T14: 3.5 | U14: 3.3 | V14: 4.3 | W14: 4.5 | X14: 0.1 | Y14: 3.6 | Z14: 2.6 | AA14: 10 | AB14: 16.9 | AC14: 20.4 | AD14: 0.6 | AE14: 0 | AF14: 0 | AG14: 43.2 | AH14: 14.2 | AI14: 17.8 | AJ14: 5.2 | AK14: 10 | AM14: 0 | AN14: 0 | AO14: 0 | AP14: 0 | AQ14: 0 | AR14: 0 | AS14: 26.4 | AT14: 30.1 | AU14: 4.3 | AV14: 0.9 | AW14: 0 | AX14: 16.1 | AY14: 49.5 | AZ14: 8 | BA14: 13.5 | BB14: 24 | BC14: 16.9 | BD14: 460.6
B15: 0.1875 | C15: 3 | D15: 1.6 | E15: 1.1 | F15: 2.1 | G15: 15.7 | H15: 9.9 | I15: 0.9 | J15: 8 | K15: 12 | L15: 7.5 | M15: 11.1 | N15: 5.9 | O15: 18.2 | P15: 3.7 | Q15: 5.2 | R15: 3.1 | S15: 0.9 | T15: 3.5 | U15: 3.5 | V15: 4.6 | W15: 4.5 | X15: 0 | Y15: 3.6 | Z15: 2.6 | AA15: 10 | AB15: 16.9 | AC15: 20.9 | AD15: 0.6 | AE15: 0 | AF15: 0 | AG15: 69.3 | AH15: 14.3 | AI15: 17.4 | AJ15: 5.2 | AK15: 10 | AM15: 0 | AN15: 0 | AO15: 0 | AP15: 0 | AQ15: 0 | AR15: 0 | AS15: 24.2 | AT15: 24 | AU15: 4.6 | AV15: 2.9 | AW15: 0 | AX15: 16.6 | AY15: 51.2 | AZ15: 7.8 | BA15: 14.9 | BB15: 19.3 | BC15: 20 | BD15: 482.3
B16: 0.20833333 | C16: 3 | D16: 1.6 | E16: 1.1 | F16: 2.1 | G16: 15.7 | H16: 10 | I16: 1.1 | J16: 8.1 | K16: 12 | L16: 7.4 | M16: 11.1 | N16: 5.9 | O16: 18.4 | P16: 3.7 | Q16: 5.2 | R16: 3.2 | S16: 0.9 | T16: 3.5 | U16: 3.5 | V16: 4.6 | W16: 4.8 | X16: 0 | Y16: 3.5 | Z16: 2.6 | AA16: 10 | AB16: 16.9 | AC16: 20.5 | AD16: 0.6 | AE16: 0 | AF16: 0 | AG16: 94.3 | AH16: 14.6 | AI16: 17 | AJ16: 5.2 | AK16: 10 | AM16: 0 | AN16: 0 | AO16: 0 | AP16: 0 | AQ16: 0.1 | AR16: 0 | AS16: 26.6 | AT16: 25.8 | AU16: 2.2 | AV16: 2.5 | AW16: 0 | AX16: 20.2 | AY16: 51.3 | AZ16: 8.8 | BA16: 13.6 | BB16: 19.7 | BC16: 22.1 | BD16: 515
B17: 0.22916667 | C17: 3 | D17: 1.6 | E17: 1.1 | F17: 2.1 | G17: 15.5 | H17: 9.9 | I17: 1 | J17: 8 | K17: 12 | L17: 7.5 | M17: 11.4 | N17: 5.8 | O17: 18.2 | P17: 3.7 | Q17: 5.2 | R17: 3.2 | S17: 0.9 | T17: 3.5 | U17: 3.6 | V17: 4.7 | W17: 5 | X17: 0 | Y17: 3.5 | Z17: 2.5 | AA17: 10 | AB17: 16.9 | AC17: 20.8 | AD17: 0.6 | AE17: 1.7 | AF17: 1.4 | AG17: 111.4 | AH17: 14.2 | AI17: 16.8 | AJ17: 5 | AK17: 9.9 | AM17: 0 | AN17: 0 | AO17: 1.8 | AP17: 1.5 | AQ17: 1.4 | AR17: 0.3 | AS17: 42 | AT17: 38.6 | AU17: 6.2 | AV17: 6.5 | AW17: 0 | AX17: 20.9 | AY17: 59.6 | AZ17: 7.6 | BA17: 13.8 | BB17: 21.3 | BC17: 28.8 | BD17: 591.9
B18: 0.25 | C18: 3 | D18: 1.6 | E18: 1.1 | F18: 2.1 | G18: 15.5 | H18: 10 | I18: 1.5 | J18: 8 | K18: 12 | L18: 7.5 | M18: 11.3 | N18: 5.9 | O18: 18.1 | P18: 3.7 | Q18: 5.2 | R18: 3.1 | S18: 0.9 | T18: 3.5 | U18: 3.6 | V18: 4.7 | W18: 5 | X18: 0 | Y18: 3.5 | Z18: 2.5 | AA18: 10 | AB18: 16.9 | AC18: 20.8 | AD18: 0.6 | AE18: 24 | AF18: 14.9 | AG18: 112.7 | AH18: 13.6 | AI18: 16.8 | AJ18: 5 | AK18: 10 | AM18: 0.2 | AN18: 0.3 | AO18: 7 | AP18: 3.4 | AQ18: 3.7 | AR18: 5 | AS18: 48.5 | AT18: 41.2 | AU18: 6.5 | AV18: 6.9 | AW18: 0 | AX18: 20 | AY18: 55.6 | AZ18: 7 | BA18: 12.6 | BB18: 15.4 | BC18: 24.3 | BD18: 636.2
... B53: 0.97916667 | C53: 3.2 | D53: 1.6 | E53: 1.2 | F53: 2.1 | G53: 14 | H53: 9.9 | I53: 4.8 | J53: 7 | K53: 12.2 | L53: 7 | M53: 8.8 | N53: 6 | O53: 18 | P53: 3.6 | Q53: 5.8 | R53: 3.2 | S53: 0.6 | T53: 5.5 | U53: 3.4 | V53: 4.6 | W53: 4.8 | X53: 11.8 | Y53: 3.5 | Z53: 2.5 | AA53: 8.3 | AB53: 16.9 | AC53: 20.4 | AD53: 0.3 | AE53: 0 | AF53: 0 | AG53: 32 | AH53: 13.7 | AI53: 21 | AJ53: 7.2 | AK53: 8.7 | AM53: 0 | AN53: 0 | AO53: 0 | AP53: 0 | AQ53: 0 | AR53: 0 | AS53: 41.6 | AT53: 49.7 | AU53: 7.4 | AV53: 2.8 | AW53: 0 | AX53: 20.9 | AY53: 49.2 | AZ53: 7.5 | BA53: 9.6 | BB53: 19.8 | BC53: 7.8 | BD53: 489.9
B54: 1 | C54: 3.2 | D54: 1.6 | E54: 1.2 | F54: 2.1 | G54: 14 | H54: 10 | I54: 4.8 | J54: 7 | K54: 12.2 | L54: 7 | M54: 8.8 | N54: 6 | O54: 17.9 | P54: 3.6 | Q54: 5.8 | R54: 3.1 | S54: 0.6 | T54: 5.5 | U54: 3.4 | V54: 4.6 | W54: 4.8 | X54: 11.8 | Y54: 3.5 | Z54: 2.5 | AA54: 8.4 | AB54: 16.9 | AC54: 20.4 | AD54: 0.3 | AE54: 0 | AF54: 0 | AG54: 30.1 | AH54: 13.4 | AI54: 21 | AJ54: 7.2 | AK54: 8.8 | AM54: 0 | AN54: 0 | AO54: 0 | AP54: 0 | AQ54: 0 | AR54: 0 | AS54: 39 | AT54: 45.3 | AU54: 6 | AV54: 3.6 | AW54: 0 | AX54: 13.3 | AY54: 37.8 | AZ54: 7.9 | BA54: 12.3 | BB54: 17.9 | BC54: 7.4 | BD54: 462 | BF54: TÉRMICO | BG54: SOLAR | BH54: EÓLICO
B55: EJEC MWh | C55: 71.15 | D55: 35.75 | E55: 26.65 | F55: 49.2 | G55: 353.6 | H55: 239 | I55: 91.75 | J55: 167.9 | K55: 277.7 | L55: 175.2 | M55: 242.75 | N55: 142.5 | O55: 433.8 | P55: 87.45 | Q55: 138.65 | R55: 74.05 | S55: 23 | T55: 101.95 | U55: 84.3 | V55: 114 | W55: 118.95 | X55: 235.3 | Y55: 83.5 | Z55: 60.35 | AA55: 232.1 | AB55: 405.6 | AC55: 494.5 | AD55: 11.85 | AE55: 1201.3 | AF55: 850.65 | AG55: 1559.6 | AH55: 331.95 | AI55: 418.3 | AJ55: 126.55 | AK55: 234.4 | AL55: 0 | AM55: 130.75 | AN55: 128.6 | AO55: 171.1 | AP55: 148.2 | AQ55: 124 | AR55: 353.4 | AS55: 1064.85 | AT55: 876.25 | AU55: 177.9 | AV55: 120.95 | AW55: 8.5 | AX55: 395.15 | AY55: 1221.9 | AZ55: 263.9 | BA55: 343.85 | BB55: 527.95 | BC55: 756.6 | BD55: 16109.1 | BF55: =+G_AREAS!AA55/G_AREAS!$X$55 -> 0.0032621982 | BG55: =+G_AREAS!AB55/G_AREAS!$X$55 -> 0.018955236 | BH55: =+G_AREAS!AC55/G_AREAS!$X$55 -> 0.04445433
C56: TC | D56: TC | E56: TC | F56: TC | G56: TC | H56: HN | I56: HN | J56: HN | K56: HC | L56: HC | M56: HC | N56: HN | O56: HC | P56: HC | Q56: HN | R56: HC | S56: HC | T56: HS | U56: HS | V56: HS | W56: HS | X56: HC | Y56: HC | Z56: HC | AA56: HC | AB56: HC | AC56: HC | AD56: HC | AE56: SS | AF56: SS | AG56: EC | AH56: HC | AI56: HC | AJ56: HC | AK56: HN | AL56: HS | AM56: SS | AN56: SS | AO56: SS | AP56: SS | AQ56: SS | AR56: SS | AS56: EC | AT56: EC | AU56: EC | AV56: EC | AW56: SC | AX56: EC | AY56: EC | AZ56: EN | BA56: EN | BB56: EN | BC56: EN | BD56: GF
C57: T | D57: T | E57: T | F57: T | G57: T | H57: H | I57: H | J57: H | K57: H | L57: H | M57: H | N57: H | O57: H | P57: H | Q57: H | R57: H | S57: H | T57: H | U57: H | V57: H | W57: H | X57: H | Y57: H | Z57: H | AA57: H | AB57: H | AC57: H | AD57: H | AE57: S | AF57: S | AG57: E | AH57: H | AI57: H | AJ57: H | AK57: H | AL57: H | AM57: S | AN57: S | AO57: S | AP57: S | AQ57: S | AR57: S | AS57: E | AT57: E | AU57: E | AV57: E | AW57: S | AX57: E | AY57: E | AZ57: E | BA57: E | BB57: E | BC57: E | BE57: =+CONCATENATE(+ROUND(BD55,3)," MWh") -> 16109,1 MWh
C58: C | D58: C | E58: C | F58: C | G58: C | H58: N | I58: N | J58: N | K58: C | L58: C | M58: C | N58: N | O58: C | P58: C | Q58: N | R58: C | S58: C | T58: S | U58: S | V58: S | W58: S | X58: C | Y58: C | Z58: C | AA58: C | AB58: C | AC58: C | AD58: C | AE58: S | AF58: S | AG58: C | AH58: C | AI58: C | AJ58: C | AK58: N | AL58: S | AM58: S | AN58: S | AO58: S | AP58: S | AQ58: S | AR58: S | AS58: C | AT58: C | AU58: C | AV58: C | AW58: C | AX58: C | AY58: C | AZ58: N | BA58: N | BB58: N | BC58: N
C59: R | D59: R | E59: R | F59: R | G59: R | H59: R | I59: R | J59: R | K59: R | L59: R | M59: R | N59: R | O59: R | P59: R | Q59: R | R59: R | S59: R | T59: R | U59: R | V59: R | W59: R | X59: R | Y59: R | Z59: R | AA59: R | AB59: R | AC59: R | AD59: R | AE59: R | AF59: R | AG59: R | AH59: R | AI59: R | AJ59: R | AK59: R | AL59: R | AM59: R | AN59: R | AO59: R | AP59: R | AQ59: R | AR59: R | AS59: R | AT59: R | AU59: R | AV59: R | AW59: R | AX59: R | AY59: R | AZ59: R | BA59: R | BB59: R | BC59: R
C60: =+CONCATENATE(C59,C57) -> RT | D60: RT | E60: RT | F60: RT | G60: =+CONCATENATE(G59,G57) -> RT | H60: =+CONCATENATE(H59,H57) -> RH | I60: =+CONCATENATE(I59,I57) -> RH | J60: =+CONCATENATE(J59,J57) -> RH | K60: =+CONCATENATE(K59,K57) -> RH | L60: =+CONCATENATE(L59,L57) -> RH | M60: =+CONCATENATE(M59,M57) -> RH | N60: =+CONCATENATE(N59,N57) -> RH | ... BC60: =+CONCATENATE(BC59,BC57) -> RE | BD60: GF

Sheet COGENERACION
C1: 202 | D1: 904 | E1: 232 | F1: 213 | G1: 2190 | H1: 289 | I1: 5002 | J1: 5000
B3: 45218
B4: CENTRALES DE COGENERACIÓN DEL SEIN
B5: HORA | C5: SDF ENERGIA | E5: AGROAURORA | F5: AIPSA | G5: AGROINDUSTRIAS SAN JACINTO | H5: BIOENERGÍA DEL CHIRA | I5: TOTAL COGENERACION
C6: OQUENDO TG1 | D6: OQUENDO TV1 | E6: MAPLE | F6: PARAMONGA | G6: SAN JACNTO | H6: C.T. CAÑA BRAVA | I6: MW
B7: 0.020833333 | C7: 29.3 | E7: 14.6 | F7: 16 | G7: 7.79 | H7: 9.6 | I7: 77.29
B8: 0.041666667 | C8: 29.3 | E8: 14.6 | F8: 16.6 | G8: 7.88 | H8: 9.8 | I8: 78.18
B9: 0.0625 | C9: 29.3 | E9: 14.1 | F9: 16 | G9: 8.59 | H9: 9.7 | I9: 77.69
B10: 0.083333333 | C10: 29.3 | E10: 14.5 | F10: 16 | G10: 7.86 | H10: 9.9 | I10: 77.56
B11: 0.10416667 | C11: 29.4 | E11: 14.2 | F11: 16.1 | G11: 7.92 | H11: 10 | I11: 77.62
B12: 0.125 | C12: 29.3 | E12: 14.1 | F12: 16 | G12: 8.45 | H12: 9.4 | I12: 77.25
B13: 0.14583333 | C13: 29.4 | E13: 14.1 | F13: 16 | G13: 9.59 | H13: 9.2 | I13: 78.29
B14: 0.16666667 | C14: 29.4 | E14: 14.1 | F14: 16 | G14: 9.16 | H14: 9.7 | I14: 78.36
B15: 0.1875 | C15: 29.4 | E15: 14.1 | F15: 15.7 | G15: 7.3 | H15: 9.3 | I15: 75.8
B16: 0.20833333 | C16: 29.5 | E16: 13.4 | F16: 15.7 | G16: 8.38 | H16: 10.5 | I16: 77.48
B17: 0.22916667 | C17: 29.5 | E17: 14.2 | F17: 15.5 | G17: 8.02 | H17: 10.1 | I17: 77.32
B18: 0.25 | C18: 29.4 | E18: 12.9 | F18: 15.5 | G18: 6.73 | H18: 10.6 | I18: 75.13
... B54: 1 | C54: 29.3 | E54: 13.9 | F54: 14 | G54: 7.51 | H54: 9.7 | I54: 74.41
B55: EJEC MWh | C55: 697.3 | D55: 0 | E55: 326.85 | F55: 353.6 | G55: 185.33 | H55: 202.95 | I55: 1766.03
C56: TC | D56: TC | E56: TN | F56: TC | G56: TN | H56: TN
C57: T | D57: T | E57: T | F57: T | G57: T | H57: T
C58: C | D58: C | E58: N | F58: C | G58: N | H58: N
C59: 1 | D59: 1 | E59: 1 | F59: 1 | G59: 1 | H59: 1
C60: =+CONCATENATE(C59,C57) -> 1T | D60: =+CONCATENATE(D59,D57) -> 1T | E60: =+CONCATENATE(E59,E57) -> 1T | F60: =+CONCATENATE(F59,F57) -> 1T | G60: =+CONCATENATE(G59,G57) -> 1T | H60: =+CONCATENATE(H59,H57) -> 1T

Sheet TIPO_RECURSO
B10: 45218
B12: REPORTE POTENCIA GENERADA POR TIPO DE RECURSO | X12: P | Y12: R
B13: HORA | C13: H. DE PASADA | D13: H.REGULACION | E13: GN CAMISEA | F13: GN MALACAS | G13: GN AGUAYTIA | H13: GN LA ISLA | I13: CARBÓN | J13: DIESEL | K13: RESIDUAL R500 | L13: RESIDUAL R6 | M13: BAGAZO | N13: BIOGAS | O13: SOLAR | P13: EOLICO | Q13: TOTAL | U13: CODIGO | V13: EMPRESA | W13: CENTRAL | X13: HIDROELECTRICA DE PASADA | Y13: HIDROELECTRICA DE REGULACION
B14: 0.020833333 | C14: 935.559 | D14: 1609.056 | E14: 3422.6 | F14: 84.8 | G14: 60.8 | I14: 0 | J14: 0 | K14: 0 | M14: 47.99 | N14: 7.8 | O14: 0 | P14: 110.3 | Q14: 6278.905 | U14: 212 | V14: CELEPSA | W14: PLATANAL | Y14: 2052.1
B15: 0.041666667 | C15: 917.246 | D15: 1524.512 | E15: 3430.2 | F15: 85.2 | G15: 60.1 | I15: 0 | J15: 0 | K15: 0 | M15: 48.88 | N15: 7.8 | O15: 0 | P15: 104.6 | Q15: 6178.538 | U15: 150 | V15: CHINANGO | W15: CHIMAY | Y15: 1745.55
B16: 0.0625 | C16: 912.405 | D16: 1422.101 | E16: 3422.2 | F16: 84.8 | G16: 58.3 | I16: 0 | J16: 0 | K16: 0 | M16: 48.39 | N16: 7.7 | O16: 0 | P16: 85 | Q16: 6040.896 | U16: 149 | W16: YANANGO | X16: 607.55
B17: 0.083333333 | C17: 918.486 | D17: 1303.34 | E17: 3430 | F17: 85 | G17: 60.1 | I17: 0 | J17: 0 | K17: 0 | M17: 48.26 | N17: 7.7 | O17: 0 | P17: 92 | Q17: 5944.886 | U17: 103 | V17: ENEL GENERACIÓN PERÚ | W17: HUINCO | Y17: 2620.05
B18: 0.10416667 | C18: 910.626 | D18: 1255.79 | E18: 3421 | F18: 81.8 | G18: 58.6 | I18: 0 | J18: 0 | K18: 0 | M18: 48.22 | N18: 7.7 | O18: 0 | P18: 127.1 | Q18: 5910.836 | U18: 104 | W18: MATUCANA | Y18: 1914.35
B19: 0.125 | C19: 883.266 | D19: 1274.416 | E19: 3431.1 | F19: 87.1 | G19: 61.9 | I19: 0 | J19: 0 | K19: 0 | M19: 47.95 | N19: 7.7 | O19: 0 | P19: 149.7 | Q19: 5943.132 | U19: 105 | W19: CALLAHUANCA | Y19: 1556.95
B20: 0.14583333 | C20: 881.931 | D20: 1262.016 | E20: 3423.3 | F20: 86.9 | G20: 60.8 | I20: 0 | J20: 0 | K20: 0 | M20: 48.89 | N20: 7.8 | O20: 0 | P20: 179.5 | Q20: 5951.137 | U20: 106 | W20: MOYOPAMPA | X20: 1542.05
B21: 0.16666667 | C21: 871.614 | D21: 1198.679 | E21: 3450.7 | F21: 87.5 | G21: 62.6 | I21: 0 | J21: 0 | K21: 0 | M21: 48.96 | N21: 7.8 | O21: 0 | P21: 232.9 | Q21: 5960.753 | U21: 107 | W21: HUAMPANI | X21: 665.35
B22: 0.1875 | C22: 878.699 | D22: 1185.433 | E22: 3435.4 | F22: 86.8 | G22: 60.4 | I22: 0 | J22: 0 | K22: 0 | M22: 46.4 | N22: 7.8 | O22: 0 | P22: 254.8 | Q22: 5955.732 | U22: 2165 | W22: HER 1 | X22: 11.85
B23: 0.20833333 | C23: 875.371 | D23: 1263.899 | E23: 3429.1 | F23: 87 | G23: 58.7 | I23: 0 | J23: 0 | K23: 0 | M23: 47.98 | N23: 7.8 | O23: 0.1 | P23: 287.1 | Q23: 6057.05 | U23: 151 | V23: EGASA | W23: CHARCANI I,II,III | X23: 163.85
B24: 0.22916667 | C24: 880.929 | D24: 1422.088 | E24: 3330.1 | F24: 86.9 | G24: 61.2 | I24: 0 | J24: 0 | K24: 0 | M24: 47.82 | N24: 7.8 | O24: 8.1 | P24: 356.7 | Q24: 6201.637 | U24: 152 | W24: CHARCANI IV | Y24: 267.2
B25: 0.25 | C25: 912.104 | D25: 1466.017 | E25: 3194.6 | F25: 87.1 | G25: 60.1 | I25: 0 | J25: 0 | K25: 0 | M25: 45.73 | N25: 7.8 | O25: 58.5 | P25: 350.7 | Q25: 6182.651 | U25: 153 | W25: CHARCANI V | Y25: 1635.45
B26: 0.27083333 | C26: 892.982 | D26: 1659.535 | E26: 3195.8 | F26: 68.4 | G26: 60.2 | I26: 0 | J26: 0 | K26: 0 | M26: 47.87 | N26: 7.8 | O26: 72 | P26: 350.2 | Q26: 6354.787 | U26: 154 | W26: CHARCANI VI | Y26: 0
B27: 0.29166667 | C27: 909.367 | D27: 1900.398 | E27: 3195 | F27: 40.5 | G27: 0 | I27: 0 | J27: 0 | K27: 0 | M27: 43.94 | N27: 7.7 | O27: 72.6 | P27: 337.2 | Q27: 6506.705 | U27: 260 | V27: EGECSAC | W27: CANCHAYLLO | X27: 60.35
B28: 0.3125 | C28: 925.819 | D28: 1873.448 | E28: 3305.7 | F28: 45.7 | G28: 0 | I28: 0 | J28: 0 | K28: 0 | M28: 47.27 | N28: 7.7 | O28: 129.2 | P28: 346.8 | Q28: 6681.637 | U28: 251 | V28: EGEHUANZA | W28: HUANZA | Y28: 792.65
B29: 0.33333333 | C29: 931.672 | D29: 1811.983 | E29: 3340.4 | F29: 50.6 | G29: 0 | I29: 0 | J29: 0 | K29: 0 | M29: 47.81 | N29: 7.7 | O29: 178.3 | P29: 357.8 | Q29: 6726.265 | U29: 258 | V29: EGEJUNÍN | W29: RUNATULLO II | X29: 175.2
B30: 0.35416667 | C30: 944.436 | D30: 1840.688 | E30: 3351.5 | F30: 50.9 | G30: 0 | I30: 0 | J30: 0 | K30: 0 | M30: 48.31 | N30: 7.7 | O30: 296.8 | P30: 365 | Q30: 6905.334 | U30: 259 | W30: RUNATULLO III | X30: 242.75
B31: 0.375 | C31: 923.653 | D31: 2086.448 | E31: 3340.9 | F31: 50.7 | G31: 0 | I31: 0 | J31: 0 | K31: 0 | M31: 45.61 | N31: 7.6 | O31: 353.4 | P31: 340.2 | Q31: 7148.511 | U31: 201 | W31: STACRUZ_1_2 | X31: 167.9
B32: 0.39583333 | C32: 916.411 | D32: 2051.677 | E32: 3344 | F32: 71.6 | G32: 0 | I32: 0 | J32: 0 | K32: 0 | M32: 46.15 | N32: 7.6 | O32: 363 | P32: 304 | Q32: 7104.438 | U32: 226 | W32: HUASAHUASI I y II | X32: 277.7
B33: 0.41666667 | C33: 927.34 | D33: 2126.156 | E33: 3328.7 | F33: 70.6 | G33: 0 | I33: 0 | J33: 0 | K33: 0 | M33: 47.49 | N33: 7.6 | O33: 292.1 | P33: 317.1 | Q33: 7117.086 | U33: 163 | V33: EGEMSA | W33: MACHUPICCHU | X33: 2542.9
B34: 0.4375 | C34: 929.802 | D34: 2136.21 | E34: 3322.3 | F34: 65.5 | G34: 0 | I34: 0 | J34: 0 | K34: 0 | M34: 47.22 | N34: 7.6 | O34: 357.3 | P34: 292.6 | Q34: 7158.532 | U34: 127 | V34: ORAZUL ENERGY | W34: CAÑON DEL PATO | Y34: 4209.25
B35: 0.45833333 | C35: 949.868 | D35: 2428.414 | E35: 3341.3 | F35: 66 | G35: 0 | I35: 0 | J35: 0 | K35: 0 | M35: 47.85 | N35: 7.4 | O35: 263.9 | P35: 276 | Q35: 7380.732 | U35: 126 | W35: CARHUAQUERO | Y35: 1169.6
B36: 0.47916667 | C36: 962.049 | D36: 2443.919 | E36: 3389.6 | F36: 60.5 | G36: 0 | I36: 0 | J36: 0 | K36: 0 | M36: 46.62 | N36: 7.4 | O36: 250.8 | P36: 266.1 | Q36: 7426.988 | U36: 216 | W36: CARHUAQUERO4 | X36: 239
B37: 0.5 | C37: 948.802 | D37: 2233.091 | E37: 3365.1 | F37: 60.2 | G37: 0 | I37: 0 | J37: 0 | K37: 0 | M37: 44.41 | N37: 7.4 | O37: 394.6 | P37: 283.2 | Q37: 7336.803 | U37: 198 | W37: CANA BRAVA | X37: 91.75
B38: 0.52083333 | C38: 962.731 | D38: 2118.021 | E38: 3350.2 | F38: 61.1 | G38: 0 | I38: 0 | J38: 0 | K38: 0 | M38: 44.71 | N38: 7.4 | O38: 369.1 | P38: 310 | Q38: 7223.262 | U38: 298 | V38: EGESUR | W38: ARICOTA I | Y38: 169.55
B39: 0.54166667 | C39: 947.446 | D39: 2145.034 | E39: 3271.5 | F39: 60.7 | G39: 0 | I39: 0 | J39: 0 | K39: 0 | M39: 45.63 | N39: 7.3 | O39: 376.9 | P39: 321 | Q39: 7175.51 | U39: 299 | W39: ARICOTA II | Y39: 0
B40: 0.5625 | C40: 960.693 | D40: 2193.081 | E40: 3282.8 | F40: 61.2 | G40: 0 | I40: 0 | J40: 0 | K40: 0 | M40: 44.74 | N40: 7.2 | O40: 380.3 | P40: 347.4 | Q40: 7277.414 | U40: 223 | V40: ATRIA ENERGÍA | W40: PURMACANA | X40: 23
B41: 0.58333333 | C41: 948.995 | D41: 2168.103 | E41: 3274.7 | F41: 60.6 | G41: 0 | I41: 0 | J41: 0 | K41: 0 | M41: 44.86 | N41: 7.2 | O41: 376.7 | P41: 365.1 | Q41: 7246.258 | U41: 247 | V41: ELÉCTRICA RIO DOBLE | W41: PIZARRAS | X41: 138.65
B42: 0.60416667 | C42: 940.529 | D42: 2291.541 | E42: 3274.5 | F42: 70.8 | G42: 0 | I42: 0 | J42: 0 | K42: 0 | M42: 44.05 | N42: 7.2 | O42: 367 | P42: 402.5 | Q42: 7398.12 | U42: 238 | V42: ELÉCTRICA YANAPAMPA | W42: YANAPAMPA | X42: 87.45
B43: 0.625 | C43: 944.645 | D43: 2231.785 | E43: 3359.1 | F43: 70.9 | G43: 0 | I43: 0 | J43: 0 | K43: 0 | M43: 43.67 | N43: 7.2 | O43: 352.7 | P43: 408.5 | Q43: 7418.5 | U43: 101 | V43: ELECTROPERU | W43: MANTARO | Y43: 13148.6
B44: 0.64583333 | C44: 941.692 | D44: 2163.667 | E44: 3366.9 | F44: 70.8 | G44: 0 | I44: 0 | J44: 0 | K44: 0 | M44: 42.11 | N44: 7.2 | O44: 330.9 | P44: 425.9 | Q44: 7349.169 | U44: 102 | W44: RESTITUCION | X44: 4362.4
B45: 0.66666667 | C45: 942.512 | D45: 2423.078 | E45: 3226.2 | F45: 70.8 | G45: 0 | I45: 0 | J45: 0 | K45: 0 | M45: 39.59 | N45: 7.2 | O45: 293.1 | P45: 439.7 | Q45: 7442.18 | U45: 191 | V45: ENGIE | W45: YUNCAN | Y45: 2304
B46: 0.6875 | C46: 926.085 | D46: 2406.994 | E46: 3163.2 | F46: 71.1 | G46: 0 | I46: 0 | J46: 0 | K46: 0 | M46: 39.36 | N46: 7.2 | O46: 192 | P46: 438.3 | Q46: 7244.239 | U46: 211 | V46: GEPSA | W46: LA JOYA | X46: 101.95
B47: 0.70833333 | C47: 944.303 | D47: 2409.765 | E47: 3169 | F47: 87.5 | G47: 0 | I47: 0 | J47: 0 | K47: 0 | M47: 42.21 | N47: 7.2 | O47: 90.6 | P47: 449.2 | Q47: 7199.778 | U47: 2175 | W47: ÁNGEL I | X47: 84.3
B48: 0.72916667 | C48: 943.252 | D48: 2455.701 | E48: 3177.5 | F48: 88.4 | G48: 0 | I48: 0 | J48: 0 | K48: 0 | M48: 44.2 | N48: 7.3 | O48: 13 | P48: 429 | Q48: 7158.353 | U48: 2178 | W48: ÁNGEL II | X48: 114
B49: 0.75 | C49: 948.223 | D49: 2375.435 | E49: 3168.6 | F49: 87.5 | G49: 0 | I49: 0 | J49: 0 | K49: 0 | M49: 44.19 | N49: 7.5 | O49: 0 | P49: 402.8 | Q49: 7034.248 | U49: 2181 | W49: ÁNGEL III | X49: 118.95
B50: 0.77083333 | C50: 949.164 | D50: 2601.491 | E50: 3235.7 | F50: 88.3 | G50: 0 | I50: 0 | J50: 0 | K50: 0 | M50: 43.76 | N50: 7.5 | O50: 0 | P50: 382 | Q50: 7307.915 | U50: 228 | V50: HIDROCAÑETE | W50: NIMPERIAL | X50: 83.5
B51: 0.79166667 | C51: 964.03 | D51: 2535.11 | E51: 3332.4 | F51: 89.2 | G51: 0 | I51: 0 | J51: 0 | K51: 0 | M51: 43.21 | N51: 7.7 | O51: 0 | P51: 361.3 | Q51: 7332.95 | U51: 188 | V51: HUANCHOR | W51: HUANCHOR | X51: 396.75
B52: 0.8125 | C52: 963.689 | D52: 2504.572 | E52: 3376 | F52: 88.7 | G52: 0 | I52: 0 | J52: 0 | K52: 0 | M52: 44.19 | N52: 7.7 | O52: 0 | P52: 360.4 | Q52: 7345.251 | U52: 755 | V52: INLAND ENERGY | W52: SANTA TERESA | X52: 1339.6
B53: 0.83333333 | C53: 963.045 | D53: 2446.366 | E53: 3408.2 | F53: 88.6 | G53: 0 | I53: 0 | J53: 0 | K53: 0 | M53: 43.12 | N53: 7.7 | O53: 0 | P53: 363.9 | Q53: 7320.931 | U53: 214 | V53: MAJA | W53: RONCADOR | X53: 74.05
B54: 0.85416667 | C54: 954.243 | D54: 2483.978 | E54: 3409.7 | F54: 88.7 | G54: 0 | I54: 0 | J54: 0 | K54: 0 | M54: 43.2 | N54: 7.7 | O54: 0 | P54: 349.8 | Q54: 7337.321 | U54: 182 | V54: SAN GABAN | W54: SAN GABAN II | Y54: 1505.6
B55: 0.875 | C55: 966.792 | D55: 2453.49 | E55: 3420.7 | F55: 89.1 | G55: 0 | I55: 0 | J55: 0 | K55: 0 | M55: 44.86 | N55: 7.7 | O55: 0 | P55: 304.3 | Q55: 7286.942 | U55: 999 | W55: MCH TUPURI | X55: 0
B56: 0.89583333 | C56: 967.501 | D56: 2389.841 | E56: 3417 | F56: 89 | G56: 0 | I56: 0 | J56: 0 | K56: 0 | M56: 28.56 | N56: 7.7 | O56: 0 | P56: 308 | Q56: 7207.602 | U56: 215 | V56: SINERSA (C.H. POECHOS 2) | W56: POECHOS2 | X56: 142.5
B57: 0.91666667 | C57: 971.658 | D57: 2322.163 | E57: 3397.1 | F57: 88.9 | G57: 0 | I57: 0 | J57: 0 | K57: 0 | M57: 37.78 | N57: 7.9 | O57: 0 | P57: 294.1 | Q57: 7119.601 | U57: 917 | W57: CHANCAY | X57: 433.8
B58: 0.9375 | C58: 971.601 | D58: 2375.455 | E58: 3342.4 | F58: 88.7 | G58: 0 | I58: 0 | J58: 0 | K58: 0 | M58: 29.88 | N58: 8.1 | O58: 0 | P58: 264.5 | Q58: 7080.636 | U58: 266 | V58: STATKRAFT | W58: CHEVES | Y58: 1706.516
B59: 0.95833333 | C59: 966.881 | D59: 2120.37 | E59: 3339.6 | F59: 85.7 | G59: 0 | I59: 0 | J59: 0 | K59: 0 | M59: 35.3 | N59: 8.1 | O59: 0 | P59: 254.6 | Q59: 6810.551 | U59: 117 | W59: YAUPI | X59: 2522.2635
B60: 0.97916667 | C60: 955.199 | D60: 2044.042 | E60: 3173.7 | F60: 86 | G60: 0 | I60: 0 | J60: 0 | K60: 0 | M60: 43.15 | N60: 8.1 | O60: 0 | P60: 248.3 | Q60: 6558.491 | U60: 119 | W60: MALPASO | Y60: 483.189
B61: 1 | C61: 947.941 | D61: 2025.613 | E61: 3164.8 | F61: 86 | G61: 0 | I61: 0 | J61: 0 | K61: 0 | M61: 45.11 | N61: 8.1 | O61: 0 | P61: 220.6 | Q61: 6498.164 | U61: 267 | W61: OROYA | X61: 191.1
B62: TOTAL MWh | C62: 22416.643 | D62: 48232.005 | E62: 79871.05 | F62: 1825.2 | G62: 391.9 | H62: 0 | I62: 0 | J62: 0 | K62: 0 | L62: 0 | M62: 1068.73 | N62: 182.75 | O62: 3116.5 | P62: 7308.9 | Q62: 164413.68 | R62: 0 | U62: 268 | W62: PACHACHACA | X62: 0
B63: % | C63: 13.634294 | D63: 29.335762 | E63: 48.579322 | F63: 1.1101266 | G63: 0.23836216 | H63: 0 | I63: 0 | J63: 0 | K63: 0 | L63: 0 | M63: 0.65002499 | N63: 0.11115255 | O63: 1.8955236 | P63: 4.445433 | Q63: 100 | R63: 0 | U63: 120 | W63: CAHUA | X63: 1028.75
U64: 189 | W64: ARCATA | X64: 77.8585
U65: 121 | W65: PARIAC | X65: 85.2715
U66: 122 | W66: GALLITO CIEGO | Y66: 0
U67: 775 | V67: HUALLAGA | W67: PCH CHAGLLA | X67: 155.95
U68: 777 | W68: CHAGLLA | Y68: 6181.9
U69: 796 | V69: KALLPA | W69: CERRO DEL ÁGUILA | Y69: 4769.5
U70: 2146 | W70: PCH CERRO DEL ÁGUILA | X70: 80.65
U71: 2128 | V71: AGUA AZUL | W71: POTRERO | X71: 232.1
U72: 2131 | V72: CELEPSA RENOVABLES | W72: MARAÑÓN | X72: 472
U73: 2135 | V73: HUAURA POWER GROUP | W73: YARUCAYA | X73: 405.6
U74: 2152 | V74: EGE SANTA ANA | W74: RENOVANDES | X74: 494.5
U75: 2154 | V75: LA VIRGEN | W75: LA VIRGEN | X75: 999.35
U76: 2184 | V76: ANDEAN POWER | W76: CARHUAC | X76: 235.3
U77: 920 | V77: EGERBA | W77: RUCUY | X77: 331.95
U78: 296 | V78: GENERACIÓN ANDINA | W78: 8 DE AGOSTO | X78: 418.3
U79: 297 | W79: EL CARMEN | X79: 126.55
U80: 2194 | V80: INVERSIÓN DE ENERGÍAS RENOVABLES S.A. | W80: MANTA I | X80: 234.4
U81: 337 | V81: CENTRALES SANTA ROSA | W81: SANTA ROSA I | X81: 13.15
U82: 338 | W82: SANTA ROSA II | X82: 22.5
C83: P | D83: R | E83: GN | F83: GM | G83: GA | H83: GI | I83: C | J83: D | K83: R500 | L83: R6 | M83: B | N83: BG | O83: S | P83: E | Q83: TOTAL | V83: TOTAL MWh | X83: 22416.643 | Y83: 48232.005
X84: P | Y84: R

Sheet DESPACHO_EJECUTADO
B1: 101 | C1: 102 | D1: 147 | E1: 103 | F1: 104 | G1: 105 | H1: 106 | I1: 107 | J1: 2165 | K1: 110 | L1: 208 | M1: 109 | N1: 144 | O1: 113 | P1: 114 | Q1: 193 | R1: 2150 | S1: 907 | T1: 2161 | U1: 150 | V1: 149 | W1: 266 | X1: 117 | Y1: 119 | Z1: 267 | AA1: 268 | AB1: 120 | AC1: 189 | AD1: 121 | AE1: 122 | AF1: 142 | AG1: 143 | AH1: 125 | AI1: 187 | AJ1: 288 | AK1: 115 | AL1: 239 | AM1: 127 | AN1: 126 | AO1: 216 | AP1: 198 | AQ1: 138 | AR1: 139 | AS1: 163 | AT1: 298 | AU1: 299 | AV1: 219 | AW1: 191 | AX1: 174 | AY1: 240 | AZ1: 241 | BA1: 242 | BB1: 995 | BC1: 996 | BD1: 997 | BE1: 194 | BF1: 196 | BG1: 207 | BH1: 236 | BI1: 795 | BJ1: 285 | BK1: 2148 | BL1: 900 | BM1: 901 | BN1: 905 | BO1: 906 | BP1: 151 | BQ1: 152 | BR1: 153 | BS1: 154 | BT1: 756 | BU1: 156 | BV1: 155 | BW1: 182 | BX1: 999 | BY1: 197 | BZ1: 203 | CA1: 204 | CB1: 230 | CC1: 209 | CD1: 888 | CE1: 796 | CF1: 2146 | CG1: 252 | CH1: 249 | CI1: 250 | CJ1: 248 | CK1: 2159 | CL1: 263 | CM1: 265 | CN1: 758 | CO1: 786 | CP1: 787 | CQ1: 788 | CR1: 789 | CS1: 212 | CT1: 251 | CU1: 188 | CV1: 755 | CW1: 775 | CX1: 777 | CY1: 924 | CZ1: 926 | DA1: 202 | DB1: 904 | DC1: 213 | DD1: 232 | DE1: 225 | DF1: 760 | DG1: 2171 | DH1: 2201 | DI1: 201 | DJ1: 226 | DK1: 258 | DL1: 259 | DM1: 215 | DN1: 917 | DO1: 238 | DP1: 247 | DQ1: 214 | DR1: 223 | DS1: 211 | DT1: 2175 | DU1: 2178 | DV1: 2181 | DW1: 228 | DX1: 260 | DY1: 920 | DZ1: 2128 | EA1: 2131 | EB1: 2135 | EC1: 2152 | ED1: 2154 | EE1: 2184 | EF1: 2190 | EG1: 289 | EH1: 296 | EI1: 297 | EJ1: 2194 | EK1: 337 | EL1: 338 | EM1: 233 | EN1: 234 | EO1: 235 | EP1: 237 | EQ1: 261 | ER1: 303 | ES1: 253 | ET1: 770 | EU1: 1262 | EV1: 1263 | EW1: 257 | EX1: 256 | EY1: 6000 | EZ1: 6001 | FA1: 6002 | FD1: 222 | FE1: 199 | FF1: 200 | FG1: 221 | FH1: 224 | FI1: 227 | FJ1: 998 | FK1: 2187 | FL1: 902 | FM1: 903 | FN1: 5000 | FR1: 8002 | FS1: 8000 | FT1: 8002 | FU1: 8003 | FV1: 8004
B2: E1 | C2: E1 | E2: E2 | F2: E2 | G2: E2 | H2: E2 | I2: E2 | J2: E2 | K2: E2 | L2: E2 | M2: E2 | N2: E2 | O2: E2 | P2: E2 | Q2: E2 | R2: E2 | S2: E2 | T2: E2 | U2: E3 | V2: E3 | W2: E46 | X2: E46 | Y2: E46 | Z2: E46 | AA2: E46 | AB2: E46 | AC2: E46 | AD2: E46 | AE2: E46 | AF2: E9 | AG2: E9 | AH2: E9 | AI2: E9 | AJ2: E5 | AK2: E5 | AL2: E5 | AM2: E4 | AN2: E4 | AO2: E4 | AP2: E4 | AQ2: E8 | AR2: E8 | AS2: E11 | AT2: E12 | AU2: E12 | AV2: E12 | AW2: E13 | AX2: E13 | AY2: E13 | AZ2: E13 | BA2: E13 | BB2: E13 | BC2: E13 | BD2: E13 | BE2: E13 | BF2: E13 | BG2: E13 | BH2: E13 | BI2: E13 | BJ2: E13 | BK2: E13 | BL2: E13 | BM2: E13 | BN2: E13 | BO2: E13 | BP2: E14 | BQ2: E14 | BR2: E14 | BS2: E14 | BT2: E14 | BU2: E14 | BV2: E14 | BW2: E15 | BX2: E15 | BY2: E17 | BZ2: E17 | CA2: E17 | CB2: E17 | CC2: E17 | CD2: E17 | CE2: E17 | CF2: E17 | CG2: E18 | CH2: E18 | CI2: E18 | CJ2: E19 | CK2: E19 | CL2: E44 | CM2: E44 | CN2: E48 | CO2: E52 | CP2: E52 | CQ2: E52 | CR2: E52 | CS2: E22 | CT2: E10 | CU2: E7 | CV2: E45 | CW2: E51 | CX2: E51 | CY2: E55 | CZ2: E55 | DA2: E20 | DB2: E20 | DC2: E24 | DD2: E30 | DE2: E28 | DF2: E28 | DG2: E28 | DH2: E28 | DI2: E40 | DJ2: E40 | DK2: E40 | DL2: E40 | DM2: E25 | DN2: E25 | DO2: E36 | DP2: E37 | DQ2: E26 | DR2: E16 | DS2: E23 | DT2: E23 | DU2: E23 | DV2: E23 | DW2: E29 | DX2: E42 | DY2: E54 | DZ2: E56 | EA2: E57 | EB2: E58 | EC2: E60 | ED2: E61 | EE2: E63 | EF2: E65 | EG2: E66 | EH2: E67 | EI2: E67 | EJ2: E68 | EK2: E71 | EL2: E71 | EM2: E32 | EN2: E33 | EO2: E34 | EP2: E35 | EQ2: E41 | ER2: E72 | ES2: E38 | ET2: E50 | EU2: E69 | EV2: E70 | EW2: E39 | EX2: E39 | FD2: NC3 | FE2: NC1 | FF2: NC1 | FG2: NC2 | FH2: NC5 | FI2: NC4 | FJ2: NC6 | FK2: NC7 | FL2: NC8 | FM2: NC8
A3: 45218
A4: POTENCIA ACTIVA EJECUTADA DE LAS UNIDADES DE GENERACIÓN DEL SEIN (MW) | FD4: CENTRALES NO INTEGRANTES COES | FQ4: HORA | FR4: RESERVA FRÍA
A5: HORA | B5: ELECTROPERU | E5: ENEL PERÚ | U5: CHINANGO | W5: STATKRAFT | AF5: SHOUGESA | AJ5: ENEL PIURA | AM5: ORAZUL | AQ5: TERMOSELVA | AS5: EGEMSA | AT5: EGESUR | AW5: ENGIE | BP5: EGASA | BW5: SAN GABAN | BY5: KALLPA | CG5: FENIX POWER | CJ5: TERMOCHILCA | CL5: PLANTA RESERVA FRIA ETEN | CN5: MINERA CERRO VERDE | CO5: SAMAY I | CS5: CELEPSA | CT5: EMGHUANZA | CU5: HUANCHOR | CV5: INLAND ENERGY | CW5: HUALLAGA | CY5: INFR. Y ENERGÍA DEL PERÚ | DA5: SDF ENERGIA | DC5: AIPSA | DD5: AGROAURORA | DE5: PETRAMAS | DI5: EGEJUNÍN | DM5: SINERSA | DO5: ELÉCTRICA YANAPAMPA | DP5: ELÉCTRICA RIO DOBLE | DQ5: MAJA ENERGÍA | DR5: ATRIA ENERGÍA | DS5: GEPSA | DW5: HIDROCAÑETE | DX5: EGECSAC | DY5: EGERBA | DZ5: AGUA AZUL | EA5: CELEPSA RENOVABLES | EB5: HUAURA POWER GROUP | EC5: EGE SANTA ANA | ED5: LA VIRGEN | EE5: ANDEAN POWER | EF5: AGROINDUSTRIAS SAN JACINTO | EG5: BIOENERGÍA DEL CHIRA | EH5: GENERACIÓN ANDINA | EJ5: INVERSIÓN DE ENERGÍAS RENOVABLES S.A. | EK5: CENTRALES SANTA ROSA S.A.C. | EM5: MAJES ARCUS | EN5: REPARTICION ARCUS | EO5: TACNA SOLAR | EP5: PANA. SOLAR | EQ5: MOQUEGUA FV SOLAR | ER5: COLCA SOLAR | ES5: CEM | ET5: PE TRES HERMANAS | EU5: GR PAINO S.A.C | EV5: GR TARUCA S.A.C | EW5: ENERGIA EOLICA | EY5: TOTAL GENERACIÓN COES | EZ5: IMPORTACIÓN ECUADOR | FA5: TOTAL SEIN | FD5: ELECTRO ORIENTE | FE5: SINERSA | FG5: ANDINO | FH5: AGUA Y E. PERU | FI5: ENOSA | FJ5: SDE PIURA | FK5: ELECTRO ZAÑA | FL5: PETROPERÚ | FN5: TOTAL NO COES | FR5: RESERVA FRÍA TOTAL (MW) | FS5: RESERVA FRÍA TERMOELÉCTRICAS (MW) | FT5: INDISPONIBILIDAD MANTENIMINETO TERMOELÉCTRICAS (MW) | FU5: RESERVA FRÍA MÍNIMA (MW)
B6: MANTARO | C6: RESTITUCION | D6: TUMBES | E6: HUINCO | F6: MATUCANA | G6: CALLAHUANCA | H6: MOYOPAMPA | I6: HUAMPANI | J6: HER 1 | K6: STAROSA TG7 | L6: STAROSA TG8 | M6: UTI_5 | N6: UTI_6 | O6: VENTANILLA TG3 | P6: VENTANILLA TG4 | Q6: VENTANILLA TV | R6: C.S. RUBÍ | S6: C.S. CLEMESÍ | T6: WAYRA I | U6: CHIMAY | V6: YANANGO | W6: CHEVES | X6: YAUPI | Y6: MALPASO | Z6: OROYA | AA6: PACHACHACA | AB6: CAHUA | AC6: ARCATA | AD6: PARIAC | AE6: GALLITO CIEGO | AF6: SHOUGESA TV1 | AG6: SHOUGESA TV2 | AH6: SHOUGESA TV3 | AI6: SHOUGESA CUMMINS | AJ6: MALACAS1 TG 6 | AK6: MALACAS2 TG4 | AL6: MALACAS3 TG 5 | AM6: CAÑON DEL PATO | AN6: CARHUAQUERO | AO6: CARHUAQUERO4 | AP6: CAÑA BRAVA | AQ6: AGUAYTIA TG1 | AR6: AGUAYTIA TG2 | AS6: MACHUPICCHU | AT6: ARICOTA I | AU6: ARICOTA II | AV6: INDEPENDENCIA | AW6: YUNCAN | AX6: ILO2 TV CARB1 | AY6: RF ILO2 TG1 | AZ6: RF ILO2 TG2 | BA6: RF ILO2 TG3 | BB6: NEPI TG41 | BC6: NEPI TG42 | BD6: NEPI TG43 | BE6: CHILCA1 TG1 | BF6: CHILCA1 TG2 | BG6: CHILCA1 TG3 | BH6: CHILCA 1 TV | BI6: CHILCA2 TG4 | BJ6: CHILCA2 TV | BK6: INTIPAMPA | BL6: PUNTA LOMITAS-I | BM6: PUNTA LOMITAS-II | BN6: P LOMITAS_EXP-BL1 | BO6: P LOMITAS_EXP-BL2 | BP6: CHARCANI I,II,III | BQ6: CHARCANI IV | BR6: CHARCANI V | BS6: CHARCANI VI | BT6: CHILINA TG | BU6: MOLLENDO 1, 2, 3 | BV6: CHILINA (SULZ 1,2) | BW6: SAN GABAN II | BX6: MCH TUPURI | BY6: KALLPA TG1 | BZ6: KALLPA TG2 | CA6: KALLPA TG3 | CB6: KALLPA TV | CC6: LFLORES TG1 | CD6: LFLORES TV | CE6: CERRO DEL ÁGUILA | CF6: PCH CERRO DELÁGUILA | CG6: FENIX GT11 | CH6: FENIX GT12 | CI6: FENIX TV10 | CJ6: OLLEROS TG1 | CK6: OLLEROS TV | CL6: ETEN TG1 | CM6: ETEN TG2 | CN6: RECKA TG1 | CO6: P BRV TG1 | CP6: P BVR TG2 | CQ6: P BRV TG3 | CR6: P BRV TG4 | CS6: PLATANAL | CT6: HUANZA | CU6: HUANCHOR | CV6: SANTA TERESA | CW6: PCH CHAGLLA | CX6: CHAGLLA | CY6: RF PUCALLPA | CZ6: RF PTO MALDONADO | DA6: OQUENDO TG1 | DB6: OQUENDO TV1 | DC6: PARAMONGA | DD6: MAPLE | DE6: HUAYCOLORO | DF6: LA GRINGA V | DG6: DOÑA CATALINA | DH6: CALLAO | DI6: STACRUZ_1_2 | DJ6: HUASAHUASI I y II | DK6: RUNATULLO II | DL6: RUNATULLO III | DM6: POECHOS2 | DN6: CHANCAY | DO6: YANAPAMPA | DP6: PIZARRAS | DQ6: RONCADOR | DR6: PURMACANA | DS6: LA JOYA | DT6: ÁNGEL I | DU6: ÁNGEL II | DV6: ÁNGEL III | DW6: IMPERIAL | DX6: CANCHAYLLO | DY6: RUCUY | DZ6: POTRERO | EA6: MARAÑÓN | EB6: YARUCAYA | EC6: RENOVANDES | ED6: LA VIRGEN | EE6: CARHUAC | EF6: SAN JACNTO | EG6: C.T. CAÑA BRAVA | EH6: 8 DE AGOSTO | EI6: EL CARMEN | EJ6: MANTA I | EK6: SANTA ROSA I | EL6: SANTA ROSA II | EM6: MAJES | EN6: REPARTICION | EO6: TACNA SOLAR | EP6: PANAMERICANA SOLAR | EQ6: MOQUEGUA | ER6: C.S. YARUCAYA | ES6: PQE-EOLICO MARCONA | ET6: PQE-EOLICO TRES HERMANAS | EU6: HUAMBOS | EV6: DUNA | EW6: TALARA | EX6: PQE-EOLICO CUPISNIQUE | EY6: MW | EZ6: MW | FA6: MW | FD6: CENTRALES ELOR | FE6: CURUMUY | FF6: POECHOS 1 | FG6: CARPAPATA | FH6: PIAS1 | FI6: TABLAZO | FJ6: TALLANCA | FK6: ZAÑA | FL6: RTALARA G1 | FM6: RTALARA G2 | FN6: MW | FV6: GPS
A7: 00:30 | B7: 499.2 | C7: 158.9 | E7: 93.5 | F7: 91.2 | G7: 66.6 | H7: 68.2 | I7: 25.8 | J7: 0.4 | O7: 143.5 | P7: 146.1 | Q7: 147.5 | R7: 0 | S7: 0 | T7: 0 | U7: 74.1 | V7: 25.7 | W7: 56.241 | X7: 106.9 | Y7: 28.715 | Z7: 8.4 | AB7: 43.98 | AC7: 3.189 | AD7: 3.49 | AK7: 84.8 | AM7: 141.5 | AN7: 51.9 | AO7: 10 | AP7: 4.1 | AR7: 60.8 | AS7: 115.3 | AT7: 7.5 | AV7: 22.6 | AW7: 101 | BE7: 170.4 | BF7: 168.9 | BG7: 188.7 | BH7: 268.5 | BI7: 74 | BJ7: 35.7 | BK7: 0 | BL7: 0.3 | BM7: 3.8 | BN7: 0.2 | BO7: 0 | BP7: 6.8 | BQ7: 10.5 | BR7: 56.4 | BW7: 46.5 | BY7: 180.7 | BZ7: 196.5 | CA7: 201.7 | CB7: 292.1 | CC7: 203.9 | CD7: 105.7 | CE7: 250.8 | CF7: 3.5 | CG7: 186.1 | CH7: 186 | CI7: 186.9 | CJ7: 186.6 | CK7: 101.2 | CS7: 33.4 | CT7: 0 | CU7: 15.9 | CV7: 57.1 | CW7: 6.5 | CX7: 0 | DA7: 29.3 | DC7: 16 | DD7: 14.6 | DE7: 3 | DF7: 1.6 | DG7: 1.1 | DH7: 2.1 | DI7: 7.8 | DJ7: 12 | DK7: 7.5 | DL7: 9.7 | DM7: 5.9 | DN7: 18.6 | DO7: 3.6 | DP7: 5.9 | DQ7: 3.5 | DR7: 0.6 | DS7: 3.5 | DT7: 3.4 | DU7: 4.6 | DV7: 4.8 | DW7: 3.5 | DX7: 2.6 | DY7: 15.3 | DZ7: 10.2 | EA7: 19.7 | EB7: 16.9 | EC7: 20.6 | ED7: 45.2 | EE7: 9.1 | EF7: 7.79 | EG7: 9.6 | EH7: 19.6 | EI7: 5.8 | EJ7: 9.9 | EK7: 0.5 | EL7: 1.1 | EM7: 0 | EN7: 0 | EO7: 0 | EP7: 0 | EQ7: 0 | ER7: 0 | ES7: 5.3 | ET7: 5.2 | EU7: 8.7 | EV7: 13.5 | EW7: 24.4 | EX7: 48.9 | EY7: 6278.905 | EZ7: 0 | FA7: 6278.905 | FD7: 0 | FE7: 3.9 | FF7: 5.9 | FG7: 9.9545 | FH7: 4.517 | FI7: 27.74852 | FJ7: 10.73158 | FK7: 7.5 | FM7: 42.8 | FN7: 113.0516 | FQ7: 0.020833333 | FR7: =[1]DESPACHO!B63 -> 2327.828 | FS7: =[1]DESPACHO!C63 -> 2327.828 | FT7: =[1]DESPACHO!D63 -> 656.85612 | FU7: =[1]DESPACHO!E63 -> 631.7173
A8: 01:00 | B8: 496.6 | C8: 162.3 | E8: 83.3 | F8: 71.7 | G8: 67.6 | H8: 64.5 | I8: 25.3 | J8: 0.4 | O8: 144.3 | P8: 147 | Q8: 148.6 | R8: 0 | S8: 0 | T8: 0 | U8: 72.3 | V8: 25.9 | W8: 37.527 | X8: 104.214 | Y8: 18.985 | Z8: 8.4 | AB8: 42.65 | AC8: 3.192 | AD8: 3.49 | AK8: 85.2 | AM8: 115.8 | AN8: 49.5 | AO8: 10 | AP8: 4 | AR8: 60.1 | AS8: 111.3 | AT8: 7 | AV8: 22.7 | AW8: 99.5 | BE8: 171.9 | BF8: 170.5 | BG8: 189.5 | BH8: 269.3 | BI8: 74.8 | BJ8: 35.9 | BK8: 0 | BL8: 2.9 | BM8: 7.2 | BN8: 0 | BO8: 0 | BP8: 6.8 | BQ8: 9.9 | BR8: 55.2 | BW8: 45.5 | BY8: 182.2 | BZ8: 198.1 | CA8: 202.9 | CB8: 293.8 | CC8: 204.4 | CD8: 105.1 | CE8: 245.5 | CF8: 3.3 | CG8: 182.3 | CH8: 182.9 | CI8: 186.5 | CJ8: 187.1 | CK8: 101.1 | CS8: 48.6 | CT8: 0 | CU8: 15.9 | CV8: 56.3 | CW8: 6.5 | CX8: 0 | DA8: 29.3 | DC8: 16.6 | DD8: 14.6 | DE8: 3 | DF8: 1.6 | DG8: 1.1 | DH8: 2.1 | DI8: 8.2 | DJ8: 12 | DK8: 7.4 | DL8: 9.4 | DM8: 5.5 | DN8: 18.5 | DO8: 3.7 | DP8: 6 | DQ8: 3.3 | DR8: 0.6 | DS8: 3.5 | DT8: 3.4 | DU8: 4.6 | DV8: 4.8 | DW8: 3.5 | DX8: 2.6 | DY8: 15.2 | DZ8: 10.2 | EA8: 19.7 | EB8: 16.9 | EC8: 20.4 | ED8: 43.3 | EE8: 3.1 | EF8: 7.88 | EG8: 9.8 | EH8: 19.6 | EI8: 5.8 | EJ8: 9.9 | EK8: 0.6 | EL8: 1.1 | EM8: 0 | EN8: 0 | EO8: 0 | EP8: 0 | EQ8: 0 | ER8: 0 | ES8: 4.9 | ET8: 6.6 | EU8: 10.1 | EV8: 15.3 | EW8: 20.3 | EX8: 37.3 | EY8: 6178.538 | EZ8: 0 | FA8: 6178.538 | FD8: 0 | FE8: 4 | FF8: 5.9 | FG8: 9.72484 | FH8: 4.515 | FI8: 27.72238 | FJ8: 18.9064 | FK8: 7.5 | FM8: 43.1 | FN8: 121.36862 | FQ8: 0.041666667 | FR8: =[1]DESPACHO!B64 -> 2327.828 | FS8: =[1]DESPACHO!C64 -> 2327.828 | FT8: =[1]DESPACHO!D64 -> 656.85612 | FU8: =[1]DESPACHO!E64 -> 616.41531
A9: 01:30 | B9: 492.1 | C9: 161 | E9: 62.7 | F9: 64.2 | G9: 68.9 | H9: 63.3 | I9: 25.6 | J9: 0.4 | O9: 144.4 | P9: 147 | Q9: 148.1 | R9: 0 | S9: 0 | T9: 0 | U9: 71.4 | V9: 24.8 | W9: 18.047 | X9: 105.583 | Y9: 13.054 | Z9: 8.3 | AB9: 42.44 | AC9: 3.192 | AD9: 3.49 | AK9: 84.8 | AM9: 91.7 | AN9: 47.4 | AO9: 10 | AP9: 4 | AR9: 58.3 | AS9: 109.9 | AT9: 6.7 | AV9: 22.6 | AW9: 98.3 | BE9: 171.5 | BF9: 170.1 | BG9: 188.5 | BH9: 268.5 | BI9: 74.7 | BJ9: 35.8 | BK9: 0 | BL9: 2.4 | BM9: 7.7 | BN9: 0 | BO9: 0 | BP9: 6.8 | BQ9: 9.9 | BR9: 54.1 | BW9: 44.8 | BY9: 182.4 | BZ9: 198.3 | CA9: 203.1 | CB9: 293 | CC9: 205.2 | CD9: 106.3 | CE9: 219.6 | CF9: 3.3 | CG9: 179.6 | CH9: 179.7 | CI9: 186.2 | CJ9: 186.9 | CK9: 101 | CS9: 59.2 | CT9: 0 | CU9: 15.8 | CV9: 55.5 | CW9: 6.5 | CX9: 0 | DA9: 29.3 | DC9: 16 | DD9: 14.1 | DE9: 3 | DF9: 1.5 | DG9: 1.1 | DH9: 2.1 | DI9: 7.9 | DJ9: 12 | DK9: 7.3 | DL9: 9.7 | DM9: 5.9 | DN9: 18.5 | DO9: 3.7 | DP9: 6 | DQ9: 3.2 | DR9: 0.7 | DS9: 3.5 | DT9: 3.2 | DU9: 4.3 | DV9: 4.5 | DW9: 3.5 | DX9: 2.6 | DY9: 15.2 | DZ9: 10.2 | EA9: 19.7 | EB9: 16.9 | EC9: 20.3 | ED9: 44.1 | EE9: 3 | EF9: 8.59 | EG9: 9.7 | EH9: 19.2 | EI9: 5.8 | EJ9: 9.9 | EK9: 0.6 | EL9: 1.1 | EM9: 0 | EN9: 0 | EO9: 0 | EP9: 0 | EQ9: 0 | ER9: 0 | ES9: 3.9 | ET9: 8.3 | EU9: 6.4 | EV9: 11.4 | EW9: 22.7 | EX9: 22.2 | EY9: 6040.896 | EZ9: 0 | FA9: 6040.896 | FD9: 0 | FE9: 4 | FF9: 5.8 | FG9: 10.10784 | FH9: 4.514 | FI9: 27.7991 | FJ9: 18.90668 | FK9: 7.5 | FM9: 43.19 | FN9: 121.81762 | FQ9: 0.0625 | FR9: =[1]DESPACHO!B65 -> 2327.828 | FS9: =[1]DESPACHO!C65 -> 2327.828 | FT9: =[1]DESPACHO!D65 -> 656.85612 | FU9: =[1]DESPACHO!E65 -> 609.45684
A10: 02:00 | B10: 494.1 | C10: 159 | E10: 26.6 | F10: 64.7 | G10: 67.8 | H10: 65.4 | I10: 25.8 | J10: 0.3 | O10: 144.2 | P10: 147 | Q10: 146.4 | R10: 0 | S10: 0 | T10: 0 | U10: 72.2 | V10: 26.9 | W10: 19.015 | X10: 104.04 | Y10: 11.725 | Z10: 8.2 | AB10: 42.75 | AC10: 3.191 | AD10: 3.505 | AK10: 85 | AM10: 95.2 | AN10: 49.7 | AO10: 9.9 | AP10: 4.1 | AR10: 60.1 | AS10: 113.9 | AT10: 7 | AV10: 22.6 | AW10: 99.4 | BE10: 172.2 | BF10: 170.6 | BG10: 190 | BH10: 269.4 | BI10: 74.8 | BJ10: 36 | BK10: 0 | BL10: 6.3 | BM10: 13.2 | BN10: 0.5 | BO10: 0 | BP10: 6.8 | BQ10: 9.9 | BR10: 54.9 | BW10: 45.3 | BY10: 182.3 | BZ10: 198.1 | CA10: 203.7 | CB10: 294.2 | CC10: 203.8 | CD10: 106.3 | CE10: 145.8 | CF10: 3.4 | CG10: 182.4 | CH10: 182.8 | CI10: 185.2 | CJ10: 187.5 | CK10: 101.2 | CS10: 40 | CT10: 0 | CU10: 15.9 | CV10: 55.6 | CW10: 6.5 | CX10: 0 | DA10: 29.3 | DC10: 16 | DD10: 14.5 | DE10: 3 | DF10: 1.5 | DG10: 1.1 | DH10: 2.1 | DI10: 7.9 | DJ10: 12 | DK10: 7.3 | DL10: 9.3 | DM10: 5.9 | DN10: 18.5 | DO10: 3.7 | DP10: 6 | DQ10: 3.2 | DR10: 0.7 | DS10: 3.5 | DT10: 3.2 | DU10: 4.3 | DV10: 4.5 | DW10: 3.5 | DX10: 2.6 | DY10: 15.2 | DZ10: 10.2 | EA10: 19.7 | EB10: 16.9 | EC10: 20.4 | ED10: 44.6 | EE10: 3 | EF10: 7.86 | EG10: 9.9 | EH10: 19 | EI10: 5.6 | EJ10: 10.9 | EK10: 0.6 | EL10: 1.1 | EM10: 0 | EN10: 0 | EO10: 0 | EP10: 0 | EQ10: 0 | ER10: 0 | ES10: 5.6 | ET10: 14.2 | EU10: 4.8 | EV10: 7.8 | EW10: 23.4 | EX10: 16.2 | EY10: 5944.886 | EZ10: 0 | FA10: 5944.886 | FD10: 0 | FE10: 4 | FF10: 5.8 | FG10: 10.41838 | FH10: 4.512 | FI10: 27.76814 | FJ10: 18.90655 | FK10: 7.5 | FM10: 42.83 | FN10: 121.73507 | FQ10: 0.083333333 | FR10: =[1]DESPACHO!B66 -> 2327.828 | FS10: =[1]DESPACHO!C66 -> 2327.828 | FT10: =[1]DESPACHO!D66 -> 656.85612 | FU10: =[1]DESPACHO!E66 -> 603.48356
A11: 02:30 | B11: 492.4 | C11: 159.1 | E11: 18.6 | F11: 57.5 | G11: 65.4 | H11: 64.4 | I11: 27 | J11: 0.4 | O11: 144.3 | P11: 146.9 | Q11: 146.5 | R11: 0 | S11: 0 | T11: 0 | U11: 71.9 | V11: 25.4 | W11: 22.093 | X11: 105.013 | Y11: 11.497 | Z11: 8.2 | AB11: 42.41 | AC11: 3.195 | AD11: 3.508 | AK11: 81.8 | AM11: 88.2 | AN11: 20.9 | AO11: 9.9 | AP11: 3.5 | AR11: 58.6 | AS11: 109.4 | AT11: 6.8 | AV11: 22.7 | AW11: 99.5 | BE11: 172.1 | BF11: 170.4 | BG11: 188.8 | BH11: 269 | BI11: 74.3 | BJ11: 36 | BK11: 0 | BL11: 13.1 | BM11: 19.6 | BN11: 0.9 | BO11: 0.7 | BP11: 6.8 | BQ11: 9.9 | BR11: 54.4 | BW11: 44.6 | BY11: 182.7 | BZ11: 198.1 | CA11: 200.8 | CB11: 293.5 | CC11: 204.1 | CD11: 106.6 | CE11: 152 | CF11: 3.2 | CG11: 180.3 | CH11: 180.5 | CI11: 186.1 | CJ11: 186.6 | CK11: 101.3 | CS11: 40.1 | CT11: 0 | CU11: 15.8 | CV11: 56.1 | CW11: 6.5 | CX11: 0 | DA11: 29.4 | DC11: 16.1 | DD11: 14.2 | DE11: 3 | DF11: 1.5 | DG11: 1.1 | DH11: 2.1 | DI11: 7.8 | DJ11: 12 | DK11: 7.3 | DL11: 9.3 | DM11: 5.8 | DN11: 18.4 | DO11: 3.7 | DP11: 6 | DQ11: 3 | DR11: 0.7 | DS11: 3.5 | DT11: 3.1 | DU11: 4 | DV11: 4.2 | DW11: 3.5 | DX11: 2.6 | DY11: 15 | DZ11: 10.2 | EA11: 19.7 | EB11: 16.9 | EC11: 20.2 | ED11: 44.1 | EE11: 2.9 | EF11: 7.92 | EG11: 10 | EH11: 18.5 | EI11: 5.6 | EJ11: 11.1 | EK11: 0.6 | EL11: 1.1 | EM11: 0 | EN11: 0 | EO11: 0 | EP11: 0 | EQ11: 0 | ER11: 0 | ES11: 8.7 | ET11: 27.1 | EU11: 7.2 | EV11: 11.9 | EW11: 22.5 | EX11: 15.4 | EY11: 5910.836 | EZ11: 0 | FA11: 5910.836 | FD11: 0 | FE11: 4 | FF11: 6 | FG11: 11.05186 | FH11: 4.512 | FI11: 27.74333 | FJ11: 18.90698 | FK11: 7.5 | FM11: 42.99 | FN11: 122.70417 | FQ11: 0.10416667 | FR11: =[1]DESPACHO!B67 -> 2327.828 | FS11: =[1]DESPACHO!C67 -> 2327.828 | FT11: =[1]DESPACHO!D67 -> 656.85612 | FU11: =[1]DESPACHO!E67 -> 600.62306
A12: 03:00 | B12: 399.3 | C12: 125.2 | E12: 26.7 | F12: 75 | G12: 66 | H12: 64.9 | I12: 27.5 | J12: 0.6 | O12: 144.6 | P12: 146.9 | Q12: 146.4 | R12: 0 | S12: 0 | T12: 0 | U12: 72.9 | V12: 28.1 | W12: 63.407 | X12: 105.223 | Y12: 16.909 | Z12: 8.2 | AB12: 42.91 | AC12: 3.315 | AD12: 3.518 | AK12: 87.1 | AM12: 96.2 | AN12: 22 | AO12: 9.9 | AP12: 1.8 | AR12: 61.9 | AS12: 112.5 | AT12: 7.2 | AV12: 22.7 | AW12: 100.5 | BE12: 172.1 | BF12: 170.8 | BG12: 189.4 | BH12: 269.6 | BI12: 74.5 | BJ12: 36 | BK12: 0 | BL12: 15.9 | BM12: 21.7 | BN12: 2.1 | BO12: 1.2 | BP12: 6.9 | BQ12: 9.9 | BR12: 55.5 | BW12: 46.1 | BY12: 182.4 | BZ12: 197.6 | CA12: 200.7 | CB12: 293.2 | CC12: 203.9 | CD12: 106.7 | CE12: 159.1 | CF12: 3.5 | CG12: 184.6 | CH12: 184.9 | CI12: 186.7 | CJ12: 187.1 | CK12: 101 | CS12: 57.7 | CT12: 0 | CU12: 15.9 | CV12: 56.4 | CW12: 6.5 | CX12: 0 | DA12: 29.3 | DC12: 16 | DD12: 14.1 | DE12: 3 | DF12: 1.5 | DG12: 1.1 | DH12: 2.1 | DI12: 8 | DJ12: 12 | DK12: 7.4 | DL12: 9.9 | DM12: 5.8 | DN12: 18.4 | DO12: 3.7 | DP12: 5.2 | DQ12: 2.9 | DR12: 0.7 | DS12: 3.5 | DT12: 3.1 | DU12: 4 | DV12: 4.2 | DW12: 3.6 | DX12: 2.6 | DY12: 14.7 | DZ12: 9.8 | EA12: 19.7 | EB12: 16.9 | EC12: 20.6 | ED12: 45.2 | EE12: 3 | EF12: 8.45 | EG12: 9.4 | EH12: 18.2 | EI12: 5.4 | EJ12: 10.2 | EK12: 0.6 | EL12: 1.1 | EM12: 0 | EN12: 0 | EO12: 0 | EP12: 0 | EQ12: 0 | ER12: 0 | ES12: 14.4 | ET12: 34.3 | EU12: 9.6 | EV12: 13.7 | EW12: 24.5 | EX12: 12.3 | EY12: 5943.132 | EZ12: 0 | FA12: 5943.132 | FD12: 0 | FE12: 4.1 | FF12: 5.9 | FG12: 10.28899 | FH12: 4.513 | FI12: 27.80017 | FJ12: 18.90701 | FK12: 7.5 | FM12: 42.88 | FN12: 121.88917 | FQ12: 0.125 | FR12: =[1]DESPACHO!B68 -> 2327.828 | FS12: =[1]DESPACHO!C68 -> 2327.828 | FT12: =[1]DESPACHO!D68 -> 656.85612 | FU12: =[1]DESPACHO!E68 -> 598.33029
A13: 03:30 | B13: 397.5 | C13: 125.3 | E13: 26.6 | F13: 79.7 | G13: 66 | H13: 62.9 | I13: 28 | J13: 0.6 | O13: 144 | P13: 146.7 | Q13: 146.1 | R13: 0 | S13: 0 | T13: 6.7 | U13: 73.1 | V13: 26.7 | W13: 57.048 | X13: 105.546 | Y13: 14.268 | Z13: 8 | AB13: 43.16 | AC13: 3.308 | AD13: 3.517 | AK13: 86.9 | AM13: 97.1 | AN13: 22.4 | AO13: 10 | AP13: 2 | AR13: 60.8 | AS13: 111.8 | AT13: 7.2 | AV13: 22.6 | AW13: 100.4 | BE13: 171.4 | BF13: 169.9 | BG13: 188.1 | BH13: 269 | BI13: 74.1 | BJ13: 36 | BK13: 0 | BL13: 19.3 | BM13: 26.4 | BN13: 2 | BO13: 2.8 | BP13: 6.8 | BQ13: 9.9 | BR13: 55.8 | BW13: 46 | BY13: 181.9 | BZ13: 197.3 | CA13: 200.4 | CB13: 292.8 | CC13: 204.9 | CD13: 106.1 | CE13: 108.9 | CF13: 3.5 | CG13: 184.4 | CH13: 184.6 | CI13: 186.1 | CJ13: 186.3 | CK13: 101.2 | CS13: 100.1 | CT13: 0 | CU13: 15.9 | CV13: 55.9 | CW13: 6.5 | CX13: 0 | DA13: 29.4 | DC13: 16 | DD13: 14.1 | DE13: 3 | DF13: 1.6 | DG13: 1.1 | DH13: 2.1 | DI13: 8.1 | DJ13: 12 | DK13: 7.3 | DL13: 11.1 | DM13: 5.8 | DN13: 18.2 | DO13: 3.7 | DP13: 5.2 | DQ13: 3.1 | DR13: 0.7 | DS13: 3.5 | DT13: 3.2 | DU13: 4 | DV13: 4.2 | DW13: 3.6 | DX13: 2.6 | DY13: 14.2 | DZ13: 9.8 | EA13: 19.7 | EB13: 16.9 | EC13: 20.5 | ED13: 46.9 | EE13: 3 | EF13: 9.59 | EG13: 9.2 | EH13: 18.2 | EI13: 5.2 | EJ13: 10 | EK13: 0.7 | EL13: 1.1 | EM13: 0 | EN13: 0 | EO13: 0 | EP13: 0 | EQ13: 0 | ER13: 0 | ES13: 15.3 | ET13: 43.5 | EU13: 10.2 | EV13: 14.3 | EW13: 25.4 | EX13: 13.6 | EY13: 5951.137 | EZ13: 0 | FA13: 5951.137 | FD13: 0 | FE13: 4.1 | FF13: 5.9 | FG13: 10.3646 | FH13: 4.515 | FI13: 27.86332 | FJ13: 18.90697 | FK13: 7.5 | FM13: 43.04 | FN13: 122.18989 | FQ13: 0.14583333 | FR13: =[1]DESPACHO!B69 -> 2327.828 | FS13: =[1]DESPACHO!C69 -> 2327.828 | FT13: =[1]DESPACHO!D69 -> 656.85612 | FU13: =[1]DESPACHO!E69 -> 595.72387
A14: 04:00 | B14: 395 | C14: 126.3 | E14: 21 | F14: 74.8 | G14: 65.7 | H14: 62.7 | I14: 28.4 | J14: 0.6 | O14: 145.5 | P14: 147.7 | Q14: 148.3 | R14: 0 | S14: 0 | T14: 43.2 | U14: 74.7 | V14: 27.5 | W14: 39.431 | X14: 104.682 | Y14: 13.848 | Z14: 8.2 | AB14: 42.29 | AC14: 3.317 | AD14: 3.525 | AK14: 87.5 | AM14: 100.4 | AN14: 11.5 | AO14: 10 | AP14: 1.5 | AR14: 62.6 | AS14: 105.8 | AT14: 5.8 | AV14: 22.6 | AW14: 100.1 | BE14: 172.8 | BF14: 171.3 | BG14: 191 | BH14: 270.3 | BI14: 74.8 | BJ14: 36.1 | BK14: 0 | BL14: 26.4 | BM14: 30.1 | BN14: 4.3 | BO14: 0.9 | BP14: 6.9 | BQ14: 9.9 | BR14: 55.6 | BW14: 45.2 | BY14: 184.4 | BZ14: 198.5 | CA14: 204.3 | CB14: 294.4 | CC14: 204.1 | CD14: 106.5 | CE14: 97.3 | CF14: 3.4 | CG14: 186.3 | CH14: 186.4 | CI14: 186.3 | CJ14: 188.1 | CK14: 101.6 | CS14: 88.4 | CT14: 0 | CU14: 15.9 | CV14: 56.8 | CW14: 6.5 | CX14: 0 | DA14: 29.4 | DC14: 16 | DD14: 14.1 | DE14: 3 | DF14: 1.6 | DG14: 1.1 | DH14: 2.1 | DI14: 8.1 | DJ14: 12 | DK14: 7.5 | DL14: 11.1 | DM14: 5.9 | DN14: 18.2 | DO14: 3.7 | DP14: 5.2 | DQ14: 3 | DR14: 0.7 | DS14: 3.5 | DT14: 3.3 | DU14: 4.3 | DV14: 4.5 | DW14: 3.6 | DX14: 2.6 | DY14: 14.2 | DZ14: 10 | EA14: 19.7 | EB14: 16.9 | EC14: 20.4 | ED14: 44 | EE14: 0.1 | EF14: 9.16 | EG14: 9.7 | EH14: 17.8 | EI14: 5.2 | EJ14: 10 | EK14: 0.7 | EL14: 1.1 | EM14: 0 | EN14: 0 | EO14: 0 | EP14: 0 | EQ14: 0 | ER14: 0 | ES14: 16.1 | ET14: 49.5 | EU14: 8 | EV14: 13.5 | EW14: 24 | EX14: 16.9 | EY14: 5960.753 | EZ14: 0 | FA14: 5960.753 | FD14: 0 | FE14: 4.1 | FF14: 5.9 | FG14: 10.36771 | FH14: 4.512 | FI14: 27.83225 | FJ14: 18.90641 | FK14: 7.5 | FM14: 43.15 | FN14: 122.26837 | FQ14: 0.16666667 | FR14: =[1]DESPACHO!B70 -> 2327.828 | FS14: =[1]DESPACHO!C70 -> 2327.828 | FT14: =[1]DESPACHO!D70 -> 656.85612 | FU14: =[1]DESPACHO!E70 -> 595.12109
A15: 04:30 | B15: 397.4 | C15: 123.3 | E15: 20.7 | F15: 73.6 | G15: 62.2 | H15: 63.3 | I15: 28.8 | J15: 0.6 | O15: 144.5 | P15: 147.1 | Q15: 147.8 | R15: 0 | S15: 0 | T15: 69.3 | U15: 73.5 | V15: 29 | W15: 80.744 | X15: 106.017 | Y15: 14.189 | Z15: 8.1 | AB15: 43.75 | AC15: 3.31 | AD15: 3.522 | AK15: 86.8 | AM15: 136.5 | AN15: 11.1 | AO15: 9.9 | AP15: 0.9 | AR15: 60.4 | AS15: 110.4 | AT15: 6.9 | AV15: 22.6 | AW15: 101.1 | BE15: 170.8 | BF15: 169.8 | BG15: 189 | BH15: 269.2 | BI15: 74.3 | BJ15: 35.9 | BK15: 0 | BL15: 24.2 | BM15: 24 | BN15: 4.6 | BO15: 2.9 | BP15: 6.8 | BQ15: 9.9 | BR15: 54.8 | BW15: 46.9 | BY15: 182.6 | BZ15: 198.6 | CA15: 203.7 | CB15: 294.7 | CC15: 203.6 | CD15: 105.9 | CE15: 65.7 | CF15: 3.5 | CG15: 186.6 | CH15: 186.6 | CI15: 185.1 | CJ15: 186.6 | CK15: 101 | CS15: 30.2 | CT15: 0 | CU15: 15.9 | CV15: 57 | CW15: 6.5 | CX15: 0 | DA15: 29.4 | DC15: 15.7 | DD15: 14.1 | DE15: 3 | DF15: 1.6 | DG15: 1.1 | DH15: 2.1 | DI15: 8 | DJ15: 12 | DK15: 7.5 | DL15: 11.1 | DM15: 5.9 | DN15: 18.2 | DO15: 3.7 | DP15: 5.2 | DQ15: 3.1 | DR15: 0.9 | DS15: 3.5 | DT15: 3.5 | DU15: 4.6 | DV15: 4.5 | DW15: 3.6 | DX15: 2.6 | DY15: 14.3 | DZ15: 10 | EA15: 19.6 | EB15: 16.9 | EC15: 20.9 | ED15: 44 | EE15: 0 | EF15: 7.3 | EG15: 9.3 | EH15: 17.4 | EI15: 5.2 | EJ15: 10 | EK15: 0.7 | EL15: 1.2 | EM15: 0 | EN15: 0 | EO15: 0 | EP15: 0 | EQ15: 0 | ER15: 0 | ES15: 16.6 | ET15: 51.2 | EU15: 7.8 | EV15: 14.9 | EW15: 19.3 | EX15: 20 | EY15: 5955.732 | EZ15: 0 | FA15: 5955.732 | FD15: 0 | FE15: 4 | FF15: 5.8 | FG15: 10.20692 | FH15: 4.511 | FI15: 27.90195 | FJ15: 18.90609 | FK15: 7.5 | FM15: 43.12 | FN15: 121.94596 | FQ15: 0.1875 | FR15: =[1]DESPACHO!B71 -> 2327.828 | FS15: =[1]DESPACHO!C71 -> 2327.828 | FT15: =[1]DESPACHO!D71 -> 656.85612 | FU15: =[1]DESPACHO!E71 -> 601.44412
A16: 05:00 | B16: 397.3 | C16: 126.4 | E16: 19.3 | F16: 72.3 | G16: 61.8 | H16: 62.6 | I16: 30.1 | J16: 0.6 | O16: 145 | P16: 147.6 | Q16: 148 | R16: 0 | S16: 0 | T16: 94.3 | U16: 72.4 | V16: 27.6 | W16: 78.961 | X16: 104.92 | Y16: 13.938 | Z16: 8.1 | AB16: 43.02 | AC16: 3.311 | AD16: 3.52 | AK16: 87 | AM16: 107.2 | AN16: 10.6 | AO16: 10 | AP16: 1.1 | AR16: 58.7 | AS16: 106.3 | AT16: 6.9 | AV16: 18 | AW16: 100.2 | BE16: 171.2 | BF16: 170.3 | BG16: 189.1 | BH16: 269.5 | BI16: 74.6 | BJ16: 36 | BK16: 0 | BL16: 26.6 | BM16: 25.8 | BN16: 2.2 | BO16: 2.5 | BP16: 6.9 | BQ16: 9.9 | BR16: 54.8 | BW16: 46.1 | BY16: 182.7 | BZ16: 198.4 | CA16: 203.9 | CB16: 294.5 | CC16: 204.7 | CD16: 106.1 | CE16: 138.4 | CF16: 3.4 | CG16: 182.6 | CH16: 182.8 | CI16: 186.7 | CJ16: 186.8 | CK16: 101.1 | CS16: 73.8 | CT16: 0 | CU16: 15.8 | CV16: 57 | CW16: 6.5 | CX16: 0 | DA16: 29.5 | DC16: 15.7 | DD16: 13.4 | DE16: 3 | DF16: 1.6 | DG16: 1.1 | DH16: 2.1 | DI16: 8.1 | DJ16: 12 | DK16: 7.4 | DL16: 11.1 | DM16: 5.9 | DN16: 18.4 | DO16: 3.7 | DP16: 5.2 | DQ16: 3.2 | DR16: 0.9 | DS16: 3.5 | DT16: 3.5 | DU16: 4.6 | DV16: 4.8 | DW16: 3.5 | DX16: 2.6 | DY16: 14.6 | DZ16: 10 | EA16: 19.4 | EB16: 16.9 | EC16: 20.5 | ED16: 44.4 | EE16: 0 | EF16: 8.38 | EG16: 10.5 | EH16: 17 | EI16: 5.2 | EJ16: 10 | EK16: 0.6 | EL16: 1.2 | EM16: 0 | EN16: 0 | EO16: 0 | EP16: 0 | EQ16: 0.1 | ER16: 0 | ES16: 20.2 | ET16: 51.3 | EU16: 8.8 | EV16: 13.6 | EW16: 19.7 | EX16: 22.1 | EY16: 6057.05 | EZ16: 0 | FA16: 6057.05 | FD16: 0 | FE16: 4.1 | FF16: 5.9 | FG16: 10.35475 | FH16: 4.513 | FI16: 27.88542 | FJ16: 18.90597 | FK16: 7.5 | FM16: 42.86 | FN16: 122.01914 | FQ16: 0.20833333 | FR16: =[1]DESPACHO!B72 -> 2327.828 | FS16: =[1]DESPACHO!C72 -> 2327.828 | FT16: =[1]DESPACHO!D72 -> 656.85612 | FU16: =[1]DESPACHO!E72 -> 606.14055
A17: 05:30 | B17: 400.9 | C17: 125.2 | E17: 64.8 | F17: 80.6 | G17: 61.9 | H17: 62.9 | I17: 30.4 | J17: 0.6 | O17: 145.3 | P17: 147.6 | Q17: 147.8 | R17: 1.7 | S17: 1.4 | T17: 111.4 | U17: 72.9 | V17: 28 | W17: 80.782 | X17: 105.68 | Y17: 21.806 | Z17: 8.1 | AB17: 43.32 | AC17: 3.309 | AD17: 3.52 | AK17: 86.9 | AM17: 127.6 | AN17: 11 | AO17: 9.9 | AP17: 1 | AR17: 61.2 | AS17: 111.9 | AT17: 7.5 | AV17: 0 | AW17: 100.5 | BE17: 171.6 | BF17: 170.6 | BG17: 190.2 | BH17: 270.4 | BI17: 74.6 | BJ17: 36.1 | BK17: 0.3 | BL17: 42 | BM17: 38.6 | BN17: 6.2 | BO17: 6.5 | BP17: 6.8 | BQ17: 9.9 | BR17: 55.3 | BW17: 46.6 | BY17: 183.6 | BZ17: 198.7 | CA17: 204 | CB17: 294.3 | CC17: 205.5 | CD17: 106.5 | CE17: 67.9 | CF17: 3.2 | CG17: 175.5 | CH17: 175.2 | CI17: 183 | CJ17: 136.9 | CK17: 83.2 | CS17: 28.1 | CT17: 0 | CU17: 15.9 | CV17: 57.3 | CW17: 6.5 | CX17: 184 | DA17: 29.5 | DC17: 15.5 | DD17: 14.2 | DE17: 3 | DF17: 1.6 | DG17: 1.1 | DH17: 2.1 | DI17: 8 | DJ17: 12 | DK17: 7.5 | DL17: 11.4 | DM17: 5.8 | DN17: 18.2 | DO17: 3.7 | DP17: 5.2 | DQ17: 3.2 | DR17: 0.9 | DS17: 3.5 | DT17: 3.6 | DU17: 4.7 | DV17: 5 | DW17: 3.5 | DX17: 2.5 | DY17: 14.2 | DZ17: 10 | EA17: 19.3 | EB17: 16.9 | EC17: 20.8 | ED17: 44 | EE17: 0 | EF17: 8.02 | EG17: 10.1 | EH17: 16.8 | EI17: 5 | EJ17: 9.9 | EK17: 0.6 | EL17: 1.2 | EM17: 0 | EN17: 0 | EO17: 1.8 | EP17: 1.5 | EQ17: 1.4 | ER17: 0 | ES17: 20.9 | ET17: 59.6 | EU17: 7.6 | EV17: 13.8 | EW17: 21.3 | EX17: 28.8 | EY17: 6201.637 | EZ17: 0 | FA17: 6201.637 | FD17: 0 | FE17: 4.1 | FF17: 5.9 | FG17: 10.25986 | FH17: 4.514 | FI17: 27.86178 | FJ17: 18.90587 | FK17: 7.5 | FM17: 42.8 | FN17: 121.84151 | FQ17: 0.22916667 | FR17: =[1]DESPACHO!B73 -> 2327.828 | FS17: =[1]DESPACHO!C73 -> 2327.828 | FT17: =[1]DESPACHO!D73 -> 662.45241 | FU17: =[1]DESPACHO!E73 -> 616.94147
A18: 06:00 | B18: 494.8 | C18: 159.6 | E18: 120.5 | F18: 75.4 | G18: 59.1 | H18: 62.9 | I18: 30.2 | J18: 0.6 | O18: 145.5 | P18: 148.2 | Q18: 147.6 | R18: 24 | S18: 14.9 | T18: 112.7 | U18: 72.9 | V18: 26.7 | W18: 79.974 | X18: 105.152 | Y18: 13.943 | Z18: 8.1 | AB18: 43.33 | AC18: 3.3 | AD18: 3.522 | AK18: 87.1 | AM18: 184.2 | AN18: 10.2 | AO18: 10 | AP18: 1.5 | AR18: 60.1 | AS18: 110.7 | AT18: 7.5 | AV18: 0 | AW18: 100.4 | BE18: 171.8 | BF18: 170.8 | BG18: 190.3 | BH18: 270.3 | BI18: 74.7 | BJ18: 36.1 | BK18: 5 | BL18: 48.5 | BM18: 41.2 | BN18: 6.5 | BO18: 6.9 | BP18: 6.8 | BQ18: 9.9 | BR18: 55.4 | BW18: 46.3 | BY18: 183.6 | BZ18: 198.2 | CA18: 203.7 | CB18: 294.9 | CC18: 203.7 | CD18: 106.9 | CE18: 106.5 | CF18: 3.4 | CG18: 123.7 | CH18: 123.9 | CI18: 153.6 | CJ18: 136.2 | CK18: 81.5 | CS18: 20.3 | CT18: 0 | CU18: 15.9 | CV18: 57 | CW18: 6.5 | CX18: 8.7 | DA18: 29.4 | DC18: 15.5 | DD18: 12.9 | DE18: 3 | DF18: 1.6 | DG18: 1.1 | DH18: 2.1 | DI18: 8 | DJ18: 12 | DK18: 7.5 | DL18: 11.3 | DM18: 5.9 | DN18: 18.1 | DO18: 3.7 | DP18: 5.2 | DQ18: 3.1 | DR18: 0.9 | DS18: 3.5 | DT18: 3.6 | DU18: 4.7 | DV18: 5 | DW18: 3.5 | DX18: 2.5 | DY18: 13.6 | DZ18: 10 | EA18: 19.5 | EB18: 16.9 | EC18: 20.8 | ED18: 44 | EE18: 0 | EF18: 6.73 | EG18: 10.6 | EH18: 16.8 | EI18: 5 | EJ18: 10 | EK18: 0.6 | EL18: 1.2 | EM18: 0.2 | EN18: 0.3 | EO18: 7 | EP18: 3.4 | EQ18: 3.7 | ER18: 0 | ES18: 20 | ET18: 55.6 | EU18: 7 | EV18: 12.6 | EW18: 15.4 | EX18: 24.3 | EY18: 6182.651 | EZ18: 0 | FA18: 6182.651 | FD18: 0 | FE18: 4.1 | FF18: 5.9 | FG18: 10.22993 | FH18: 4.513 | FI18: 27.87463 | FJ18: 18.90564 | FK18: 7.5 | FM18: 42.84 | FN18: 121.8632 | FQ18: 0.25 | FR18: =[1]DESPACHO!B74 -> 2344.2029 | FS18: =[1]DESPACHO!C74 -> 2344.2029 | FT18: =[1]DESPACHO!D74 -> 662.45241 | FU18: =[1]DESPACHO!E74 -> 619.95561
... A54: 00:00 | B54: 595.3 | C54: 199.1 | E54: 81.9 | F54: 84.9 | G54: 70.3 | H54: 63.3 | I54: 25.1 | J54: 0.3 | O54: 144.7 | P54: 147.2 | Q54: 148.4 | R54: 0 | S54: 0 | T54: 30.1 | U54: 71.4 | V54: 23.4 | W54: 83.333 | X54: 103.536 | Y54: 14.68 | Z54: 7.9 | AB54: 41.91 | AC54: 3.252 | AD54: 3.743 | AK54: 86 | AM54: 128.1 | AN54: 59.4 | AO54: 10 | AP54: 4.8 | AR54: 0 | AS54: 108 | AT54: 7.1 | AV54: 0 | AW54: 98.2 | BE54: 172.2 | BF54: 171 | BG54: 189.7 | BH54: 269.9 | BI54: 74.7 | BJ54: 35.9 | BK54: 0 | BL54: 39 | BM54: 45.3 | BN54: 6 | BO54: 3.6 | BP54: 6.8 | BQ54: 10.7 | BR54: 49 | BW54: 59.1 | BY54: 182.9 | BZ54: 197.4 | CA54: 201.1 | CB54: 293.7 | CC54: 203.6 | CD54: 104.3 | CE54: 254.4 | CF54: 3.5 | CG54: 115.3 | CH54: 115.7 | CI54: 149.8 | CJ54: 136.8 | CK54: 81.2 | CS54: 26.9 | CT54: 39.4 | CU54: 17.5 | CV54: 55.2 | CW54: 6.4 | CX54: 291.5 | DA54: 29.3 | DC54: 14 | DD54: 13.9 | DE54: 3.2 | DF54: 1.6 | DG54: 1.2 | DH54: 2.1 | DI54: 7 | DJ54: 12.2 | DK54: 7 | DL54: 8.8 | DM54: 6 | DN54: 17.9 | DO54: 3.6 | DP54: 5.8 | DQ54: 3.1 | DR54: 0.6 | DS54: 5.5 | DT54: 3.4 | DU54: 4.6 | DV54: 4.8 | DW54: 3.5 | DX54: 2.5 | DY54: 13.4 | DZ54: 8.4 | EA54: 19.6 | EB54: 16.9 | EC54: 20.4 | ED54: 39.1 | EE54: 11.8 | EF54: 7.51 | EG54: 9.7 | EH54: 21 | EI54: 7.2 | EJ54: 8.8 | EK54: 0.5 | EL54: 0.8 | EM54: 0 | EN54: 0 | EO54: 0 | EP54: 0 | EQ54: 0 | ER54: 0 | ES54: 13.3 | ET54: 37.8 | EU54: 7.9 | EV54: 12.3 | EW54: 17.9 | EX54: 7.4 | EY54: 6498.164 | EZ54: 0 | FA54: 6498.164 | FD54: 4.955 | FE54: 4.8 | FF54: 5.9 | FG54: 21.8634 | FH54: 4.49 | FI54: 27.42839 | FJ54: 18.90802 | FK54: 7.5 | FM54: 43.12 | FN54: 138.96481 | FQ54: 1 | FR54: =[1]DESPACHO!B110 -> 2558.1161 | FS54: =[1]DESPACHO!C110 -> 2558.1161 | FT54: =[1]DESPACHO!D110 -> 448.53919 | FU54: =[1]DESPACHO!E110 -> 651.8438
A55: EJEC | B55: 13148.6 | C55: 4362.4 | D55: 0 | E55: 2620.05 | F55: 1914.35 | G55: 1556.95 | H55: 1542.05 | I55: 665.35 | J55: 11.85 | K55: 0 | L55: 0 | M55: 0 | N55: 0 | O55: 3451.3 | P55: 3512.8 | Q55: 3544.45 | R55: 1201.3 | S55: 850.65 | T55: 1559.6 | U55: 1745.55 | V55: 607.55 | W55: 1706.516 | X55: 2522.2635 | Y55: 483.189 | Z55: 191.1 | AA55: 0 | AB55: 1028.75 | AC55: 77.8585 | AD55: 85.2715 | AE55: 0 | AF55: 0 | AG55: 0 | AH55: 0 | AI55: 0 | AJ55: 0 | AK55: 1825.2 | AL55: 0 | AM55: 4209.25 | AN55: 1169.6 | AO55: 239 | AP55: 91.75 | AQ55: 0 | AR55: 391.9 | AS55: 2542.9 | AT55: 169.55 | AU55: 0 | AV55: 110.85 | AW55: 2304 | AX55: 0 | AY55: 0 | AZ55: 0 | BA55: 0 | BB55: 0 | BC55: 0 | BD55: 0 | BE55: 4097.15 | BF55: 4066.15 | BG55: 4522.4 | BH55: 6434 | BI55: 1782.85 | BJ55: 858.7 | BK55: 353.4 | BL55: 1064.85 | BM55: 876.25 | BN55: 177.9 | BO55: 120.95 | BP55: 163.85 | BQ55: 267.2 | BR55: 1635.45 | BS55: 0 | BT55: 0 | BU55: 0 | BV55: 0 | BW55: 1505.6 | BX55: 0 | BY55: 4353.9 | BZ55: 4714.85 | CA55: 4843.85 | CB55: 7005.55 | CC55: 4893.75 | CD55: 2548.1 | CE55: 4769.5 | CF55: 80.65 | CG55: 4090.75 | CH55: 4098.25 | CI55: 4286.05 | CJ55: 3797.75 | CK55: 2160.3 | CL55: 0 | CM55: 0 | CN55: 0 | CO55: 0 | CP55: 0 | CQ55: 0 | CR55: 0 | CS55: 2052.1 | CT55: 792.65 | CU55: 396.75 | CV55: 1339.6 | CW55: 155.95 | CX55: 6181.9 | CY55: 0 | CZ55: 0 | DA55: 697.3 | DB55: 0 | DC55: 353.6 | DD55: 326.85 | DE55: 71.15 | DF55: 35.75 | DG55: 26.65 | DH55: 49.2 | DI55: 167.9 | DJ55: 277.7 | DK55: 175.2 | DL55: 242.75 | DM55: 142.5 | DN55: 433.8 | DO55: 87.45 | DP55: 138.65 | DQ55: 74.05 | DR55: 23 | DS55: 101.95 | DT55: 84.3 | DU55: 114 | DV55: 118.95 | DW55: 83.5 | DX55: 60.35 | DY55: 331.95 | DZ55: 232.1 | EA55: 472 | EB55: 405.6 | EC55: 494.5 | ED55: 999.35 | EE55: 235.3 | EF55: 185.33 | EG55: 202.95 | EH55: 418.3 | EI55: 126.55 | EJ55: 234.4 | EK55: 13.15 | EL55: 22.5 | EM55: 130.75 | EN55: 128.6 | EO55: 171.1 | EP55: 148.2 | EQ55: 124 | ER55: 8.5 | ES55: 395.15 | ET55: 1221.9 | EU55: 263.9 | EV55: 343.85 | EW55: 527.95 | EX55: 756.6 | EY55: 164413.68 | EZ55: 0 | FA55: 164413.68 | FB55: 0 | FC55: 0 | FD55: 64.8295 | FE55: 94.75 | FF55: 206.1 | FG55: 241.94685 | FH55: 151.54309 | FI55: 654.49195 | FJ55: 449.69136 | FK55: 180 | FL55: 0 | FM55: 1030.54 | FN55: 3073.8928 | FO55: FIN | FQ55: EJEC | FR55: =SUM(FR7:FR54)/2 -> 57073.877 | FS55: =SUM(FS7:FS54)/2 -> 57073.877 | FT55: =SUM(FT7:FT54)/2 -> 14967.807 | FU55: =SUM(FU7:FU54)/2 -> 16458.216
B56: HC | C56: HC | D56: TN | E56: HC | F56: HC | G56: HC | H56: HC | I56: HC | J56: HC | K56: TC | L56: TC | M56: TC | N56: TC | O56: TC | P56: TC | Q56: TC | R56: SS | S56: SS | T56: EC | U56: HC | V56: HC | W56: HC | X56: HC | Y56: HC | Z56: HC | AA56: HC | AB56: HC | AC56: HS | AD56: HN | AE56: HN | AF56: TC | AG56: TC | AH56: TC | AI56: TC | AJ56: TN | AK56: TN | AL56: TN | AM56: HN | AN56: HN | AO56: HN | AP56: HN | AQ56: TC | AR56: TC | AS56: HS | AT56: HS | AU56: HS | AV56: TC | AW56: HC | AX56: TS | AY56: TS | AZ56: TS | BA56: TS | BB56: TS | BC56: TS | BD56: TS | BE56: TC | BF56: TC | BG56: TC | BH56: TC | BI56: TC | BJ56: TC | BK56: SS | BL56: EC | BM56: EC | BN56: EC | BO56: EC | BP56: HS | BQ56: HS | BR56: HS | BS56: HS | BT56: TS | BU56: TS | BV56: TS | BW56: HS | BX56: HS | BY56: TC | BZ56: TC | CA56: TC | CB56: TC | CC56: TC | CD56: TC | CE56: HC | CF56: HC | CG56: TC | CH56: TC | CI56: TC | CJ56: TC | CK56: TC | CL56: TN | CM56: TN | CN56: TN | CO56: TS | CP56: TS | CQ56: TS | CR56: TS | CS56: HC | CT56: HC | CU56: HC | CV56: HS | CW56: HC | CX56: HC | CY56: TC | CZ56: TS | DA56: TC | DB56: TC | DC56: TC | DD56: TN | DE56: TC | DF56: TC | DG56: TC | DH56: TC | DI56: HN | DJ56: HC | DK56: HC | DL56: HC | DM56: HN | DN56: HC | DO56: HC | DP56: HN | DQ56: HC | DR56: HC | DS56: HS | DT56: HS | DU56: HS | DV56: HS | DW56: HC | DX56: HC | DY56: HC | DZ56: HN | EA56: HC | EB56: HC | EC56: HC | ED56: HC | EE56: HC | EF56: TN | EG56: TN | EH56: HC | EI56: HC | EJ56: HN | EK56: HC | EL56: HC | EM56: SS | EN56: SS | EO56: SS | EP56: SS | EQ56: SS | ER56: SC | ES56: EC | ET56: EC | EU56: EN | EV56: EN | EW56: EN | EX56: EN | EY56: GF | EZ56: GF | FA56: GF | FD56: HC | FE56: HN | FF56: HN | FG56: HN | FH56: HN | FI56: TN | FJ56: TN | FK56: HN | FL56: TN | FM56: TN
B57: H | C57: H | D57: T | E57: H | F57: H | G57: H | H57: H | I57: H | J57: H | K57: T | L57: T | M57: T | N57: T | O57: T | P57: T | Q57: T | R57: S | S57: S | T57: E | U57: H | V57: H | W57: H | X57: H | Y57: H | Z57: H | AA57: H | AB57: H | AC57: H | AD57: H | AE57: H | AF57: T | AG57: T | AH57: T | AI57: T | AJ57: T | AK57: T | AL57: T | AM57: H | AN57: H | AO57: H | AP57: H | AQ57: T | AR57: T | AS57: H | AT57: H | AU57: H | AV57: T | AW57: H | AX57: T | AY57: T | AZ57: T | BA57: T | BB57: T | BC57: T | BD57: T | BE57: T | BF57: T | BG57: T | BH57: T | BI57: T | BJ57: T | BK57: S | BL57: E | BM57: E | BN57: E | BO57: E | BP57: H | BQ57: H | BR57: H | BS57: H | BT57: T | BU57: T | BV57: T | BW57: H | BX57: H | BY57: T | BZ57: T | CA57: T | CB57: T | CC57: T | CD57: T | CE57: H | CF57: H | CG57: T | CH57: T | CI57: T | CJ57: T | CK57: T | CL57: T | CM57: T | CN57: T | CO57: T | CP57: T | CQ57: T | CR57: T | CS57: H | CT57: H | CU57: H | CV57: H | CW57: H | CX57: H | CY57: T | CZ57: T | DA57: T | DB57: T | DC57: T | DD57: T | DE57: T | DF57: T | DG57: T | DH57: T | DI57: H | DJ57: H | DK57: H | DL57: H | DM57: H | DN57: H | DO57: H | DP57: H | DQ57: H | DR57: H | DS57: H | DT57: H | DU57: H | DV57: H | DW57: H | DX57: H | DY57: H | DZ57: H | EA57: H | EB57: H | EC57: H | ED57: H | EE57: H | EF57: T | EG57: T | EH57: H | EI57: H | EJ57: H | EK57: H | EL57: H | EM57: S | EN57: S | EO57: S | EP57: S | EQ57: S | ER57: S | ES57: E | ET57: E | EU57: E | EV57: E | EW57: E | EX57: E | EY57: GF | EZ57: GF | FA57: GF | FD57: H_NC | FE57: H_NC | FF57: H_NC | FG57: H_NC | FH57: H_NC | FI57: T_NC | FJ57: T_NC | FK57: H_NC | FL57: T_NC | FM57: T_NC
B58: C | C58: C | D58: N | E58: C | F58: C | G58: C | H58: C | I58: C | J58: C | K58: C | L58: C | M58: C | N58: C | O58: C | P58: C | Q58: C | R58: S | S58: S | T58: C | U58: C | V58: C | W58: C | X58: C | Y58: C | Z58: C | AA58: C | AB58: C | AC58: S | AD58: N | AE58: N | AF58: C | AG58: C | AH58: C | AI58: C | AJ58: N | AK58: N | AL58: N | AM58: N | AN58: N | AO58: N | AP58: N | AQ58: C | AR58: C | AS58: S | AT58: S | AU58: S | AV58: C | AW58: C | AX58: S | AY58: S | AZ58: S | BA58: S | BB58: S | BC58: S | BD58: S | BE58: C | BF58: C | BG58: C | BH58: C | BI58: C | BJ58: C | BK58: S | BL58: C | BM58: C | BN58: C | BO58: C | BP58: S | BQ58: S | BR58: S | BS58: S | BT58: S | BU58: S | BV58: S | BW58: S | BX58: S | BY58: C | BZ58: C | CA58: C | CB58: C | CC58: C | CD58: C | CE58: C | CF58: C | CG58: C | CH58: C | CI58: C | CJ58: C | CK58: C | CL58: N | CM58: N | CN58: N | CO58: S | CP58: S | CQ58: S | CR58: S | CS58: C | CT58: C | CU58: C | CV58: S | CW58: C | CX58: C | CY58: C | CZ58: S | DA58: C | DB58: C | DC58: C | DD58: N | DE58: C | DF58: C | DG58: C | DH58: C | DI58: N | DJ58: C | DK58: C | DL58: C | DM58: N | DN58: C | DO58: C | DP58: N | DQ58: C | DR58: C | DS58: S | DT58: S | DU58: S | DV58: S | DW58: C | DX58: C | DY58: C | DZ58: N | EA58: C | EB58: C | EC58: C | ED58: C | EE58: C | EF58: N | EG58: N | EH58: C | EI58: C | EJ58: N | EK58: C | EL58: C | EM58: S | EN58: S | EO58: S | EP58: S | EQ58: S | ER58: C | ES58: C | ET58: C | EU58: N | EV58: N | EW58: N | EX58: N | EY58: GF | EZ58: GF | FA58: GF | FD58: C | FE58: N | FF58: N | FG58: C | FH58: N | FI58: N | FJ58: N | FK58: N | FL58: N | FM58: N
B59: 1 | C59: 1 | D59: 1 | E59: 1 | F59: 1 | G59: 1 | H59: 1 | I59: 1 | J59: 1 | K59: 1 | L59: 1 | M59: 1 | N59: 1 | O59: 1 | P59: 1 | Q59: 1 | R59: R | S59: R | T59: R | U59: 1 | V59: 1 | W59: 1 | X59: 1 | Y59: 1 | Z59: 1 | AA59: 1 | AB59: 1 | AC59: 1 | AD59: 1 | AE59: 1 | AF59: 1 | AG59: 1 | AH59: 1 | AI59: 1 | AJ59: 1 | AK59: 1 | AL59: 1 | AM59: 1 | AN59: 1 | AO59: R | AP59: R | AQ59: 1 | AR59: 1 | AS59: 1 | AT59: 1 | AU59: 1 | AV59: 1 | AW59: 1 | AX59: 1 | AY59: 1 | AZ59: 1 | BA59: 1 | BB59: 1 | BC59: 1 | BD59: 1 | BE59: 1 | BF59: 1 | BG59: 1 | BH59: 1 | BI59: 1 | BJ59: 1 | BK59: R | BL59: R | BM59: R | BN59: R | BO59: R | BP59: 1 | BQ59: 1 | BR59: 1 | BS59: 1 | BT59: 1 | BU59: 1 | BV59: 1 | BW59: 1 | BX59: R | BY59: 1 | BZ59: 1 | CA59: 1 | CB59: 1 | CC59: 1 | CD59: 1 | CE59: 1 | CF59: 1 | CG59: 1 | CH59: 1 | CI59: 1 | CJ59: 1 | CK59: 1 | CL59: 1 | CM59: 1 | CN59: 1 | CO59: 1 | CP59: 1 | CQ59: 1 | CR59: 1 | CS59: 1 | CT59: 1 | CU59: 1 | CV59: 1 | CW59: 1 | CX59: 1 | CY59: 1 | CZ59: 1 | DA59: 1 | DB59: 1 | DC59: R | DD59: 1 | DE59: R | DF59: R | DG59: R | DH59: R | DI59: R | DJ59: R | DK59: R | DL59: R | DM59: R | DN59: R | DO59: R | DP59: R | DQ59: R | DR59: R | DS59: R | DT59: R | DU59: R | DV59: R | DW59: R | DX59: R | DY59: R | DZ59: R | EA59: 1 | EB59: R | EC59: R | ED59: 1 | EE59: R | EF59: 1 | EG59: 1 | EH59: R | EI59: R | EJ59: R | EK59: 1 | EL59: 1 | EM59: R | EN59: R | EO59: R | EP59: R | EQ59: R | ER59: R | ES59: R | ET59: R | EU59: R | EV59: R | EW59: R | EX59: R | EY59: GF | EZ59: GF | FA59: GF | FD59: 1 | FE59: 1 | FF59: 1 | FG59: 1 | FH59: R | FI59: 1 | FJ59: 1 | FK59: R | FL59: 1 | FM59: 1
B60: 1H | C60: 1H | D60: 1T | E60: 1H | F60: 1H | G60: 1H | H60: 1H | I60: 1H | J60: RH | K60: 1T | L60: 1T | M60: 1T | N60: 1T | O60: 1T | P60: 1T | Q60: 1T | R60: RS | S60: RS | T60: RE | U60: 1H | V60: 1H | W60: 1H | X60: 1H | Y60: 1H | Z60: 1H | AA60: 1H | AB60: 1H | AC60: 1H | AD60: 1H | AE60: 1H | AF60: 1T | AG60: 1T | AH60: 1T | AI60: 1T | AJ60: 1T | AK60: 1T | AL60: 1T | AM60: 1H | AN60: 1H | AO60: RH | AP60: RH | AQ60: 1T | AR60: 1T | AS60: 1H | AT60: 1H | AU60: 1H | AV60: 1T | AW60: 1H | AX60: 1T | AY60: 1T | AZ60: 1T | BA60: 1T | BB60: 1T | BC60: 1T | BD60: 1T | BE60: 1T | BF60: 1T | BG60: 1T | BH60: 1T | BI60: 1T | BJ60: 1T | BK60: RS | BL60: RE | BM60: RE | BN60: RE | BO60: RE | BP60: 1H | BQ60: 1H | BR60: 1H | BS60: 1H | BT60: 1T | BU60: 1T | BV60: 1T | BW60: 1H | BX60: 1H | BY60: 1T | BZ60: 1T | CA60: 1T | CB60: 1T | CC60: 1T | CD60: 1T | CE60: 1H | CF60: 1H | CG60: 1T | CH60: 1T | CI60: 1T | CJ60: 1T | CK60: 1T | CL60: 1T | CM60: 1T | CN60: 1T | CO60: 1T | CP60: 1T | CQ60: 1T | CR60: 1T | CS60: 1H | CT60: 1H | CU60: 1H | CV60: 1H | CW60: 1H | CX60: 1H | CY60: 1T | CZ60: 1T | DA60: 1T | DB60: 1T | DC60: RT | DD60: 1T | DE60: RT | DF60: RT | DG60: RT | DH60: RT | DI60: RH | DJ60: RH | DK60: RH | DL60: RH | DM60: RH | DN60: RH | DO60: RH | DP60: RH | DQ60: RH | DR60: RH | DS60: RH | DT60: RH | DU60: RH | DV60: RH | DW60: RH | DX60: RH | DY60: RH | DZ60: RH | EA60: 1H | EB60: RH | EC60: RH | ED60: RH | EE60: RH | EF60: 1T | EG60: 1T | EH60: RH | EI60: RH | EJ60: RH | EK60: 1H | EL60: 1H | EM60: RS | EN60: RS | EO60: RS | EP60: RS | EQ60: RS | ER60: 1S | ES60: RE | ET60: RE | EU60: RE | EV60: RE | EW60: RE | EX60: RE | EY60: GF | EZ60: GF | FA60: GF | FD60: 1H_NC | FE60: 1H_NC | FF60: 1H_NC | FG60: 1H_NC | FH60: 1H_NC | FI60: 1T_NC | FJ60: 1T_NC | FK60: 1H_NC | FL60: 1T_NC | FM60: 1T_NC
B61: R | C61: P | D61: D | E61: R | F61: R | G61: R | H61: P | I61: P | J61: P | K61: GN | L61: GN | M61: GN | N61: GN | O61: GN | P61: GN | Q61: GN | R61: S | S61: S | T61: E | U61: R | V61: P | W61: R | X61: P | Y61: R | Z61: P | AA61: P | AB61: P | AC61: P | AD61: P | AE61: R | AF61: R500 | AG61: R500 | AH61: R500 | AI61: D | AJ61: GM | AK61: GM | AL61: GM | AM61: R | AN61: R | AO61: P | AP61: P | AQ61: GA | AR61: GA | AS61: P | AT61: R | AU61: R | AV61: GN | AW61: R | AX61: C | AY61: D | AZ61: D | BA61: D | BB61: D | BC61: D | BD61: D | BE61: GN | BF61: GN | BG61: GN | BH61: GN | BI61: GN | BJ61: GN | BK61: S | BL61: E | BM61: E | BN61: E | BO61: E | BP61: P | BQ61: R | BR61: R | BS61: R | BT61: D | BU61: D | BV61: D | BW61: R | BX61: P | BY61: GN | BZ61: GN | CA61: GN | CB61: GN | CC61: GN | CD61: GN | CE61: R | CF61: P | CG61: GN | CH61: GN | CI61: GN | CJ61: GN | CK61: GN | CL61: D | CM61: D | CN61: D | CO61: D | CP61: D | CQ61: D | CR61: D | CS61: R | CT61: R | CU61: P | CV61: P | CW61: P | CX61: R | CY61: D | CZ61: D | DA61: GN | DB61: GN | DC61: B | DD61: B | DE61: BG | DF61: BG | DG61: BG | DH61: BG | DI61: P | DJ61: P | DK61: P | DL61: P | DM61: P | DN61: P | DO61: P | DP61: P | DQ61: P | DR61: P | DS61: P | DT61: P | DU61: P | DV61: P | DW61: P | DX61: P | DY61: P | DZ61: P | EA61: P | EB61: P | EC61: P | ED61: P | EE61: P | EF61: B | EG61: B | EH61: P | EI61: P | EJ61: P | EK61: P | EL61: P | EM61: S | EN61: S | EO61: S | EP61: S | EQ61: S | ER61: S | ES61: E | ET61: E | EU61: E | EV61: E | EW61: E | EX61: E | EY61: GF | EZ61: GF | FA61: GF
FF62: HN
C63: DATOS ESTIMADOS

Sheet PROGRAMADO
A1: 45218 | AN1: =+[1]SINAC!B4 -> 45218
A2: 6 | C2: ELECTROPERU | F2: ENEL PERÚ | V2: CHINANGO | X2: STATKRAFT | AG2: SHOUGESA | AK2: ENEL PIURA | AN2: ORAZUL | AR2: TERMOSELVA | AT2: EGEMSA | AU2: EGESUR | AX2: ENGIE | BQ2: EGASA | BX2: SAN GABAN | BZ2: KALLPA | CH2: FENIX POWER | CK2: TERMOCHILCA | CM2: PLANTA RESERVA FRIA ETEN | CO2: MINERA CERRO VERDE | CP2: SAMAY I | CT2: CELEPSA | CU2: EMGHUANZA | CV2: HUANCHOR | CW2: INLAND ENERGY | CX2: HUALLAGA | CZ2: INFR. Y ENERGÍA DEL PERÚ | DB2: SDF ENERGIA | DD2: AIPSA | DE2: AGROAURORA | DF2: PETRAMAS | DJ2: EGEJUNÍN | DP2: ELÉCTRICA YANAPAMPA | DQ2: ELÉCTRICA RIO DOBLE | DR2: MAJA | DS2: ATRIA ENERGÍA | DT2: GEPSA | DX2: HIDROCAÑETE | DY2: EGECSAC | DZ2: AGUA AZUL | EA2: CELEPSA RENOVABLES | EB2: HUAURA POWER GROUP | EC2: EGE SANTA ANA | ED2: LA VIRGEN | EE2: ANDEAN POWER | EF2: AGROINDUSTRIAS SAN JACINTO | EG2: BIOENERGÍA DEL CHIRA | EH2: EGERBA | EI2: GENERACIÓN ANDINA | EK2: INVERSIÓN DE ENERGÍAS RENOVABLES S.A. | EL2: CENTRALES SANTA ROSA | EN2: MAJES ARCUS | EO2: REPARTICION ARCUS | EP2: TACNA SOLAR | EQ2: PANA. SOLAR | ER2: MOQUEGUA FV SOLAR | ES2: COLCA SOLAR | ET2: CEM | EU2: TRES HERMANAS | EV2: GR PAINO S.A.C | EW2: GR TARUCA S.A.C | EX2: ENERGIA EOLICA | EZ2: EOR | FA2: SINERSA | FC2: CASA | FD2: AGUA Y E. PERU | FE2: ENOSA | FF2: SDE PIURA | FG2: ELECTRO ZAÑA | FH2: PETROPERÚ | FK2: SALIDAS YUPANA | FO2: FLUJO EN LINEAS | GA2: COSTOS MARGINALES | GE2: RESERVA | GI2: DEMANDA POR AREAS | GP2: PROGRAMACION INTEGRANTES COES
A3: DÍa | B3: HORA | C3: 101 | D3: 102 | E3: 147 | F3: 103 | G3: 104 | H3: 105 | I3: 106 | J3: 107 | K3: 2165 | L3: 110 | M3: 208 | N3: 109 | O3: 144 | P3: 113 | Q3: 114 | R3: 193 | S3: 2150 | T3: 907 | U3: 2161 | V3: 150 | W3: 149 | X3: 266 | Y3: 117 | Z3: 119 | AA3: 267 | AB3: 268 | AC3: 120 | AD3: 189 | AE3: 121 | AF3: 122 | AG3: 142 | AH3: 143 | AI3: 125 | AJ3: 187 | AK3: 288 | AL3: 115 | AM3: 239 | AN3: 127 | AO3: 126 | AP3: 216 | AQ3: 198 | AR3: 138 | AS3: 139 | AT3: 163 | AU3: 298 | AV3: 299 | AW3: 219 | AX3: 191 | AY3: 174 | AZ3: 240 | BA3: 241 | BB3: 242 | BC3: 995 | BD3: 996 | BE3: 997 | BF3: 194 | BG3: 196 | BH3: 207 | BI3: 236 | BJ3: 795 | BK3: 285 | BL3: 2148 | BM3: 900 | BN3: 901 | BO3: 905 | BP3: 906 | BQ3: 151 | BR3: 152 | BS3: 153 | BT3: 154 | BU3: 756 | BV3: 156 | BW3: 155 | BX3: 182 | BY3: 999 | BZ3: 197 | CA3: 203 | CB3: 204 | CC3: 230 | CD3: 209 | CE3: 888 | CF3: 796 | CG3: 2146 | CH3: 252 | CI3: 249 | CJ3: 250 | CK3: 248 | CL3: 2159 | CM3: 263 | CN3: 265 | CO3: 758 | CP3: 786 | CQ3: 787 | CR3: 788 | CS3: 789 | CT3: 212 | CU3: 251 | CV3: 188 | CW3: 755 | CX3: 775 | CY3: 777 | CZ3: 924 | DA3: 926 | DB3: 202 | DC3: 904 | DD3: 213 | DE3: 232 | DF3: 225 | DG3: 760 | DH3: 2171 | DI3: 2201 | DJ3: 201 | DK3: 226 | DL3: 258 | DM3: 259 | DN3: 215 | DO3: 917 | DP3: 238 | DQ3: 247 | DR3: 214 | DS3: 223 | DT3: 211 | DU3: 2175 | DV3: 2178 | DW3: 2181 | DX3: 228 | DY3: 260 | DZ3: 2128 | EA3: 2131 | EB3: 2135 | EC3: 2152 | ED3: 2154 | EE3: 2184 | EF3: 2190 | EG3: 289 | EH3: 920 | EI3: 296 | EJ3: 297 | EK3: 2194 | EL3: 337 | EM3: 338 | EN3: 233 | EO3: 234 | EP3: 235 | EQ3: 237 | ER3: 261 | ES3: 303 | ET3: 253 | EU3: 770 | EV3: 1262 | EW3: 1263 | EX3: 257 | EY3: 256 | EZ3: 222 | FA3: 199 | FB3: 200 | FC3: 221 | FD3: 224 | FE3: 227 | FF3: 998 | FG3: 2187 | FH3: 902 | FI3: 903 | FJ3: 9000 | FK3: 1221 | FL3: 1222 | FM3: 1223 | FN3: 1224 | FO3: 1250 | FP3: 1251 | FQ3: 1252 | FR3: 1253 | FS3: 1254 | FT3: 1255 | FU3: 1256 | FV3: 1257 | FW3: 1258 | FX3: 1259 | FY3: 1260 | FZ3: 1261 | GA3: 1226 | GB3: 1219 | GC3: 1220 | GD3: -1203 | GE3: 1227 | GF3: 1205 | GG3: 1207 | GH3: 1206 | GI3: 1218 | GJ3: 1211 | GK3: 1212 | GL3: 1213 | GM3: 1214 | GN3: 1229 | GO3: 9999
C4: =HLOOKUP(C3,DESPACHO_EJECUTADO!$A$1:$GD$6,6,FALSE) -> MANTARO | D4: =HLOOKUP(D3,DESPACHO_EJECUTADO!$A$1:$GD$6,6,FALSE) -> RESTITUCION | E4: =HLOOKUP(E3,DESPACHO_EJECUTADO!$A$1:$GD$6,6,FALSE) -> TUMBES | F4: =HLOOKUP(F3,DESPACHO_EJECUTADO!$A$1:$GD$6,6,FALSE) -> HUINCO | G4: =HLOOKUP(G3,DESPACHO_EJECUTADO!$A$1:$GD$6,6,FALSE) -> MATUCANA | H4: =HLOOKUP(H3,DESPACHO_EJECUTADO!$A$1:$GD$6,6,FALSE) -> CALLAHUANCA | I4: =HLOOKUP(I3,DESPACHO_EJECUTADO!$A$1:$GD$6,6,FALSE) -> MOYOPAMPA | J4: =HLOOKUP(J3,DESPACHO_EJECUTADO!$A$1:$GD$6,6,FALSE) -> HUAMPANI | ... R4: =HLOOKUP(R3,DESPACHO_EJECUTADO!$A$1:$GD$6,6,FALSE) -> VENTANILLA TV | S4: =HLOOKUP(S3,[2]DESPACHO_EJECUTADO!$A$1:$GC$6,6,FALSE) -> C.S. RUBÍ | T4: C.S. CLEMESÍ | U4: WAYRA I | V4: =HLOOKUP(V3,DESPACHO_EJECUTADO!$A$1:$GD$6,6,FALSE) -> CHIMAY | W4: =HLOOKUP(W3,DESPACHO_EJECUTADO!$A$1:$GD$6,6,FALSE) -> YANANGO | X4: CHEVES | Y4: =HLOOKUP(Y3,DESPACHO_EJECUTADO!$A$1:$GD$6,6,FALSE) -> YAUPI | Z4: =HLOOKUP(Z3,DESPACHO_EJECUTADO!$A$1:$GD$6,6,FALSE) -> MALPASO | AA4: =HLOOKUP(AA3,DESPACHO_EJECUTADO!$A$1:$GD$6,6,FALSE) -> OROYA | AB4: =HLOOKUP(AB3,DESPACHO_EJECUTADO!$A$1:$GD$6,6,FALSE) -> PACHACHACA | AC4: =HLOOKUP(AC3,DESPACHO_EJECUTADO!$A$1:$GD$6,6,FALSE) -> CAHUA | AD4: =HLOOKUP(AD3,DESPACHO_EJECUTADO!$A$1:$GD$6,6,FALSE) -> ARCATA | AE4: =HLOOKUP(AE3,DESPACHO_EJECUTADO!$A$1:$GD$6,6,FALSE) -> PARIAC | AF4: =HLOOKUP(AF3,DESPACHO_EJECUTADO!$A$1:$GD$6,6,FALSE) -> GALLITO CIEGO | ... BL4: =HLOOKUP(BL3,DESPACHO_EJECUTADO!$A$1:$GD$6,6,FALSE) -> INTIPAMPA | BM4: PUNTA LOMITAS-I | BN4: PUNTA LOMITAS-II | BO4: P LOMITAS_EXP-BL1 | BP4: P LOMITAS_EXP-BL2 | BQ4: =HLOOKUP(BQ3,DESPACHO_EJECUTADO!$A$1:$GD$6,6,FALSE) -> CHARCANI I,II,III | BR4: =HLOOKUP(BR3,DESPACHO_EJECUTADO!$A$1:$GD$6,6,FALSE) -> CHARCANI IV | BS4: =HLOOKUP(BS3,DESPACHO_EJECUTADO!$A$1:$GD$6,6,FALSE) -> CHARCANI V | BT4: =HLOOKUP(BT3,DESPACHO_EJECUTADO!$A$1:$GD$6,6,FALSE) -> CHARCANI VI | BU4: CHILINA TG | BV4: =HLOOKUP(BV3,DESPACHO_EJECUTADO!$A$1:$GD$6,6,FALSE) -> MOLLENDO 1, 2, 3 | BW4: =HLOOKUP(BW3,DESPACHO_EJECUTADO!$A$1:$GD$6,6,FALSE) -> CHILINA (SULZ 1,2) | BX4: =HLOOKUP(BX3,DESPACHO_EJECUTADO!$A$1:$GD$6,6,FALSE) -> SAN GABAN II | BY4: MCH TUPURI | BZ4: =HLOOKUP(BZ3,DESPACHO_EJECUTADO!$A$1:$GD$6,6,FALSE) -> KALLPA TG1 | CA4: =HLOOKUP(CA3,DESPACHO_EJECUTADO!$A$1:$GD$6,6,FALSE) -> KALLPA TG2 | CB4: =HLOOKUP(CB3,DESPACHO_EJECUTADO!$A$1:$GD$6,6,FALSE) -> KALLPA TG3 | CC4: =HLOOKUP(CC3,DESPACHO_EJECUTADO!$A$1:$GD$6,6,FALSE) -> KALLPA TV | CD4: =HLOOKUP(CD3,DESPACHO_EJECUTADO!$A$1:$GD$6,6,FALSE) -> LFLORES TG1 | CE4: LFLORES TV | CF4: CERRO DEL ÁGUILA | CG4: PCH CERRO DEL ÁGUILA | CH4: =HLOOKUP(CH3,DESPACHO_EJECUTADO!$A$1:$GD$6,6,FALSE) -> FENIX GT11 | CI4: =HLOOKUP(CI3,DESPACHO_EJECUTADO!$A$1:$GD$6,6,FALSE) -> FENIX GT12 | CJ4: =HLOOKUP(CJ3,DESPACHO_EJECUTADO!$A$1:$GD$6,6,FALSE) -> FENIX TV10 | CK4: =HLOOKUP(CK3,DESPACHO_EJECUTADO!$A$1:$GD$6,6,FALSE) -> OLLEROS TG1 | CL4: =HLOOKUP(CL3,DESPACHO_EJECUTADO!$A$1:$GD$6,6,FALSE) -> OLLEROS TV | CM4: =HLOOKUP(CM3,DESPACHO_EJECUTADO!$A$1:$GD$6,6,FALSE) -> ETEN TG1 | CN4: =HLOOKUP(CN3,DESPACHO_EJECUTADO!$A$1:$GD$6,6,FALSE) -> ETEN TG2 | CO4: =HLOOKUP(CO3,DESPACHO_EJECUTADO!$A$1:$GD$6,6,FALSE) -> RECKA TG1 | ... DA4: =HLOOKUP(DA3,DESPACHO_EJECUTADO!$A$1:$GD$6,6,FALSE) -> RF PTO MALDONADO | DB4: =HLOOKUP(DB3,[3]DESPACHO_EJECUTADO!$A$1:$GA$6,6,FALSE) -> OQUENDO TG1 | DC4: OQUENDO TV1 | DD4: =HLOOKUP(DD3,DESPACHO_EJECUTADO!$A$1:$GD$6,6,FALSE) -> PARAMONGA | DE4: =HLOOKUP(DE3,DESPACHO_EJECUTADO!$A$1:$GD$6,6,FALSE) -> MAPLE | DF4: =HLOOKUP(DF3,DESPACHO_EJECUTADO!$A$1:$GD$6,6,FALSE) -> HUAYCOLORO | DG4: LA GRINGA V | DH4: DOÑA CATALINA | DI4: CALLAO | DJ4: =HLOOKUP(DJ3,DESPACHO_EJECUTADO!$A$1:$GD$6,6,FALSE) -> STACRUZ_1_2 | DK4: =HLOOKUP(DK3,DESPACHO_EJECUTADO!$A$1:$GD$6,6,FALSE) -> HUASAHUASI I y II | DL4: =HLOOKUP(DL3,DESPACHO_EJECUTADO!$A$1:$GD$6,6,FALSE) -> RUNATULLO II | DM4: =HLOOKUP(DM3,DESPACHO_EJECUTADO!$A$1:$GD$6,6,FALSE) -> RUNATULLO III | DN4: =HLOOKUP(DN3,DESPACHO_EJECUTADO!$A$1:$GD$6,6,FALSE) -> POECHOS2 | DO4: CHANCAY | DP4: =HLOOKUP(DP3,DESPACHO_EJECUTADO!$A$1:$GD$6,6,FALSE) -> YANAPAMPA | DQ4: =HLOOKUP(DQ3,DESPACHO_EJECUTADO!$A$1:$GD$6,6,FALSE) -> PIZARRAS | DR4: =HLOOKUP(DR3,DESPACHO_EJECUTADO!$A$1:$GD$6,6,FALSE) -> RONCADOR | DS4: =HLOOKUP(DS3,DESPACHO_EJECUTADO!$A$1:$GD$6,6,FALSE) -> PURMACANA | DT4: =HLOOKUP(DT3,DESPACHO_EJECUTADO!$A$1:$GD$6,6,FALSE) -> LA JOYA | DU4: =HLOOKUP(DU3,DESPACHO_EJECUTADO!$A$1:$GD$6,6,FALSE) -> ÁNGEL I | DV4: =HLOOKUP(DV3,DESPACHO_EJECUTADO!$A$1:$GD$6,6,FALSE) -> ÁNGEL II | DW4: =HLOOKUP(DW3,DESPACHO_EJECUTADO!$A$1:$GD$6,6,FALSE) -> ÁNGEL III | ... DY4: =HLOOKUP(DY3,DESPACHO_EJECUTADO!$A$1:$GD$6,6,FALSE) -> CANCHAYLLO | DZ4: POTRERO | EA4: MARAÑÓN | EB4: YARUCAYA | EC4: RENOVANDES | ED4: LA VIRGEN | EE4: CARHUAC | EF4: SAN JACINTO | EG4: C.T. CAÑA BRAVA | EH4: RUCUY | EI4: 28 DE AGOSTO | EJ4: EL CARMEN | EK4: MANTA I | EL4: SANTA ROSA I | EM4: SANTA ROSA II | EN4: =HLOOKUP(EN3,DESPACHO_EJECUTADO!$A$1:$GD$6,6,FALSE) -> MAJES | EO4: =HLOOKUP(EO3,DESPACHO_EJECUTADO!$A$1:$GD$6,6,FALSE) -> REPARTICION | EP4: =HLOOKUP(EP3,DESPACHO_EJECUTADO!$A$1:$GD$6,6,FALSE) -> TACNA SOLAR | EQ4: =HLOOKUP(EQ3,DESPACHO_EJECUTADO!$A$1:$GD$6,6,FALSE) -> PANAMERICANA SOLAR | ER4: =HLOOKUP(ER3,DESPACHO_EJECUTADO!$A$1:$GD$6,6,FALSE) -> MOQUEGUA | ES4: =HLOOKUP(ES3,DESPACHO_EJECUTADO!$A$1:$GD$6,6,FALSE) -> C.S. YARUCAYA | ET4: =HLOOKUP(ET3,DESPACHO_EJECUTADO!$A$1:$GD$6,6,FALSE) -> PQE-EOLICO MARCONA | EU4: PQE-EOLICO TRES HERMANAS | EV4: HUAMBOS | EW4: DUNA | EX4: =HLOOKUP(EX3,DESPACHO_EJECUTADO!$A$1:$GD$6,6,FALSE) -> TALARA | EY4: =HLOOKUP(EY3,DESPACHO_EJECUTADO!$A$1:$GD$6,6,FALSE) -> PQE-EOLICO CUPISNIQUE | EZ4: =HLOOKUP(EZ3,DESPACHO_EJECUTADO!$A$1:$GD$6,6,FALSE) -> CENTRALES ELOR | FA4: =HLOOKUP(FA3,DESPACHO_EJECUTADO!$A$1:$GD$6,6,FALSE) -> CURUMUY | FB4: =HLOOKUP(FB3,[4]DESPACHO_EJECUTADO!$A$1:$FW$6,6,FALSE) -> POECHOS 1 | FC4: =HLOOKUP(FC3,DESPACHO_EJECUTADO!$A$1:$GD$6,6,FALSE) -> CARPAPATA | FD4: =HLOOKUP(FD3,DESPACHO_EJECUTADO!$A$1:$GD$6,6,FALSE) -> PIAS1 | FE4: =HLOOKUP(FE3,DESPACHO_EJECUTADO!$A$1:$GD$6,6,FALSE) -> TABLAZO | FF4: TALLANCA | FG4: =HLOOKUP(FG3,DESPACHO_EJECUTADO!$A$1:$GD$6,6,FALSE) -> ZAÑA | FH4: RTALARA G1 | FI4: RTALARA G2 | FJ4: OFERTA (SOLO COES) | FK4: DEMANDA YUPANA | FL4: OFERTA | FM4: PERDIDAS YUPANA | FN4: DEFICIT YUPANA | FO4: FLUJO ENLACE CENTRO - SUR | FP4: FLUJO CHILCA CARAPONGO 500 KV | FQ4: FLUJO CARAPONGO CARABAYLLO 500 KV | FR4: FLUJO CHIMBOTE TRUJILLO 500 KV | FS4: FLUJO TRUJILLO LA NIÑA 500 KV | FT4: FLUJO COLCABAMBA POROMA 500 KV | FU4: FLUJO CHILCA POROMA 500 KV | FV4: FLUJO POROMA YARABAMBA 500 KV | FW4: FLUJO POROMA OCOÑA 500 KV | FX4: FLUJO YARABAMBA MOLTALVO 500 KV | FY4: FLUJO HUANCAVELICA - INDEPENDENCIA 220 KV | FZ4: FLUJO CHILCA - SAN JUAN 220 KV | GA4: Cmg Santa Rosa YUPANA(US$/MWh) | GB4: Cmg Trujillo YUPANA(US$/MWh) | GC4: Cmg Socabaya YUPANA(US$/MWh) | GD4: Nivel de Demanda | GE4: Reserva Fría Térmica | GF4: Reserva Eficiente | GG4: Reserva Eficiente Gas | GH4: Reserva Eficiente Carbón | GI4: Nivel Tablachaca | GJ4: Demanda Centro | GK4: Demanda Norte | GL4: Demanda Sur | GM4: Demanda Electroandes | GN4: Demanda Ecuador ( Exportación a ECUADOR) | GO4: "DEMANDA" COES | GP4: GENERACION TERMOELECTRICA | GQ4: GENERACION HIDROELECTRICA | GR4: GENERACION SOLAR | GS4: GENERACION EÓLICO | GT4: GENERACION TERMICA (COES) (CENTRO + NORTE) | GU4: GENERACION HIDRAULICA COES (CENTRO + NORTE) | GV4: GENERACION SOLAR COES (CENTRO + NORTE) | GW4: GENERACION EÓLICA COES (CENTRO + NORTE) | GX4: TOTAL SICN (CENTRO + NORTE) | GY4: GENERACION TERMICA(COES) SUR | GZ4: GENERACION HIDRAULICA COES (SUR) | HA4: GENERACION SOLAR COES (SUR) | HB4: GENERACION EÓLICA COES (SUR) | HC4: TOTAL SUR
A5: =+REPROGRAMADO!B5 -> JUE | B5: 0.020833333 | C5: 465.60058 | D5: 148.36766 | F5: 69.34209 | G5: 96.97176 | H5: 72.26389 | I5: 67.59335 | J5: 30.11057 | K5: 0.6 | M5: 0 | P5: 149.11167 | Q5: 149.11167 | R5: 149.11167 | S5: 0 | T5: 0 | U5: 7 | V5: 73.01955 | W5: 16.95936 | X5: 50.50084 | Y5: 98 | Z5: 16 | AA5: 3.85335 | AB5: 4.10345 | AC5: 43.80059 | AD5: 3.28223 | AE5: 3.09927 | AL5: 85 | AN5: 243.7047 | AO5: 77.94805 | AP5: 8 | AQ5: 5.67 | AR5: 0 | AS5: 88.02082 | AT5: 110.41591 | AU5: 3.84663 | AW5: 21.47725 | AX5: 63.4159 | BF5: 178.52956 | BG5: 178.52956 | BH5: 178.52956 | BI5: 267.79433 | BJ5: 69.97113 | BK5: 34.98557 | BL5: 0 | BM5: 8.82 | BN5: 8.93 | BO5: 1.23 | BP5: 0.24 | BQ5: 6.8787 | BR5: 15.02151 | BS5: 104.4105 | BX5: 57.66994 | BZ5: 194.44479 | CA5: 194.44479 | CB5: 194.44479 | CC5: 291.66718 | CD5: 209.70738 | CE5: 104.85369 | CF5: 173.99804 | CG5: 3.24022 | CH5: 185.73103 | CI5: 185.73103 | CJ5: 185.73103 | CK5: 189.51328 | CL5: 94.75664 | CT5: 49.55718 | CU5: 0 | CV5: 15.91408 | CW5: 60.42702 | CX5: 6.39 | DB5: 30 | DD5: 13 | DE5: 15 | DF5: 2.799 | DG5: 1.4 | DH5: 1.2 | DI5: 2.2 | DJ5: 7.2 | DK5: 11.1437 | DL5: 8 | DM5: 10.75269 | DN5: 6.4 | DO5: 16.61779 | DP5: 3.6 | DQ5: 6 | DR5: 2.8 | DS5: 1.5 | DT5: 5.6 | DU5: 5 | DV5: 5.5 | DW5: 5.7 | DX5: 3.5 | DY5: 2.5 | DZ5: 10 | EA5: 12.21896 | EB5: 16.81329 | EC5: 19.55034 | ED5: 37.57996 | EE5: 0 | EF5: 8.33 | EG5: 9.6 | EH5: 10.75269 | EI5: 15.64027 | EJ5: 7 | EK5: 9 | EL5: 0.54 | EM5: 1.05 | EN5: 0 | EO5: 0 | EP5: 0 | EQ5: 0 | ER5: 0 | ES5: 0 | ET5: 11.465 | EU5: 28.852 | EV5: 8.874 | EW5: 12.471 | EX5: 19.144 | EY5: 33.483 | EZ5: 0 | FA5: 5.5 | FB5: 5.7 | FC5: 9.9 | FD5: 4.5 | FE5: 27 | FF5: 18 | FG5: 7.5 | FJ5: 6317.173 | FK5: 6223.9424 | FL5: 6395.273 | FM5: 171.33061 | FO5: 2727.1466 | FP5: 620.59477 | FQ5: 316.97186 | FR5: 208.91373 | FS5: 291.21472 | FT5: 533.40374 | FU5: 1010.0888 | FV5: 514.8956 | FW5: 348.2103 | FX5: 288.44739 | FY5: 21.19437 | FZ5: 998.588 | GA5: 36.57304 | GB5: 38.11484 | GC5: 41.74687 | GD5: MIN | GE5: 2994.2389 | GF5: 365.13898 | GG5: 365.13898 | GJ5: 3511.4022 | GK5: 976.06923 | GL5: 1673.1541 | GM5: 234.64753 | GO5: 6317.173 | GP5: 3664.7274 | GQ5: 2511.9366 | GR5: 0 | GS5: 140.509 | GT5: 3664.7274 | GU5: 2128.1842 | GV5: 0 | GW5: 140.509 | GX5: 5933.4206 | GY5: 0 | GZ5: 383.75244 | HA5: 0 | HC5: 383.75244
A6: =+REPROGRAMADO!B6 -> JUE | B6: 0.041666667 | C6: 415.19668 | D6: 132.30602 | F6: 69.34209 | G6: 76.26334 | H6: 65.98401 | I6: 67.59335 | J6: 27.49391 | K6: 0.6 | M6: 0 | P6: 149.11167 | Q6: 149.11167 | R6: 149.11167 | S6: 0 | T6: 0 | U6: 9 | V6: 73.01955 | W6: 16.95936 | X6: 79.07542 | Y6: 98 | Z6: 16 | AA6: 3.85335 | AB6: 4.10345 | AC6: 43.80059 | AD6: 3.28223 | AE6: 3.09927 | AL6: 85 | AN6: 224.3272 | AO6: 77.94805 | AP6: 8 | AQ6: 5.67 | AR6: 0 | AS6: 88.02082 | AT6: 110.41591 | AU6: 3.84663 | AW6: 21.47725 | AX6: 63.4159 | BF6: 178.52956 | BG6: 178.52956 | BH6: 178.52956 | BI6: 267.79433 | BJ6: 69.97113 | BK6: 34.98557 | BL6: 0 | BM6: 8.82 | BN6: 8.93 | BO6: 1.23 | BP6: 0.24 | BQ6: 6.8787 | BR6: 15.02151 | BS6: 94.01287 | BX6: 55.62923 | BZ6: 194.44479 | CA6: 194.44479 | CB6: 194.44479 | CC6: 291.66718 | CD6: 209.70738 | CE6: 104.85369 | CF6: 173.99804 | CG6: 3.24022 | CH6: 185.73103 | CI6: 185.73103 | CJ6: 185.73103 | CK6: 189.51328 | CL6: 94.75664 | CT6: 0 | CU6: 0 | CV6: 15.91408 | CW6: 60.42702 | CX6: 6.39 | DB6: 30 | DD6: 13 | DE6: 15 | DF6: 2.799 | DG6: 1.4 | DH6: 1.2 | DI6: 2.2 | DJ6: 7.2 | DK6: 11.1437 | DL6: 8 | DM6: 10.75269 | DN6: 6.4 | DO6: 16.61779 | DP6: 3.6 | DQ6: 6 | DR6: 2.8 | DS6: 1.5 | DT6: 5.6 | DU6: 5 | DV6: 5.5 | DW6: 5.7 | DX6: 3.5 | DY6: 2.5 | DZ6: 10 | EA6: 12.21896 | EB6: 16.81329 | EC6: 19.55034 | ED6: 37.57996 | EE6: 0 | EF6: 8.33 | EG6: 9.6 | EH6: 10.75269 | EI6: 15.64027 | EJ6: 7 | EK6: 9 | EL6: 0.54 | EM6: 1.05 | EN6: 0 | EO6: 0 | EP6: 0 | EQ6: 0 | ER6: 0 | ES6: 0 | ET6: 10.797 | EU6: 27.859 | EV6: 8.36 | EW6: 12.1 | EX6: 18.651 | EY6: 30.371 | EZ6: 0 | FA6: 5.5 | FB6: 5.7 | FC6: 9.78495 | FD6: 4.5 | FE6: 27 | FF6: 18 | FG6: 7.5 | FJ6: 6164.1531 | FK6: 6075.0559 | FL6: 6242.138 | FM6: 167.08212 | FO6: 2731.5231 | FP6: 610.78276 | FQ6: 287.05466 | FR6: 204.77457 | FS6: 284.36638 | FT6: 532.93966 | FU6: 1027.4773 | FV6: 521.79086 | FW6: 350.68626 | FX6: 286.27544 | FY6: 14.87124 | FZ6: 960.40868 | GA6: 36.43638 | GB6: 37.93903 | GC6: 41.65513 | GD6: MIN | GE6: 2994.2389 | GF6: 365.13898 | GG6: 365.13898 | GJ6: 3389.4212 | GK6: 956.80449 | GL6: 1662.5263 | GM6: 233.38598 | GO6: 6164.1531 | GP6: 3664.7274 | GQ6: 2363.0677 | GR6: 0 | GS6: 136.358 | GT6: 3664.7274 | GU6: 1991.7536 | GV6: 0 | GW6: 136.358 | GX6: 5792.839 | GY6: 0 | GZ6: 371.3141 | HA6: 0 | HC6: 371.3141
A7: =+REPROGRAMADO!B7 -> JUE | B7: 0.0625 | C7: 406.39841 | D7: 129.50238 | F7: 127.94668 | G7: 76.26334 | H7: 65.98401 | I7: 67.59335 | J7: 27.49391 | K7: 0.6 | M7: 0 | P7: 149.11167 | Q7: 149.11167 | R7: 149.11167 | S7: 0 | T7: 0 | U7: 11 | V7: 73.01955 | W7: 16.95936 | X7: 20.47083 | Y7: 98 | Z7: 16 | AA7: 3.85335 | AB7: 4.10345 | AC7: 43.80059 | AD7: 3.28223 | AE7: 3.09927 | AL7: 85 | AN7: 204.69701 | AO7: 70.35559 | AP7: 8 | AQ7: 5.17602 | AR7: 0 | AS7: 88.02082 | AT7: 110.41591 | AU7: 3.84663 | AW7: 21.47725 | AX7: 63.4159 | BF7: 178.52956 | BG7: 178.52956 | BH7: 178.52956 | BI7: 267.79433 | BJ7: 69.97113 | BK7: 34.98557 | BL7: 0 | BM7: 6.74 | BN7: 6.54 | BO7: 1.04 | BP7: 0.24 | BQ7: 6.8787 | BR7: 15.02151 | BS7: 73.73787 | BX7: 52.04512 | BZ7: 194.44479 | CA7: 194.44479 | CB7: 194.44479 | CC7: 291.66718 | CD7: 209.70738 | CE7: 104.85369 | CF7: 173.99804 | CG7: 3.24022 | CH7: 185.73103 | CI7: 185.73103 | CJ7: 185.73103 | CK7: 189.51328 | CL7: 94.75664 | CT7: 0 | CU7: 0 | CV7: 15.91408 | CW7: 60.42702 | CX7: 6.39 | DB7: 30 | DD7: 13 | DE7: 15 | DF7: 2.799 | DG7: 1.4 | DH7: 1.2 | DI7: 2.2 | DJ7: 7.2 | DK7: 11.1437 | DL7: 8 | DM7: 10.75269 | DN7: 6.4 | DO7: 16.61779 | DP7: 3.6 | DQ7: 6 | DR7: 2.8 | DS7: 1.5 | DT7: 5.6 | DU7: 5 | DV7: 5.5 | DW7: 5.7 | DX7: 3.5 | DY7: 2.5 | DZ7: 10 | EA7: 12.21896 | EB7: 16.81329 | EC7: 19.55034 | ED7: 37.57996 | EE7: 0 | EF7: 8.33 | EG7: 9.6 | EH7: 10.75269 | EI7: 15.64027 | EJ7: 7 | EK7: 9 | EL7: 0.54 | EM7: 1.05 | EN7: 0 | EO7: 0 | EP7: 0 | EQ7: 0 | ER7: 0 | ES7: 0 | ET7: 10.712 | EU7: 27.726 | EV7: 7.967 | EW7: 11.878 | EX7: 19.357 | EY7: 26.751 | EZ7: 0 | FA7: 5.5 | FB7: 5.7 | FC7: 9.8827 | FD7: 4.5 | FE7: 27 | FF7: 18 | FG7: 7.5 | FJ7: 6094.5684 | FK7: 6002.169 | FL7: 6172.6511 | FM7: 170.48209 | FO7: 2773.5909 | FP7: 608.21211 | FQ7: 298.61445 | FR7: 199.60435 | FS7: 283.08998 | FT7: 542.47704 | FU7: 1048.12 | FV7: 531.25531 | FW7: 355.66287 | FX7: 287.90405 | FY7: 12.39173 | FZ7: 950.76195 | GA7: 36.13706 | GB7: 37.73938 | GC7: 41.47046 | GD7: MIN | GE7: 2994.2389 | GF7: 365.13898 | GG7: 365.13898 | GJ7: 3339.7074 | GK7: 941.37863 | GL7: 1656.8211 | GM7: 234.74392 | GO7: 6094.5684 | GP7: 3664.7274 | GQ7: 2299.89 | GR7: 0 | GS7: 129.951 | GT7: 3664.7274 | GU7: 1952.435 | GV7: 0 | GW7: 129.951 | GX7: 5747.1134 | GY7: 0 | GZ7: 347.45499 | HA7: 0 | HC7: 347.45499
A8: =+REPROGRAMADO!B8 -> JUE | B8: 0.083333333 | C8: 406.39841 | D8: 129.50238 | F8: 127.94668 | G8: 76.26334 | H8: 65.98401 | I8: 67.59335 | J8: 27.49391 | K8: 0.6 | M8: 0 | P8: 149.11167 | Q8: 149.11167 | R8: 149.11167 | S8: 0 | T8: 0 | U8: 15 | V8: 73.01955 | W8: 16.95936 | X8: 20.47083 | Y8: 98 | Z8: 16 | AA8: 3.85335 | AB8: 4.10345 | AC8: 43.80059 | AD8: 3.28223 | AE8: 3.09927 | AL8: 85 | AN8: 191.19469 | AO8: 53.56179 | AP8: 8 | AQ8: 4.08337 | AR8: 0 | AS8: 88.02082 | AT8: 110.41591 | AU8: 3.84663 | AW8: 21.47725 | AX8: 63.4159 | BF8: 178.52956 | BG8: 178.52956 | BH8: 178.52956 | BI8: 267.79433 | BJ8: 69.97113 | BK8: 34.98557 | BL8: 0 | BM8: 6.74 | BN8: 6.54 | BO8: 1.04 | BP8: 0.24 | BQ8: 6.8787 | BR8: 8.1736 | BS8: 55.7461 | BX8: 48.17273 | BZ8: 194.44479 | CA8: 194.44479 | CB8: 194.44479 | CC8: 291.66718 | CD8: 209.70738 | CE8: 104.85369 | CF8: 173.99804 | CG8: 3.24022 | CH8: 185.73103 | CI8: 185.73103 | CJ8: 185.73103 | CK8: 189.51328 | CL8: 94.75664 | CT8: 0 | CU8: 0 | CV8: 15.91408 | CW8: 60.42702 | CX8: 6.39 | DB8: 30 | DD8: 13 | DE8: 15 | DF8: 2.799 | DG8: 1.4 | DH8: 1.2 | DI8: 2.2 | DJ8: 7.2 | DK8: 11.1437 | DL8: 8 | DM8: 10.75269 | DN8: 6.4 | DO8: 16.61779 | DP8: 3.6 | DQ8: 6 | DR8: 2.8 | DS8: 1.5 | DT8: 5.6 | DU8: 5 | DV8: 5.5 | DW8: 5.7 | DX8: 3.5 | DY8: 2.5 | DZ8: 10 | EA8: 12.21896 | EB8: 16.81329 | EC8: 19.55034 | ED8: 37.57996 | EE8: 0 | EF8: 8.33 | EG8: 9.6 | EH8: 10.75269 | EI8: 15.64027 | EJ8: 7 | EK8: 9 | EL8: 0.54 | EM8: 1.05 | EN8: 0 | EO8: 0 | EP8: 0 | EQ8: 0 | ER8: 0 | ES8: 0 | ET8: 10.646 | EU8: 27.479 | EV8: 7.66 | EW8: 11.666 | EX8: 20.056 | EY8: 23.252 | EZ8: 0 | FA8: 5.5 | FB8: 5.7 | FC8: 10.13685 | FD8: 4.5 | FE8: 27 | FF8: 18 | FG8: 7.5 | FJ8: 6034.8356 | FK8: 5940.3521 | FL8: 6113.1724 | FM8: 172.82032 | FO8: 2798.4657 | FP8: 609.78567 | FQ8: 303.82567 | FR8: 203.18936 | FS8: 291.20529 | FT8: 543.65225 | FU8: 1052.5458 | FV8: 540.29438 | FW8: 359.36121 | FX8: 285.4509 | FY8: 10.70173 | FZ8: 946.61935 | GA8: 35.89792 | GB8: 37.59233 | GC8: 41.29959 | GD8: MIN | GE8: 2994.2389 | GF8: 365.13898 | GG8: 365.13898 | GJ8: 3293.4219 | GK8: 941.05484 | GL8: 1645.6687 | GM8: 233.02697 | GO8: 6034.8356 | GP8: 3664.7274 | GQ8: 2239.7892 | GR8: 0 | GS8: 130.319 | GT8: 3664.7274 | GU8: 1921.0463 | GV8: 0 | GW8: 130.319 | GX8: 5716.0927 | GY8: 0 | GZ8: 318.74292 | HA8: 0 | HC8: 318.74292
A9: =+REPROGRAMADO!B9 -> JUE | B9: 0.10416667 | C9: 406.39841 | D9: 129.50238 | F9: 66.5342 | G9: 76.26334 | H9: 65.98401 | I9: 67.59335 | J9: 27.49391 | K9: 0.6 | M9: 0 | P9: 149.11167 | Q9: 149.11167 | R9: 149.11167 | S9: 0 | T9: 0 | U9: 18 | V9: 73.01955 | W9: 16.95936 | X9: 81.88332 | Y9: 98 | Z9: 16 | AA9: 3.85335 | AB9: 4.10345 | AC9: 43.80059 | AD9: 3.28223 | AE9: 3.09927 | AL9: 85 | AN9: 179.15742 | AO9: 42.52622 | AP9: 8 | AQ9: 3.36537 | AR9: 0 | AS9: 88.02082 | AT9: 110.41591 | AU9: 3.84663 | AW9: 21.47725 | AX9: 63.4159 | BF9: 178.52956 | BG9: 178.52956 | BH9: 178.52956 | BI9: 267.79433 | BJ9: 69.97113 | BK9: 34.98557 | BL9: 0 | BM9: 8.82 | BN9: 8.93 | BO9: 1.23 | BP9: 0.24 | BQ9: 6.8787 | BR9: 8.1736 | BS9: 48.20035 | BX9: 47.03326 | BZ9: 194.44479 | CA9: 194.44479 | CB9: 194.44479 | CC9: 291.66718 | CD9: 209.70738 | CE9: 104.85369 | CF9: 173.99804 | CG9: 3.24022 | CH9: 185.73103 | CI9: 185.73103 | CJ9: 185.73103 | CK9: 189.51328 | CL9: 94.75664 | CT9: 0 | CU9: 0 | CV9: 15.91408 | CW9: 60.42702 | CX9: 6.39 | DB9: 30 | DD9: 13 | DE9: 15 | DF9: 2.799 | DG9: 1.4 | DH9: 1.2 | DI9: 2.2 | DJ9: 7.2 | DK9: 11.1437 | DL9: 8 | DM9: 10.75269 | DN9: 6.4 | DO9: 16.61779 | DP9: 3.6 | DQ9: 6 | DR9: 2.8 | DS9: 1.5 | DT9: 5.6 | DU9: 5 | DV9: 5.5 | DW9: 5.7 | DX9: 3.5 | DY9: 2.5 | DZ9: 10 | EA9: 12.21896 | EB9: 16.81329 | EC9: 19.55034 | ED9: 37.57996 | EE9: 0 | EF9: 8.33 | EG9: 9.6 | EH9: 10.75269 | EI9: 15.64027 | EJ9: 7 | EK9: 9 | EL9: 0.54 | EM9: 1.05 | EN9: 0 | EO9: 0 | EP9: 0 | EQ9: 0 | ER9: 0 | ES9: 0 | ET9: 10.769 | EU9: 26.763 | EV9: 7.621 | EW9: 11.507 | EX9: 20.729 | EY9: 19.581 | EZ9: 0 | FA9: 5.5 | FB9: 5.7 | FC9: 10.2346 | FD9: 4.5 | FE9: 27 | FF9: 18 | FG9: 7.5 | FJ9: 6006.2305 | FK9: 5911.411 | FL9: 6084.6651 | FM9: 173.2541 | FO9: 2815.7673 | FP9: 609.03402 | FQ9: 286.05852 | FR9: 210.53858 | FS9: 293.64726 | FT9: 545.82791 | FU9: 1056.3032 | FV9: 544.84999 | FW9: 362.23683 | FX9: 286.58099 | FY9: 7.5676 | FZ9: 950.47935 | GA9: 35.80789 | GB9: 37.49056 | GC9: 41.23118 | GD9: MIN | GE9: 2994.2389 | GF9: 365.13898 | GG9: 365.13898 | GJ9: 3267.1462 | GK9: 934.67392 | GL9: 1647.2252 | GM9: 235.61986 | GO9: 6006.2305 | GP9: 3664.7274 | GQ9: 2207.3131 | GR9: 0 | GS9: 134.19 | GT9: 3664.7274 | GU9: 1897.2554 | GV9: 0 | GW9: 134.19 | GX9: 5696.1728 | GY9: 0 | GZ9: 310.0577 | HA9: 0 | HC9: 310.0577
A10: =+REPROGRAMADO!B10 -> JUE | B10: 0.125 | C10: 406.39841 | D10: 129.50238 | F10: 20.47083 | G10: 76.26334 | H10: 65.98401 | I10: 67.59335 | J10: 27.49391 | K10: 0.6 | M10: 0 | P10: 149.11167 | Q10: 149.11167 | R10: 149.11167 | S10: 0 | T10: 0 | U10: 22 | V10: 73.01955 | W10: 16.95936 | X10: 81.88332 | Y10: 98 | Z10: 16 | AA10: 3.85335 | AB10: 4.10345 | AC10: 43.80059 | AD10: 3.28223 | AE10: 3.09927 | AL10: 85 | AN10: 174.40934 | AO10: 30.8827 | AP10: 8 | AQ10: 2.60782 | AR10: 0 | AS10: 88.02082 | AT10: 110.41591 | AU10: 3.84663 | AW10: 21.47725 | AX10: 63.4159 | BF10: 178.52956 | BG10: 178.52956 | BH10: 178.52956 | BI10: 267.79433 | BJ10: 69.97113 | BK10: 34.98557 | BL10: 0 | BM10: 8.82 | BN10: 8.93 | BO10: 1.23 | BP10: 0.24 | BQ10: 6.8787 | BR10: 8.1736 | BS10: 42.07461 | BX10: 46.06475 | BZ10: 194.44479 | CA10: 194.44479 | CB10: 194.44479 | CC10: 291.66718 | CD10: 209.70738 | CE10: 104.85369 | CF10: 155.42063 | CG10: 3.24022 | CH10: 185.73103 | CI10: 185.73103 | CJ10: 185.73103 | CK10: 189.51328 | CL10: 94.75664 | CT10: 65.15256 | CU10: 0 | CV10: 15.91408 | CW10: 60.42702 | CX10: 6.39 | DB10: 30 | DD10: 13 | DE10: 15 | DF10: 2.799 | DG10: 1.4 | DH10: 1.2 | DI10: 2.2 | DJ10: 7.2 | DK10: 11.1437 | DL10: 8 | DM10: 10.75269 | DN10: 6.4 | DO10: 16.61779 | DP10: 3.6 | DQ10: 6 | DR10: 2.8 | DS10: 1.5 | DT10: 5.6 | DU10: 5 | DV10: 5.5 | DW10: 5.7 | DX10: 3.5 | DY10: 2.5 | DZ10: 10 | EA10: 12.21896 | EB10: 16.81329 | EC10: 19.55034 | ED10: 37.57996 | EE10: 0 | EF10: 8.33 | EG10: 9.6 | EH10: 10.75269 | EI10: 15.64027 | EJ10: 7 | EK10: 9 | EL10: 0.54 | EM10: 1.05 | EN10: 0 | EO10: 0 | EP10: 0 | EQ10: 0 | ER10: 0 | ES10: 0 | ET10: 10.927 | EU10: 26.265 | EV10: 7.583 | EW10: 11.397 | EX10: 21.278 | EY10: 16.324 | EZ10: 0 | FA10: 5.5 | FB10: 5.7 | FC10: 10.67449 | FD10: 4.5 | FE10: 27 | FF10: 18 | FG10: 7.5 | FJ10: 5983.3029 | FK10: 5884.6434 | FL10: 6062.1774 | FM10: 177.53399 | FO10: 2829.4342 | FP10: 618.17898 | FQ10: 282.94547 | FR10: 214.36754 | FS10: 296.97858 | FT10: 543.64157 | FU10: 1064.5305 | FV10: 550.13311 | FW10: 364.84473 | FX10: 288.32278 | FY10: 3.98313 | FZ10: 990.10754 | GA10: 35.71045 | GB10: 37.43384 | GC10: 41.17494 | GD10: MIN | GE10: 2994.2389 | GF10: 365.13898 | GG10: 365.13898 | GJ10: 3251.7023 | GK10: 927.89318 | GL10: 1646.7949 | GM10: 235.78699 | GO10: 5983.3029 | GP10: 3664.7274 | GQ10: 2183.5815 | GR10: 0 | GS10: 134.994 | GT10: 3664.7274 | GU10: 1880.6181 | GV10: 0 | GW10: 134.994 | GX10: 5680.3395 | GY10: 0 | GZ10: 302.96345 | HA10: 0 | HC10: 302.96345
A11: =+REPROGRAMADO!B11 -> JUE | B11: 0.14583333 | C11: 406.39841 | D11: 129.50238 | F11: 20.47083 | G11: 75.31101 | H11: 65.98401 | I11: 67.59335 | J11: 27.49391 | K11: 0.6 | M11: 0 | P11: 149.11167 | Q11: 149.11167 | R11: 149.11167 | S11: 0 | T11: 0 | U11: 25 | V11: 73.01955 | W11: 16.95936 | X11: 20.47083 | Y11: 98 | Z11: 16 | AA11: 3.85335 | AB11: 4.10345 | AC11: 43.80059 | AD11: 3.28223 | AE11: 3.09927 | AL11: 85 | AN11: 171.96126 | AO11: 30.8827 | AP11: 8 | AQ11: 2.60782 | AR11: 0 | AS11: 88.02082 | AT11: 110.41591 | AU11: 3.84663 | AW11: 21.47725 | AX11: 63.4159 | BF11: 178.52956 | BG11: 178.52956 | BH11: 178.52956 | BI11: 267.79433 | BJ11: 69.97113 | BK11: 34.98557 | BL11: 0 | BM11: 12.01 | BN11: 11.79 | BO11: 1.75 | BP11: 0.38 | BQ11: 6.8787 | BR11: 8.1736 | BS11: 33.66979 | BX11: 44.52056 | BZ11: 194.44479 | CA11: 194.44479 | CB11: 194.44479 | CC11: 291.66718 | CD11: 209.70738 | CE11: 104.85369 | CF11: 154.50014 | CG11: 3.24022 | CH11: 185.73103 | CI11: 185.73103 | CJ11: 185.73103 | CK11: 189.51328 | CL11: 94.75664 | CT11: 107.0147 | CU11: 0 | CV11: 15.91408 | CW11: 60.42702 | CX11: 6.39 | DB11: 30 | DD11: 13 | DE11: 15 | DF11: 2.799 | DG11: 1.4 | DH11: 1.2 | DI11: 2.2 | DJ11: 7.2 | DK11: 11.1437 | DL11: 8 | DM11: 10.75269 | DN11: 6.4 | DO11: 16.61779 | DP11: 3.6 | DQ11: 6 | DR11: 2.8 | DS11: 1.5 | DT11: 5.6 | DU11: 5 | DV11: 5.5 | DW11: 5.7 | DX11: 3.5 | DY11: 2.5 | DZ11: 10 | EA11: 12.21896 | EB11: 16.81329 | EC11: 19.55034 | ED11: 37.57996 | EE11: 0 | EF11: 8.33 | EG11: 9.6 | EH11: 10.75269 | EI11: 15.64027 | EJ11: 7 | EK11: 9 | EL11: 0.54 | EM11: 1.05 | EN11: 0 | EO11: 0 | EP11: 0 | EQ11: 0 | ER11: 0 | ES11: 0 | ET11: 11.046 | EU11: 26.57 | EV11: 7.609 | EW11: 11.474 | EX11: 21.548 | EY11: 13.573 | EZ11: 0 | FA11: 5.5 | FB11: 5.7 | FC11: 10.43988 | FD11: 4.5 | FE11: 27 | FF11: 18 | FG11: 7.5 | FJ11: 5957.2387 | FK11: 5855.6554 | FL11: 6035.8785 | FM11: 180.22311 | FO11: 2837.0452 | FP11: 627.84374 | FQ11: 299.9784 | FR11: 211.31179 | FS11: 297.92871 | FT11: 544.08093 | FU11: 1066.4144 | FV11: 551.08748 | FW11: 365.48321 | FX11: 288.11802 | FY11: -2.97707 | FZ11: 1018.1263 | GA11: 35.61012 | GB11: 37.40448 | GC11: 41.09025 | GD11: MIN | GE11: 3185.4351 | GF11: 556.33519 | GG11: 556.33519 | GJ11: 3236.5004 | GK11: 925.83297 | GL11: 1640.0635 | GM11: 233.48164 | GO11: 5957.2387 | GP11: 3664.7274 | GQ11: 2149.7612 | GR11: 0 | GS11: 142.75 | GT11: 3664.7274 | GU11: 1856.7468 | GV11: 0 | GW11: 142.75 | GX11: 5664.2242 | GY11: 0 | GZ11: 293.01444 | HA11: 0 | HC11: 293.01444
A12: =+REPROGRAMADO!B12 -> JUE | B12: 0.16666667 | C12: 406.39841 | D12: 129.50238 | F12: 20.47083 | G12: 72.40988 | H12: 65.98401 | I12: 67.59335 | J12: 27.49391 | K12: 0.6 | M12: 0 | P12: 149.11167 | Q12: 149.11167 | R12: 149.11167 | S12: 0 | T12: 0 | U12: 27 | V12: 73.01955 | W12: 16.95936 | X12: 20.47083 | Y12: 98 | Z12: 16 | AA12: 3.85335 | AB12: 4.10345 | AC12: 43.80059 | AD12: 3.28223 | AE12: 3.09927 | AL12: 85 | AN12: 171.10914 | AO12: 30.65639 | AP12: 8 | AQ12: 2.59309 | AR12: 0 | AS12: 88.02082 | AT12: 110.41591 | AU12: 3.84663 | AW12: 21.47725 | AX12: 63.4159 | BF12: 178.52956 | BG12: 178.52956 | BH12: 178.52956 | BI12: 267.79433 | BJ12: 69.97113 | BK12: 34.98557 | BL12: 0 | BM12: 12.01 | BN12: 11.79 | BO12: 1.75 | BP12: 0.38 | BQ12: 6.8787 | BR12: 8.1736 | BS12: 31.13452 | BX12: 44.1544 | BZ12: 194.44479 | CA12: 194.44479 | CB12: 194.44479 | CC12: 291.66718 | CD12: 209.70738 | CE12: 104.85369 | CF12: 154.50014 | CG12: 3.24022 | CH12: 185.73103 | CI12: 185.73103 | CJ12: 185.73103 | CK12: 189.51328 | CL12: 94.75664 | CT12: 107.0147 | CU12: 0 | CV12: 15.91408 | CW12: 60.42702 | CX12: 6.39 | DB12: 30 | DD12: 13 | DE12: 15 | DF12: 2.799 | DG12: 1.4 | DH12: 1.2 | DI12: 2.2 | DJ12: 7.2 | DK12: 11.1437 | DL12: 8 | DM12: 10.75269 | DN12: 6.4 | DO12: 16.61779 | DP12: 3.6 | DQ12: 6 | DR12: 2.8 | DS12: 1.5 | DT12: 5.6 | DU12: 5 | DV12: 5.5 | DW12: 5.7 | DX12: 3.5 | DY12: 2.5 | DZ12: 10 | EA12: 12.21896 | EB12: 16.81329 | EC12: 19.55034 | ED12: 37.57996 | EE12: 0 | EF12: 8.33 | EG12: 9.6 | EH12: 10.75269 | EI12: 15.64027 | EJ12: 7 | EK12: 9 | EL12: 0.54 | EM12: 1.05 | EN12: 0 | EO12: 0 | EP12: 0 | EQ12: 0 | ER12: 0 | ES12: 0 | ET12: 11.244 | EU12: 27.503 | EV12: 7.606 | EW12: 11.548 | EX12: 21.47 | EY12: 11.317 | EZ12: 0 | FA12: 5.5 | FB12: 5.7 | FC12: 10.51808 | FD12: 4.5 | FE12: 27 | FF12: 18 | FG12: 7.5 | FJ12: 5951.2109 | FK12: 5849.9077 | FL12: 6029.929 | FM12: 180.02129 | FO12: 2830.5833 | FP12: 629.08886 | FQ12: 301.14484 | FR12: 212.19067 | FS12: 296.1231 | FT12: 541.29511 | FU12: 1062.376 | FV12: 551.12281 | FW12: 364.78661 | FX12: 286.6148 | FY12: -1.33182 | FZ12: 1016.7565 | GA12: 35.59982 | GB12: 37.392 | GC12: 41.06689 | GD12: MIN | GE12: 3185.4351 | GF12: 556.33519 | GG12: 556.33519 | GJ12: 3240.8429 | GK12: 922.55322 | GL12: 1636.001 | GM12: 230.5319 | GO12: 5951.2109 | GP12: 3664.7274 | GQ12: 2142.8655 | GR12: 0 | GS12: 143.618 | GT12: 3664.7274 | GU12: 1852.7525 | GV12: 0 | GW12: 143.618 | GX12: 5661.0979 | GY12: 0 | GZ12: 290.11301 | HA12: 0 | HC12: 290.11301
A13: =+REPROGRAMADO!B13 -> JUE | B13: 0.1875 | C13: 406.39841 | D13: 129.50238 | F13: 20.47083 | G13: 76.26334 | H13: 65.98401 | I13: 67.59335 | J13: 27.49391 | K13: 0.6 | M13: 0 | P13: 149.11167 | Q13: 149.11167 | R13: 149.11167 | S13: 0 | T13: 0 | U13: 29 | V13: 73.01955 | W13: 16.95936 | X13: 20.47083 | Y13: 98 | Z13: 16 | AA13: 3.85335 | AB13: 4.10345 | AC13: 43.80059 | AD13: 3.28223 | AE13: 3.09927 | AL13: 85 | AN13: 180.30899 | AO13: 43.94751 | AP13: 8 | AQ13: 3.45784 | AR13: 0 | AS13: 88.02082 | AT13: 110.41591 | AU13: 3.84663 | AW13: 21.47725 | AX13: 63.4159 | BF13: 178.52956 | BG13: 178.52956 | BH13: 178.52956 | BI13: 267.79433 | BJ13: 69.97113 | BK13: 34.98557 | BL13: 0 | BM13: 18.46 | BN13: 19.16 | BO13: 2.69 | BP13: 0.55 | BQ13: 6.8787 | BR13: 8.1736 | BS13: 46.35177 | BX13: 46.90417 | BZ13: 194.44479 | CA13: 194.44479 | CB13: 194.44479 | CC13: 291.66718 | CD13: 209.70738 | CE13: 104.85369 | CF13: 154.50014 | CG13: 3.24022 | CH13: 185.73103 | CI13: 185.73103 | CJ13: 185.73103 | CK13: 189.51328 | CL13: 94.75664 | CT13: 107.0147 | CU13: 0 | CV13: 15.91408 | CW13: 60.42702 | CX13: 6.39 | DB13: 30 | DD13: 13 | DE13: 15 | DF13: 2.799 | DG13: 1.4 | DH13: 1.2 | DI13: 2.2 | DJ13: 7.2 | DK13: 11.1437 | DL13: 8 | DM13: 10.75269 | DN13: 6.4 | DO13: 16.61779 | DP13: 3.6 | DQ13: 6 | DR13: 2.8 | DS13: 1.5 | DT13: 5.6 | DU13: 5 | DV13: 5.5 | DW13: 5.7 | DX13: 3.5 | DY13: 2.5 | DZ13: 10 | EA13: 12.21896 | EB13: 16.81329 | EC13: 19.55034 | ED13: 37.57996 | EE13: 0 | EF13: 8.33 | EG13: 9.6 | EH13: 10.75269 | EI13: 15.64027 | EJ13: 7 | EK13: 9 | EL13: 0.54 | EM13: 1.05 | EN13: 0 | EO13: 0 | EP13: 0 | EQ13: 0 | ER13: 0 | ES13: 0 | ET13: 11.623 | EU13: 29.934 | EV13: 7.59 | EW13: 11.664 | EX13: 20.553 | EY13: 10.448 | EZ13: 0 | FA13: 5.5 | FB13: 5.7 | FC13: 10.0782 | FD13: 4.5 | FE13: 27 | FF13: 18 | FG13: 7.5 | FJ13: 6014.4411 | FK13: 5911.9301 | FL13: 6092.7193 | FM13: 180.78918 | FO13: 2844.1413 | FP13: 628.066 | FQ13: 300.03334 | FR13: 210.97471 | FS13: 297.84693 | FT13: 543.51955 | FU13: 1064.5558 | FV13: 554.54108 | FW13: 368.41818 | FX13: 292.42648 | FY13: -4.9905 | FZ13: 1021.4335 | GA13: 35.71391 | GB13: 37.48711 | GC13: 41.20793 | GD13: MIN | GE13: 3185.4351 | GF13: 556.33519 | GG13: 556.33519 | GJ13: 3268.1858 | GK13: 933.98576 | GL13: 1662.3298 | GM13: 228.21798 | GO13: 6014.4411 | GP13: 3664.7274 | GQ13: 2188.0417 | GR13: 0 | GS13: 161.672 | GT13: 3664.7274 | GU13: 1879.9617 | GV13: 0 | GW13: 161.672 | GX13: 5706.3611 | GY13: 0 | GZ13: 308.08003 | HA13: 0 | HC13: 308.08003
A14: =+REPROGRAMADO!B14 -> JUE | B14: 0.20833333 | C14: 406.39841 | D14: 129.50238 | F14: 20.47083 | G14: 76.26334 | H14: 65.98401 | I14: 67.59335 | J14: 27.49391 | K14: 0.6 | M14: 0 | P14: 149.11167 | Q14: 149.11167 | R14: 149.11167 | S14: 0 | T14: 0 | U14: 30 | V14: 73.01955 | W14: 16.95936 | X14: 20.47083 | Y14: 98 | Z14: 16 | AA14: 3.85335 | AB14: 4.10345 | AC14: 43.80059 | AD14: 3.28223 | AE14: 3.09927 | AL14: 85 | AN14: 191.83026 | AO14: 60.16691 | AP14: 8 | AQ14: 4.51312 | AR14: 0 | AS14: 88.02082 | AT14: 110.41591 | AU14: 3.84663 | AW14: 21.47725 | AX14: 63.4159 | BF14: 178.52956 | BG14: 178.52956 | BH14: 178.52956 | BI14: 267.79433 | BJ14: 69.97113 | BK14: 34.98557 | BL14: 0.232 | BM14: 18.46 | BN14: 19.16 | BO14: 2.69 | BP14: 0.55 | BQ14: 6.8787 | BR14: 8.1736 | BS14: 59.45126 | BX14: 48.86803 | BZ14: 194.44479 | CA14: 194.44479 | CB14: 194.44479 | CC14: 291.66718 | CD14: 209.70738 | CE14: 104.85369 | CF14: 154.50014 | CG14: 3.24022 | CH14: 185.73103 | CI14: 185.73103 | CJ14: 185.73103 | CK14: 189.51328 | CL14: 94.75664 | CT14: 107.0147 | CU14: 0 | CV14: 15.91408 | CW14: 60.42702 | CX14: 6.39 | DB14: 30 | DD14: 13 | DE14: 15 | DF14: 2.799 | DG14: 1.4 | DH14: 1.2 | DI14: 2.2 | DJ14: 7.2 | DK14: 11.1437 | DL14: 8 | DM14: 10.75269 | DN14: 6.4 | DO14: 16.61779 | DP14: 3.6 | DQ14: 6 | DR14: 2.8 | DS14: 1.5 | DT14: 5.6 | DU14: 5 | DV14: 5.5 | DW14: 5.7 | DX14: 3.5 | DY14: 2.5 | DZ14: 10 | EA14: 12.21896 | EB14: 16.81329 | EC14: 19.55034 | ED14: 37.57996 | EE14: 0 | EF14: 8.33 | EG14: 9.6 | EH14: 10.75269 | EI14: 15.64027 | EJ14: 7 | EK14: 9 | EL14: 0.54 | EM14: 1.05 | EN14: 0.076 | EO14: 0.096 | EP14: 0.027 | EQ14: 0.114 | ER14: 0.101 | ES14: 0 | ET14: 11.992 | EU14: 32.158 | EV14: 7.648 | EW14: 11.807 | EX14: 19.562 | EY14: 10.104 | EZ14: 0 | FA14: 5.5 | FB14: 5.7 | FC14: 10.20528 | FD14: 4.5 | FE14: 27 | FF14: 18 | FG14: 7.5 | FJ14: 6061.4054 | FK14: 5961.6707 | FL14: 6139.8107 | FM14: 178.14 | FO14: 2812.6137 | FP14: 629.70268 | FQ14: 301.50463 | FR14: 208.77832 | FS14: 291.98413 | FT14: 536.47155 | FU14: 1052.5453 | FV14: 547.6965 | FW14: 363.8586 | FX14: 289.13524 | FY14: -3.4593 | FZ14: 1025.0514 | GA14: 35.90055 | GB14: 37.62861 | GC14: 41.32962 | GD14: MIN | GE14: 3185.4351 | GF14: 556.33519 | GG14: 556.33519 | GJ14: 3305.8222 | GK14: 942.05836 | GL14: 1663.3893 | GM14: 228.54081 | GO14: 6061.4054 | GP14: 3664.7274 | GQ14: 2231.901 | GR14: 0.646 | GS14: 164.131 | GT14: 3664.7274 | GU14: 1908.7577 | GV14: 0 | GW14: 164.131 | GX14: 5737.6161 | GY14: 0 | GZ14: 323.14338 | HA14: 0.646 | HC14: 323.78938
A15: =+REPROGRAMADO!B15 -> JUE | B15: 0.22916667 | C15: 413.73271 | D15: 131.83952 | F15: 20.47083 | G15: 83.14121 | H15: 66.80227 | I15: 67.59335 | J15: 27.83485 | K15: 0.6 | M15: 0 | P15: 149.11167 | Q15: 149.11167 | R15: 149.11167 | S15: 5 | T15: 4.237 | U15: 33 | V15: 73.01955 | W15: 16.95936 | X15: 20.47083 | Y15: 98 | Z15: 16 | AA15: 3.85335 | AB15: 4.10345 | AC15: 43.80059 | AD15: 3.28223 | AE15: 3.09927 | AL15: 85 | AN15: 193.27 | AO15: 67.09692 | AP15: 8 | AQ15: 4.964 | AR15: 0 | AS15: 88.02082 | AT15: 110.41591 | AU15: 3.84663 | AW15: 21.47725 | AX15: 63.4159 | BF15: 178.52956 | BG15: 178.52956 | BH15: 178.52956 | BI15: 267.79433 | BJ15: 69.97113 | BK15: 34.98557 | BL15: 2.805 | BM15: 28.98 | BN15: 28.88 | BO15: 4.38 | BP15: 0.98 | BQ15: 6.8787 | BR15: 15.02151 | BS15: 88.30442 | BX15: 51.1511 | BZ15: 194.44479 | CA15: 194.44479 | CB15: 194.44479 | CC15: 291.66718 | CD15: 209.70738 | CE15: 104.85369 | CF15: 154.50014 | CG15: 3.24022 | CH15: 185.73103 | CI15: 185.73103 | CJ15: 185.73103 | CK15: 189.51328 | CL15: 94.75664 | CT15: 107.0147 | CU15: 0 | CV15: 15.91408 | CW15: 60.42702 | CX15: 6.39 | DB15: 30 | DD15: 13 | DE15: 15 | DF15: 2.799 | DG15: 1.4 | DH15: 1.2 | DI15: 2.2 | DJ15: 7.2 | DK15: 11.1437 | DL15: 8 | DM15: 10.75269 | DN15: 6.4 | DO15: 16.61779 | DP15: 3.6 | DQ15: 6 | DR15: 2.8 | DS15: 1.5 | DT15: 5.6 | DU15: 5 | DV15: 5.5 | DW15: 5.7 | DX15: 3.5 | DY15: 2.5 | DZ15: 10 | EA15: 12.21896 | EB15: 16.81329 | EC15: 19.55034 | ED15: 37.57996 | EE15: 0 | EF15: 8.33 | EG15: 9.6 | EH15: 10.75269 | EI15: 15.64027 | EJ15: 7 | EK15: 9 | EL15: 0.54 | EM15: 1.05 | EN15: 0.804 | EO15: 0.895 | EP15: 0.372 | EQ15: 1.842 | ER15: 1.451 | ES15: 0 | ET15: 12.218 | EU15: 32.562 | EV15: 7.927 | EW15: 12.024 | EX15: 18.431 | EY15: 11.485 | EZ15: 0 | FA15: 5.5 | FB15: 5.7 | FC15: 10.18573 | FD15: 4.5 | FE15: 27 | FF15: 18 | FG15: 7.5 | FJ15: 6169.4147 | FK15: 6077.5574 | FL15: 6247.8004 | FM15: 170.24307 | FO15: 2694.3197 | FP15: 644.34821 | FQ15: 333.98353 | FR15: 215.28709 | FS15: 306.18072 | FT15: 512.06975 | FU15: 1003.4007 | FV15: 520.0202 | FW15: 350.21924 | FX15: 285.08211 | FY15: -5.10935 | FZ15: 1043.2801 | GA15: 36.62154 | GB15: 38.29127 | GC15: 41.62273 | GD15: MIN | GE15: 3185.4351 | GF15: 556.33519 | GG15: 556.33519 | GJ15: 3399.4027 | GK15: 958.57827 | GL15: 1662.5962 | GM15: 227.22326 | GO15: 6169.4147 | GP15: 3664.7274 | GQ15: 2296.4143 | GR15: 17.406 | GS15: 190.867 | GT15: 3664.7274 | GU15: 1935.2868 | GV15: 0 | GW15: 190.867 | GX15: 5790.8812 | GY15: 0 | GZ15: 361.12752 | HA15: 17.406 | HC15: 378.53352
A16: =+REPROGRAMADO!B16 -> JUE | B16: 0.25 | C16: 414.66239 | D16: 132.13577 | F16: 20.47083 | G16: 76.26334 | H16: 65.98401 | I16: 67.59335 | J16: 27.49391 | K16: 0.6 | M16: 0 | P16: 149.11167 | Q16: 149.11167 | R16: 149.11167 | S16: 19 | T16: 16.102 | U16: 35 | V16: 73.01955 | W16: 16.95936 | X16: 20.47083 | Y16: 98 | Z16: 16 | AA16: 3.85335 | AB16: 4.10345 | AC16: 43.80059 | AD16: 3.28223 | AE16: 3.09927 | AL16: 85 | AN16: 193.27 | AO16: 67.09692 | AP16: 8 | AQ16: 4.964 | AR16: 0 | AS16: 88.02082 | AT16: 110.41591 | AU16: 3.84663 | AW16: 21.47725 | AX16: 63.4159 | BF16: 178.52956 | BG16: 178.52956 | BH16: 178.52956 | BI16: 267.79433 | BJ16: 69.97113 | BK16: 34.98557 | BL16: 9.818 | BM16: 28.98 | BN16: 28.88 | BO16: 4.38 | BP16: 0.98 | BQ16: 6.8787 | BR16: 15.02151 | BS16: 77.0424 | BX16: 49.83965 | BZ16: 194.44479 | CA16: 194.44479 | CB16: 194.44479 | CC16: 291.66718 | CD16: 209.70738 | CE16: 104.85369 | CF16: 154.50014 | CG16: 3.24022 | CH16: 185.73103 | CI16: 185.73103 | CJ16: 185.73103 | CK16: 189.51328 | CL16: 94.75664 | CT16: 107.0147 | CU16: 0 | CV16: 15.91408 | CW16: 60.42702 | CX16: 6.39 | DB16: 30 | DD16: 13 | DE16: 15 | DF16: 2.799 | DG16: 1.4 | DH16: 1.2 | DI16: 2.2 | DJ16: 7.2 | DK16: 11.1437 | DL16: 8 | DM16: 10.75269 | DN16: 6.4 | DO16: 16.61779 | DP16: 3.6 | DQ16: 6 | DR16: 2.8 | DS16: 1.5 | DT16: 5.6 | DU16: 5 | DV16: 5.5 | DW16: 5.7 | DX16: 3.5 | DY16: 2.5 | DZ16: 10 | EA16: 12.21896 | EB16: 16.81329 | EC16: 19.55034 | ED16: 37.57996 | EE16: 0 | EF16: 8.33 | EG16: 9.6 | EH16: 10.75269 | EI16: 15.64027 | EJ16: 7 | EK16: 9 | EL16: 0.54 | EM16: 1.05 | EN16: 3.133 | EO16: 3.032 | EP16: 1.133 | EQ16: 6.993 | ER16: 6.134 | ES16: 0 | ET16: 12.392 | EU16: 32.23 | EV16: 8.151 | EW16: 12.223 | EX16: 17.193 | EY16: 12.045 | EZ16: 0 | FA16: 5.5 | FB16: 5.7 | FC16: 10.17595 | FD16: 4.5 | FE16: 27 | FF16: 18 | FG16: 7.5 | FJ16: 6199.5561 | FK16: 6109.896 | FL16: 6277.932 | FM16: 168.03609 | FO16: 2636.5918 | FP16: 651.49354 | FQ16: 349.61773 | FR16: 226.26944 | FS16: 326.60719 | FT16: 499.93036 | FU16: 982.38135 | FV16: 506.22261 | FW16: 339.87132 | FX16: 270.13429 | FY16: -0.79415 | FZ16: 1045.1317 | GA16: 36.47346 | GB16: 38.33818 | GC16: 41.50486 | GD16: MIN | GE16: 3185.4351 | GF16: 556.33519 | GG16: 556.33519 | GJ16: 3407.2034 | GK16: 984.3728 | GL16: 1668.9056 | GM16: 217.45025 | GO16: 6199.5561 | GP16: 3664.7274 | GQ16: 2277.0297 | GR16: 65.345 | GS16: 192.454 | GT16: 3664.7274 | GU16: 1928.4756 | GV16: 0 | GW16: 192.454 | GX16: 5785.6571 | GY16: 0 | GZ16: 348.55405 | HA16: 65.345 | HC16: 413.89905
... A52: =+REPROGRAMADO!B52 -> JUE | B52: 1 | C52: 555.76336 | D52: 177.09881 | F52: 122.61326 | G52: 77.8536 | H52: 66.612 | I52: 67.59335 | J52: 29.87354 | K52: 0.6 | M52: 0 | P52: 151.77987 | Q52: 151.77987 | R52: 151.77987 | S52: 0 | T52: 0 | U52: 26 | V52: 73.01955 | W52: 16.95936 | X52: 65.375 | Y52: 98 | Z52: 7.50893 | AA52: 3.85335 | AB52: 4.10345 | AC52: 43.80059 | AD52: 3.28223 | AE52: 3.09927 | AL52: 85 | AN52: 153.50664 | AO52: 20.47083 | AP52: 8 | AQ52: 1.9304 | AR52: 88.08841 | AS52: 0 | AT52: 110.41591 | AU52: 3.84663 | AW52: 21.47725 | AX52: 110.952 | BF52: 178.27962 | BG52: 178.27962 | BH52: 178.27962 | BI52: 267.41943 | BJ52: 69.97113 | BK52: 34.98557 | BL52: 0 | BM52: 35.29 | BN52: 34.48 | BO52: 5.41 | BP52: 1.27 | BQ52: 6.8787 | BR52: 15.02151 | BS52: 69.73811 | BX52: 64.71554 | BZ52: 194.44479 | CA52: 194.44479 | CB52: 194.44479 | CC52: 291.66718 | CD52: 209.70738 | CE52: 104.85369 | CF52: 254.99383 | CG52: 3.24022 | CH52: 185.73103 | CI52: 185.73103 | CJ52: 185.73103 | CK52: 189.51328 | CL52: 94.75664 | CT52: 20.47083 | CU52: 42.168 | CV52: 15.91408 | CW52: 60.42702 | CX52: 6.39 | DB52: 30 | DD52: 13 | DE52: 15 | DF52: 2.799 | DG52: 1.4 | DH52: 1.2 | DI52: 2.2 | DJ52: 7.2 | DK52: 11.1437 | DL52: 8 | DM52: 10.75269 | DN52: 6.4 | DO52: 16.61779 | DP52: 3.6 | DQ52: 6 | DR52: 3.3 | DS52: 1.5 | DT52: 5.6 | DU52: 5 | DV52: 5.5 | DW52: 5.7 | DX52: 3.5 | DY52: 2.5 | DZ52: 10 | EA52: 12.21896 | EB52: 16.81329 | EC52: 19.55034 | ED52: 37.57996 | EE52: 9.82053 | EF52: 8.33 | EG52: 9.6 | EH52: 10.75269 | EI52: 15.64027 | EJ52: 7 | EK52: 9 | EL52: 0.54 | EM52: 1.05 | EN52: 0 | EO52: 0 | EP52: 0 | EQ52: 0 | ER52: 0 | ES52: 0 | ET52: 13.702 | EU52: 36.847 | EV52: 5.012 | EW52: 7.982 | EX52: 19.937 | EY52: 22.463 | EZ52: 2.8 | FA52: 5.5 | FB52: 5.7 | FC52: 10.1955 | FD52: 4.5 | FE52: 27 | FF52: 18 | FG52: 7.5 | FJ52: 6518.438 | FK52: 6412.554 | FL52: 6599.6335 | FM52: 187.07947 | FO52: 2813.7221 | FP52: 635.80223 | FQ52: 415.25697 | FR52: 242.48687 | FS52: 345.41061 | FT52: 563.18059 | FU52: 973.28073 | FV52: 530.73867 | FW52: 364.47515 | FX52: 302.8359 | FY52: 8.06497 | FZ52: 1016.9574 | GA52: 36.98176 | GB52: 39.11707 | GC52: 42.36282 | GD52: MIN | GE52: 2904.1244 | GF52: 275.02454 | GG52: 275.02454 | GJ52: 3636.2529 | GK52: 1009.4653 | GL52: 1711.6561 | GM52: 242.25917 | GO52: 6518.438 | GP52: 3671.6749 | GQ52: 2638.3701 | GR52: 0 | GS52: 208.393 | GT52: 3671.6749 | GU52: 2282.2445 | GV52: 0 | GW52: 208.393 | GX52: 6162.3124 | GY52: 0 | GZ52: 356.12565 | HA52: 0 | HC52: 356.12565
A53: MWh | B53: EJEC | C53: 13000 | D53: 4142.5627 | E53: 0 | F53: 2585.0656 | G53: 1964.602 | H53: 1636.6436 | I53: 1622.2404 | J53: 683.00787 | K53: 14.4 | L53: 0 | M53: 1214.8342 | N53: 0 | O53: 0 | P53: 3728.9692 | Q53: 3728.9692 | R53: 3728.9692 | S53: 1390 | T53: 1087.356 | U53: 1481 | V53: 1752.4692 | W53: 407.02464 | X53: 1569 | Y53: 2352 | Z53: 500.00001 | AA53: 92.4804 | AB53: 98.4828 | AC53: 1051.2142 | AD53: 78.77352 | AE53: 74.38248 | AF53: 0 | AG53: 0 | AH53: 0 | AI53: 0 | AJ53: 0 | AK53: 0 | AL53: 2040 | AM53: 0 | AN53: 4638.48 | AO53: 1610.3262 | AP53: 192 | AQ53: 119.13601 | AR53: 836.8399 | AS53: 528.12492 | AT53: 2649.9818 | AU53: 92.31912 | AV53: 0 | AW53: 515.454 | AX53: 2662.848 | AY53: 0 | AZ53: 0 | BA53: 0 | BB53: 0 | BC53: 0 | BD53: 0 | BE53: 0 | BF53: 4266.6459 | BG53: 4266.6459 | BH53: 4266.6459 | BI53: 6399.9687 | BJ53: 1679.3071 | BK53: 839.65368 | BL53: 360.905 | BM53: 1207.72 | BN53: 1096.11 | BO53: 191.87 | BP53: 50.1 | BQ53: 165.0888 | BR53: 287.8697 | BS53: 1651.8005 | BT53: 0 | BU53: 0 | BV53: 0 | BW53: 0 | BX53: 1425.0542 | BY53: 0 | BZ53: 4666.675 | CA53: 4666.675 | CB53: 4666.675 | CC53: 7000.0123 | CD53: 5032.9771 | CE53: 2516.4886 | CF53: 4764.4366 | CG53: 77.76528 | CH53: 4457.5447 | CI53: 4457.5447 | CJ53: 4457.5447 | CK53: 4548.3187 | CL53: 2274.1594 | CM53: 0 | CN53: 0 | CO53: 0 | CP53: 0 | CQ53: 0 | CR53: 0 | CS53: 0 | CT53: 1740.7291 | CU53: 1012.032 | CV53: 381.93792 | CW53: 1450.2485 | CX53: 153.36 | CY53: 0 | CZ53: 0 | DA53: 0 | DB53: 720 | DC53: 0 | DD53: 312 | DE53: 360 | DF53: 67.176 | DG53: 33.6 | DH53: 28.8 | DI53: 52.8 | DJ53: 172.8 | DK53: 267.4488 | DL53: 192 | DM53: 258.06456 | DN53: 153.6 | DO53: 398.82696 | DP53: 86.4 | DQ53: 144 | DR53: 71.35 | DS53: 36 | DT53: 134.4 | DU53: 120 | DV53: 132 | DW53: 136.8 | DX53: 84 | DY53: 60 | DZ53: 240 | EA53: 293.25504 | EB53: 403.51896 | EC53: 469.20816 | ED53: 901.91904 | EE53: 235.69266 | EF53: 199.92 | EG53: 230.4 | EH53: 258.06456 | EI53: 375.36648 | EJ53: 168 | EK53: 216 | EL53: 12.96 | EM53: 25.2 | EN53: 148.138 | EO53: 141.153 | EP53: 180.723 | EQ53: 186.0425 | ER53: 148.838 | ES53: 8.345 | ET53: 358.4895 | EU53: 1080.966 | EV53: 222.164 | EW53: 284.102 | EX53: 515.7925 | EY53: 905.3695 | EZ53: 36.1 | FA53: 132 | FB53: 198.87026 | FC53: 230.87969 | FD53: 161.1477 | FE53: 648 | FF53: 432 | FG53: 180 | FH53: 0 | FI53: 0 | FJ53: 164582.16 | FK53: 162329.75 | FL53: 166601.16 | FM53: 4271.4088 | FN53: 0 | FO53: 59671.162 | FP53: 16326.361 | FQ53: 11525.135 | FR53: 6138.4922 | FS53: 8753.6525 | FT53: 10758.119 | FU53: 19779.83 | FV53: 11728.92 | FW53: 7862.791 | FX53: 5894.4962 | FY53: 639.42862 | FZ53: 25331.231 | GA53: 885.95453 | GB53: 936.84979 | GC53: 997.17128 | GD53: 0 | GE53: 73013.206 | GF53: 9914.8085 | GG53: 9914.8085 | GH53: 0 | GI53: 0 | GJ53: 93346.618 | GK53: 25970.189 | GL53: 41700.03 | GM53: 5584.3212 | GN53: 0 | GO53: 164582.16 | GP53: 88790.339 | GQ53: 64746.638 | GR53: 3651.5005 | GS53: 7393.6835 | GT53: 88790.339 | GU53: 56422.302 | GV53: 8.345 | GW53: 7393.6835 | GX53: 152614.67 | GY53: 0 | GZ53: 8324.3362 | HA53: 3643.1555 | HB53: 0 | HC53: 11967.492 | HD53: FIN
FJ54: T_COES
A55: EMPRESA | C55: E1 | D55: E1 | E55: E1 | F55: E2 | G55: E2 | H55: E2 | I55: E2 | J55: E2 | K55: E2 | L55: E2 | M55: E2 | N55: E2 | O55: E2 | P55: E2 | Q55: E2 | R55: E2 | S55: E2 | T55: E2 | U55: E2 | V55: E3 | W55: E3 | X55: E46 | Y55: E46 | Z55: E46 | AA55: E46 | AB55: E46 | AC55: E46 | AD55: E46 | AE55: E46 | AF55: E46 | AG55: E9 | AH55: E9 | AI55: E9 | AJ55: E9 | AK55: E5 | AL55: E5 | AM55: E5 | AN55: E4 | AO55: E4 | AP55: E4 | AQ55: E4 | AR55: E8 | AS55: E8 | AT55: E11 | AU55: E12 | AV55: E12 | AW55: E12 | AX55: E13 | AY55: E13 | AZ55: E13 | BA55: E13 | BB55: E13 | BC55: E13 | BD55: E13 | BE55: E13 | BF55: E13 | BG55: E13 | BH55: E13 | BI55: E13 | BJ55: E13 | BK55: E13 | BL55: E13 | BM55: E13 | BN55: E13 | BO55: E13 | BP55: E13 | BQ55: E14 | BR55: E14 | BS55: E14 | BT55: E14 | BU55: E14 | BV55: E14 | BW55: E14 | BX55: E15 | BY55: E15 | BZ55: E17 | CA55: E17 | CB55: E17 | CC55: E17 | CD55: E17 | CE55: E17 | CF55: E17 | CG55: E17 | CH55: E18 | CI55: E18 | CJ55: E18 | CK55: E19 | CL55: E19 | CM55: E44 | CN55: E44 | CO55: E48 | CP55: E52 | CQ55: E52 | CR55: E52 | CS55: E52 | CT55: E22 | CU55: E10 | CV55: E7 | CW55: E45 | CX55: E51 | CY55: E51 | CZ55: E55 | DA55: E55 | DB55: E20 | DC55: E20 | DD55: E24 | DE55: E30 | DF55: E28 | DG55: E28 | DH55: E28 | DI55: E28 | DJ55: E40 | DK55: E40 | DL55: E40 | DM55: E40 | DN55: E25 | DO55: E25 | DP55: E36 | DQ55: E37 | DR55: E26 | DS55: E16 | DT55: E23 | DU55: E23 | DV55: E23 | DW55: E23 | DX55: E29 | DY55: E42 | DZ55: E56 | EA55: E57 | EB55: E58 | EC55: E60 | ED55: E61 | EE55: E63 | EF55: E65 | EG55: E66 | EH55: E54 | EI55: E67 | EJ55: E67 | EK55: E68 | EL55: E71 | EM55: E71 | EN55: E32 | EO55: E33 | EP55: E34 | EQ55: E35 | ER55: E41 | ES55: E72 | ET55: E38 | EU55: E50 | EV55: E69 | EW55: E70 | EX55: E39 | EY55: E39 | EZ55: NC3 | FA55: NC1 | FB55: NC1 | FC55: NC2 | FD55: NC5 | FE55: CNC4 | FF55: CNC6 | FG55: NC7 | FH55: CNC8 | FI55: CNC8 | FJ55: T_COES | GO55: T_SEIN
A56: AREAS CN Y S | C56: CN | D56: CN | E56: CN | F56: CN | G56: CN | H56: CN | I56: CN | J56: CN | K56: CN | L56: CN | M56: CN | N56: CN | O56: CN | P56: CN | Q56: CN | R56: CN | S56: S | T56: S | U56: CN | V56: CN | W56: CN | X56: CN | Y56: CN | Z56: CN | AA56: CN | AB56: CN | AC56: CN | AD56: S | AE56: CN | AF56: CN | AG56: CN | AH56: CN | AI56: CN | AJ56: CN | AK56: CN | AL56: CN | AM56: CN | AN56: CN | AO56: CN | AP56: CN | AQ56: CN | AR56: CN | AS56: CN | AT56: S | AU56: S | AV56: S | AW56: CN | AX56: CN | AY56: S | AZ56: S | BA56: S | BB56: S | BC56: S | BD56: S | BE56: S | BF56: CN | BG56: CN | BH56: CN | BI56: CN | BJ56: CN | BK56: CN | BL56: S | BM56: CN | BN56: CN | BO56: CN | BP56: CN | BQ56: S | BR56: S | BS56: S | BT56: S | BU56: S | BV56: S | BW56: S | BX56: S | BY56: S | BZ56: CN | CA56: CN | CB56: CN | CC56: CN | CD56: CN | CE56: CN | CF56: CN | CG56: CN | CH56: CN | CI56: CN | CJ56: CN | CK56: CN | CL56: CN | CM56: CN | CN56: CN | CO56: CN | CP56: S | CQ56: S | CR56: S | CS56: S | CT56: CN | CU56: CN | CV56: CN | CW56: S | CX56: CN | CY56: CN | CZ56: CN | DA56: S | DB56: CN | DC56: CN | DD56: CN | DE56: CN | DF56: CN | DG56: CN | DH56: CN | DI56: CN | DJ56: CN | DK56: CN | DL56: CN | DM56: CN | DN56: CN | DO56: CN | DP56: CN | DQ56: CN | DR56: CN | DS56: CN | DT56: S | DU56: S | DV56: S | DW56: S | DX56: CN | DY56: CN | DZ56: CN | EA56: CN | EB56: CN | EC56: CN | ED56: CN | EE56: CN | EF56: CN | EG56: CN | EH56: CN | EI56: CN | EJ56: CN | EK56: CN | EL56: CN | EM56: CN | EN56: S | EO56: S | EP56: S | EQ56: S | ER56: S | ES56: CN | ET56: CN | EU56: CN | EV56: CN | EW56: CN | EX56: CN | EY56: CN | FJ56: T_COES | GO56: T_SEIN
A57: RECURSO AREA | C57: HC | D57: HC | E57: TN | F57: HC | G57: HC | H57: HC | I57: HC | J57: HC | K57: HC | L57: TC | M57: TC | N57: TC | O57: TC | P57: TC | Q57: TC | R57: TC | S57: SS | T57: SS | U57: EC | V57: HC | W57: HC | X57: HC | Y57: HC | Z57: HC | AA57: HC | AB57: HC | AC57: HC | AD57: HS | AE57: HN | AF57: HN | AG57: TC | AH57: TC | AI57: TC | AJ57: TC | AK57: TN | AL57: TN | AM57: TN | AN57: HN | AO57: HN | AP57: HN | AQ57: HN | AR57: TC | AS57: TC | AT57: HS | AU57: HS | AV57: HS | AW57: TC | AX57: HC | AY57: TS | AZ57: TS | BA57: TS | BB57: TS | BC57: TS | BD57: TS | BE57: TS | BF57: TC | BG57: TC | BH57: TC | BI57: TC | BJ57: TC | BK57: TC | BL57: SS | BM57: EC | BN57: EC | BO57: EC | BP57: EC | BQ57: HS | BR57: HS | BS57: HS | BT57: HS | BU57: TS | BV57: TS | BW57: TS | BX57: HS | BY57: HS | BZ57: TC | CA57: TC | CB57: TC | CC57: TC | CD57: TC | CE57: TC | CF57: HC | CG57: HC | CH57: TC | CI57: TC | CJ57: TC | CK57: TC | CL57: TC | CM57: TN | CN57: TN | CO57: TN | CP57: TS | CQ57: TS | CR57: TS | CS57: TS | CT57: HC | CU57: HC | CV57: HC | CW57: HS | CX57: HC | CY57: HC | CZ57: TC | DA57: TS | DB57: TC | DC57: TC | DD57: TC | DE57: TN | DF57: TC | DG57: TC | DH57: TC | DI57: TC | DJ57: HN | DK57: HC | DL57: HC | DM57: HC | DN57: HN | DO57: HC | DP57: HC | DQ57: HN | DR57: HC | DS57: HC | DT57: HS | DU57: HS | DV57: HS | DW57: HS | DX57: HC | DY57: HC | DZ57: HN | EA57: HC | EB57: HC | EC57: HC | ED57: HC | EE57: HC | EF57: TN | EG57: TN | EH57: HC | EI57: HC | EJ57: HC | EK57: HN | EL57: HC | EM57: HC | EN57: SS | EO57: SS | EP57: SS | EQ57: SS | ER57: SS | ES57: SC | ET57: EC | EU57: EC | EV57: EN | EW57: EN | EX57: EN | EY57: EN | EZ57: HC | FA57: HN | FB57: HN | FC57: HN | FD57: HN | FE57: TN | FF57: TN | FG57: HN | FH57: TN | FI57: TN | FJ57: T_COES | GO57: T_SEIN
A58: RECURSO | C58: H | D58: H | E58: T | F58: H | G58: H | H58: H | I58: H | J58: H | K58: H | L58: T | M58: T | N58: T | O58: T | P58: T | Q58: T | R58: T | S58: S | T58: S | U58: E | V58: H | W58: H | X58: H | Y58: H | Z58: H | AA58: H | AB58: H | AC58: H | AD58: H | AE58: H | AF58: H | AG58: T | AH58: T | AI58: T | AJ58: T | AK58: T | AL58: T | AM58: T | AN58: H | AO58: H | AP58: H | AQ58: H | AR58: T | AS58: T | AT58: H | AU58: H | AV58: H | AW58: T | AX58: H | AY58: T | AZ58: T | BA58: T | BB58: T | BC58: T | BD58: T | BE58: T | BF58: T | BG58: T | BH58: T | BI58: T | BJ58: T | BK58: T | BL58: S | BM58: E | BN58: E | BO58: E | BP58: E | BQ58: H | BR58: H | BS58: H | BT58: H | BU58: T | BV58: T | BW58: T | BX58: H | BY58: H | BZ58: T | CA58: T | CB58: T | CC58: T | CD58: T | CE58: T | CF58: H | CG58: H | CH58: T | CI58: T | CJ58: T | CK58: T | CL58: T | CM58: T | CN58: T | CO58: T | CP58: T | CQ58: T | CR58: T | CS58: T | CT58: H | CU58: H | CV58: H | CW58: H | CX58: H | CY58: H | CZ58: T | DA58: T | DB58: T | DC58: T | DD58: T | DE58: T | DF58: T | DG58: T | DH58: T | DI58: T | DJ58: H | DK58: H | DL58: H | DM58: H | DN58: H | DO58: H | DP58: H | DQ58: H | DR58: H | DS58: H | DT58: H | DU58: H | DV58: H | DW58: H | DX58: H | DY58: H | DZ58: H | EA58: H | EB58: H | EC58: H | ED58: H | EE58: H | EF58: T | EG58: T | EH58: H | EI58: H | EJ58: H | EK58: H | EL58: H | EM58: H | EN58: S | EO58: S | EP58: S | EQ58: S | ER58: S | ES58: S | ET58: E | EU58: E | EV58: E | EW58: E | EX58: E | EY58: E | EZ58: H_NC | FA58: H_NC | FB58: H_NC | FC58: H_NC | FD58: H_NC | FE58: T_NC | FF58: T_NC | FG58: H_NC | FH58: T_NC | FI58: T_NC | FJ58: T_COES | GO58: T_SEIN | GP58: T | GQ58: H | GR58: S | GS58: E | GT58: TCN | GU58: HCN | GV58: SCN | GW58: ECN | GX58: TOTAL_CN | GY58: TS | GZ58: HS | HA58: SS | HB58: ES | HC58: TOTAL_S
A59: AREA | C59: C | D59: C | E59: N | F59: C | G59: C | H59: C | I59: C | J59: C | K59: CN | L59: C | M59: C | N59: C | O59: C | P59: C | Q59: C | R59: C | S59: S | T59: S | U59: C | V59: C | W59: C | X59: C | Y59: C | Z59: C | AA59: C | AB59: C | AC59: C | AD59: S | AE59: N | AF59: N | AG59: C | AH59: C | AI59: C | AJ59: C | AK59: N | AL59: N | AM59: N | AN59: N | AO59: N | AP59: N | AQ59: N | AR59: C | AS59: C | AT59: S | AU59: S | AV59: S | AW59: C | AX59: C | AY59: S | AZ59: S | BA59: S | BB59: S | BC59: S | BD59: S | BE59: S | BF59: C | BG59: C | BH59: C | BI59: C | BJ59: C | BK59: C | BL59: S | BM59: C | BN59: C | BO59: C | BP59: C | BQ59: S | BR59: S | BS59: S | BT59: S | BU59: S | BV59: S | BW59: S | BX59: S | BY59: S | BZ59: C | CA59: C | CB59: C | CC59: C | CD59: C | CE59: C | CF59: C | CG59: C | CH59: C | CI59: C | CJ59: C | CK59: C | CL59: C | CM59: N | CN59: N | CO59: N | CP59: S | CQ59: S | CR59: S | CS59: S | CT59: C | CU59: C | CV59: C | CW59: S | CX59: C | CY59: C | CZ59: C | DA59: S | DB59: C | DC59: C | DD59: C | DE59: N | DF59: C | DG59: C | DH59: C | DI59: C | DJ59: N | DK59: C | DL59: C | DM59: C | DN59: N | DO59: C | DP59: C | DQ59: N | DR59: C | DS59: C | DT59: S | DU59: S | DV59: S | DW59: S | DX59: C | DY59: C | DZ59: N | EA59: C | EB59: C | EC59: C | ED59: C | EE59: C | EF59: N | EG59: N | EH59: C | EI59: C | EJ59: C | EK59: N | EL59: C | EM59: C | EN59: S | EO59: S | EP59: S | EQ59: S | ER59: S | ES59: C | ET59: C | EU59: C | EV59: N | EW59: N | EX59: N | EY59: N | EZ59: C | FA59: N | FB59: N | FC59: N | FD59: N | FE59: N | FF59: N | FG59: N | FH59: N | FI59: N | FJ59: T_COES | GO59: T_SEIN
A60: RER | C60: 1 | D60: 1 | E60: 1 | F60: 1 | G60: 1 | H60: 1 | I60: 1 | J60: 1 | K60: R | L60: 1 | M60: 1 | N60: 1 | O60: 1 | P60: 1 | Q60: 1 | R60: 1 | S60: R | T60: R | U60: R | V60: 1 | W60: 1 | X60: 1 | Y60: 1 | Z60: 1 | AA60: 1 | AB60: 1 | AC60: 1 | AD60: 1 | AE60: 1 | AF60: 1 | AG60: 1 | AH60: 1 | AI60: 1 | AJ60: 1 | AK60: 1 | AL60: 1 | AM60: 1 | AN60: 1 | AO60: 1 | AP60: R | AQ60: R | AR60: 1 | AS60: 1 | AT60: 1 | AU60: 1 | AV60: 1 | AW60: 1 | AX60: 1 | AY60: 1 | AZ60: 1 | BA60: 1 | BB60: 1 | BC60: 1 | BD60: 1 | BE60: 1 | BF60: 1 | BG60: 1 | BH60: 1 | BI60: 1 | BJ60: 1 | BK60: 1 | BL60: R | BM60: R | BN60: R | BO60: R | BP60: R | BQ60: 1 | BR60: 1 | BS60: 1 | BT60: 1 | BU60: 1 | BV60: 1 | BW60: 1 | BX60: 1 | BY60: R | BZ60: 1 | CA60: 1 | CB60: 1 | CC60: 1 | CD60: 1 | CE60: 1 | CF60: 1 | CG60: 1 | CH60: 1 | CI60: 1 | CJ60: 1 | CK60: 1 | CL60: 1 | CM60: 1 | CN60: 1 | CO60: 1 | CP60: 1 | CQ60: 1 | CR60: 1 | CS60: 1 | CT60: 1 | CU60: 1 | CV60: 1 | CW60: 1 | CX60: 1 | CY60: 1 | CZ60: 1 | DA60: 1 | DB60: 1 | DC60: 1 | DD60: R | DE60: 1 | DF60: R | DG60: R | DH60: R | DI60: R | DJ60: R | DK60: R | DL60: R | DM60: R | DN60: R | DO60: R | DP60: R | DQ60: R | DR60: R | DS60: R | DT60: R | DU60: R | DV60: R | DW60: R | DX60: R | DY60: R | DZ60: R | EA60: 1 | EB60: R | EC60: R | ED60: 1 | EE60: R | EF60: 1 | EG60: 1 | EH60: R | EI60: R | EJ60: R | EK60: R | EL60: 1 | EM60: 1 | EN60: R | EO60: R | EP60: R | EQ60: R | ER60: R | ES60: R | ET60: R | EU60: R | EV60: R | EW60: R | EX60: R | EY60: R | EZ60: 1 | FA60: 1 | FB60: 1 | FC60: 1 | FD60: R | FE60: R | FF60: 1 | FG60: R | FH60: 1 | FI60: 1 | FJ60: T_COES | GO60: T_SEIN
A61: RECURSO RER | C61: =+CONCATENATE(C60,C58) -> 1H | D61: =+CONCATENATE(D60,D58) -> 1H | E61: =+CONCATENATE(E60,E58) -> 1T | F61: =+CONCATENATE(F60,F58) -> 1H | G61: =+CONCATENATE(G60,G58) -> 1H | H61: =+CONCATENATE(H60,H58) -> 1H | I61: =+CONCATENATE(I60,I58) -> 1H | J61: =+CONCATENATE(J60,J58) -> 1H | ... BB61: =+CONCATENATE(BB60,BB58) -> 1T | BC61: 1T | BD61: 1T | BE61: 1T | BF61: =+CONCATENATE(BF60,BF58) -> 1T | BG61: =+CONCATENATE(BG60,BG58) -> 1T | BH61: =+CONCATENATE(BH60,BH58) -> 1T | BI61: =+CONCATENATE(BI60,BI58) -> 1T | BJ61: =+CONCATENATE(BJ60,BJ58) -> 1T | BK61: =+CONCATENATE(BK60,BK58) -> 1T | BL61: =+CONCATENATE(BL60,BL58) -> RS | BM61: =+CONCATENATE(BM60,BM58) -> RE | ... EY61: =+CONCATENATE(EY60,EY58) -> RE | EZ61: 1H_NC | FA61: 1H_NC | FB61: 1H_NC | FC61: 1H_NC | FD61: 1H_NC | FE61: =+CONCATENATE(FE60,FE58) -> RT_NC | FF61: =+CONCATENATE(FF60,FF58) -> 1T_NC | FG61: 1H_NC | FH61: =+CONCATENATE(FH60,FH58) -> 1T_NC | FI61: =+CONCATENATE(FI60,FI58) -> 1T_NC | FJ61: T_COES | GO61: T_SEIN
A62: RECURSO AREAS CN Y S | C62: HCN | D62: HCN | E62: TCN | F62: HCN | G62: HCN | H62: HCN | I62: HCN | J62: HCN | K62: HCN | L62: TCN | M62: TCN | N62: TCN | O62: TCN | P62: TCN | Q62: TCN | R62: TCN | S62: SS | T62: SS | U62: ECN | V62: HCN | W62: HCN | X62: HCN | Y62: HCN | Z62: HCN | AA62: HCN | AB62: HCN | AC62: HCN | AD62: HS | AE62: HCN | AF62: HCN | AG62: TCN | AH62: TCN | AI62: TCN | AJ62: TCN | AK62: TCN | AL62: TCN | AM62: TCN | AN62: HCN | AO62: HCN | AP62: HCN | AQ62: HCN | AR62: TCN | AS62: TCN | AT62: HS | AU62: HS | AV62: HS | AW62: TCN | AX62: HCN | AY62: TS | AZ62: TS | BA62: TS | BB62: TS | BC62: TS | BD62: TS | BE62: TS | BF62: TCN | BG62: TCN | BH62: TCN | BI62: TCN | BJ62: TCN | BK62: TCN | BL62: SS | BM62: ECN | BN62: ECN | BO62: ECN | BP62: ECN | BQ62: HS | BR62: HS | BS62: HS | BT62: HS | BU62: TS | BV62: TS | BW62: TS | BX62: HS | BY62: HS | BZ62: TCN | CA62: TCN | CB62: TCN | CC62: TCN | CD62: TCN | CE62: TCN | CF62: HCN | CG62: HCN | CH62: TCN | CI62: TCN | CJ62: TCN | CK62: TCN | CL62: TCN | CM62: TCN | CN62: TCN | CO62: TCN | CP62: TS | CQ62: TS | CR62: TS | CS62: TS | CT62: HCN | CU62: HCN | CV62: HCN | CW62: HS | CX62: HCN | CY62: HCN | CZ62: TCN | DA62: TS | DB62: TCN | DC62: TCN | DD62: TCN | DE62: TCN | DF62: TCN | DG62: TCN | DH62: TCN | DI62: TCN | DJ62: HCN | DK62: HCN | DL62: HCN | DM62: HCN | DN62: HCN | DO62: HCN | DP62: HCN | DQ62: HCN | DR62: HCN | DS62: HCN | DT62: HS | DU62: HS | DV62: HS | DW62: HS | DX62: HCN | DY62: HCN | DZ62: HCN | EA62: HCN | EB62: HCN | EC62: HCN | ED62: HCN | EE62: HCN | EF62: TCN | EG62: TCN | EH62: HCN | EI62: HCN | EJ62: HCN | EK62: HCN | EL62: HCN | EM62: HCN | EN62: SS | EO62: SS | EP62: SS | EQ62: SS | ER62: SS | ES62: SCN | ET62: ECN | EU62: ECN | EV62: ECN | EW62: ECN | EX62: ECN | EY62: ECN | FJ62: T_COES | GO62: T_SEIN
FJ63: T_COES
A64: T_COES

Sheet REPROGRAMADO
A1: 45218 | M1: REPROGRAMACIÓN DIARIA
C2: =+B5 -> JUE | D2: ELECTROPERU | G2: ENEL PERÚ | W2: CHINANGO | Y2: STATKRAFT | AH2: SHOUGESA | AL2: ENEL PIURA | AO2: ORAZUL | AS2: TERMOSELVA | AU2: EGEMSA | AV2: EGESUR | AY2: ENGIE | BR2: EGASA | BY2: SAN GABAN | CA2: KALLPA | CI2: FENIX POWER | CL2: TERMOCHILCA | CN2: PLANTA RESERVA FRIA ETEN | CP2: MINERA CERRO VERDE | CQ2: SAMAY I | CU2: CELEPSA | CV2: EMGHUANZA | CW2: HUANCHOR | CX2: INLAND ENERGY | CY2: HUALLAGA | DA2: INFR. Y ENERGÍA DEL PERÚ | DC2: SDF ENERGIA | DE2: AIPSA | DF2: AGROAURORA | DG2: PETRAMAS | DK2: EGEJUNÍN | DO2: SINERSA | DQ2: ELÉCTRICA YANAPAMPA | DR2: ELÉCTRICA RIO DOBLE | DS2: MAJA | DT2: ATRIA ENERGÍA | DU2: GEPSA | DY2: HIDROCAÑETE | DZ2: EGECSAC | EA2: AGUA AZUL | EB2: CELEPSA RENOVABLES | EC2: HUAURA POWER GROUP | ED2: EGE SANTA ANA | EE2: LA VIRGEN | EF2: ANDEAN POWER | EG2: AGROINDUSTRIAS SAN JACINTO | EH2: BIOENERGÍA DEL CHIRA | EI2: EGERBA | EJ2: GENERACIÓN ANDINA | EL2: INVERSIÓN DE ENERGÍAS RENOVABLES S.A. | EM2: CENTRALES SANTA ROSA | EO2: MAJES ARCUS | EP2: REPARTICION ARCUS | EQ2: TACNA SOLAR | ER2: PANA. SOLAR | ES2: MOQUEGUA FV SOLAR | ET2: COLCA SOLAR | EU2: CEM | EV2: TRES HERMANAS | EW2: GR PAINO S.A.C | EX2: GR TARUCA S.A.C | EY2: ENERGIA EOLICA | FA2: EOR | FB2: SINERSA | FD2: CASA | FE2: AGUA Y E. PERU | FF2: SDE PIURA | FG2: SDE PURA | FH2: ELECTRO ZAÑA | FI2: PETROPERÚ | FN2: REPROGRAMACION INTEGRANTES COES
D3: 101 | E3: 102 | F3: 147 | G3: 103 | H3: 104 | I3: 105 | J3: 106 | K3: 107 | L3: 2165 | M3: 110 | N3: 208 | O3: 109 | P3: 144 | Q3: 113 | R3: 114 | S3: 193 | T3: 2150 | U3: 907 | V3: 2161 | W3: 150 | X3: 149 | Y3: 266 | Z3: 117 | AA3: 119 | AB3: 267 | AC3: 268 | AD3: 120 | AE3: 189 | AF3: 121 | AG3: 122 | AH3: 142 | AI3: 143 | AJ3: 125 | AK3: 187 | AL3: 288 | AM3: 115 | AN3: 239 | AO3: 127 | AP3: 126 | AQ3: 216 | AR3: 198 | AS3: 138 | AT3: 139 | AU3: 163 | AV3: 298 | AW3: 299 | AX3: 219 | AY3: 191 | AZ3: 174 | BA3: 240 | BB3: 241 | BC3: 242 | BD3: 995 | BE3: 996 | BF3: 997 | BG3: 194 | BH3: 196 | BI3: 207 | BJ3: 236 | BK3: 795 | BL3: 285 | BM3: 2148 | BN3: 900 | BO3: 901 | BP3: 905 | BQ3: 906 | BR3: 151 | BS3: 152 | BT3: 153 | BU3: 154 | BV3: 756 | BW3: 156 | BX3: 155 | BY3: 182 | BZ3: 999 | CA3: 197 | CB3: 203 | CC3: 204 | CD3: 230 | CE3: 209 | CF3: 888 | CG3: 796 | CH3: 2146 | CI3: 252 | CJ3: 249 | CK3: 250 | CL3: 248 | CM3: 2159 | CN3: 263 | CO3: 265 | CP3: 758 | CQ3: 786 | CR3: 787 | CS3: 788 | CT3: 789 | CU3: 212 | CV3: 251 | CW3: 188 | CX3: 755 | CY3: 775 | CZ3: 777 | DA3: 924 | DB3: 926 | DC3: 202 | DD3: 904 | DE3: 213 | DF3: 232 | DG3: 225 | DH3: 760 | DI3: 2171 | DJ3: 2201 | DK3: 201 | DL3: 226 | DM3: 258 | DN3: 259 | DO3: 215 | DP3: 917 | DQ3: 238 | DR3: 247 | DS3: 214 | DT3: 223 | DU3: 211 | DV3: 2175 | DW3: 2178 | DX3: 2181 | DY3: 228 | DZ3: 260 | EA3: 2128 | EB3: 2131 | EC3: 2135 | ED3: 2152 | EE3: 2154 | EF3: 2184 | EG3: 2190 | EH3: 289 | EI3: 920 | EJ3: 296 | EK3: 297 | EL3: 2194 | EM3: 337 | EN3: 338 | EO3: 233 | EP3: 234 | EQ3: 235 | ER3: 237 | ES3: 261 | ET3: 303 | EU3: 253 | EV3: 770 | EW3: 1262 | EX3: 1263 | EY3: 257 | EZ3: 256 | FA3: 222 | FB3: 199 | FC3: 200 | FD3: 221 | FE3: 224 | FF3: 227 | FG3: 998 | FH3: 2187 | FI3: 902 | FJ3: 903 | FK3: 1221 | FM3: 1229 | FN3: 9000 | FO3: 9999 | FQ3: 5559 | FR3: 5560 | FS3: 5561 | FT3: 5562 | FU3: 5563 | FV3: 5564 | FW3: 5565 | FX3: 5566 | FY3: 5567 | FZ3: 5568 | GA3: 5569 | GB3: 5570 | GC3: 5571
B4: Día | C4: HORA | D4: =HLOOKUP(D3,DESPACHO_EJECUTADO!$A$1:$GD$6,6,FALSE) -> MANTARO | E4: =HLOOKUP(E3,DESPACHO_EJECUTADO!$A$1:$GD$6,6,FALSE) -> RESTITUCION | F4: =HLOOKUP(F3,DESPACHO_EJECUTADO!$A$1:$GD$6,6,FALSE) -> TUMBES | G4: =HLOOKUP(G3,DESPACHO_EJECUTADO!$A$1:$GD$6,6,FALSE) -> HUINCO | H4: =HLOOKUP(H3,DESPACHO_EJECUTADO!$A$1:$GD$6,6,FALSE) -> MATUCANA | I4: CALLAHUANCA | J4: =HLOOKUP(J3,DESPACHO_EJECUTADO!$A$1:$GD$6,6,FALSE) -> MOYOPAMPA | K4: =HLOOKUP(K3,DESPACHO_EJECUTADO!$A$1:$GD$6,6,FALSE) -> HUAMPANI | L4: HER 1 | M4: =HLOOKUP(M3,DESPACHO_EJECUTADO!$A$1:$GD$6,6,FALSE) -> STAROSA TG7 | N4: =HLOOKUP(N3,DESPACHO_EJECUTADO!$A$1:$GD$6,6,FALSE) -> STAROSA TG8 | O4: =HLOOKUP(O3,DESPACHO_EJECUTADO!$A$1:$GD$6,6,FALSE) -> UTI_5 | P4: =HLOOKUP(P3,DESPACHO_EJECUTADO!$A$1:$GD$6,6,FALSE) -> UTI_6 | Q4: =HLOOKUP(Q3,DESPACHO_EJECUTADO!$A$1:$GD$6,6,FALSE) -> VENTANILLA TG3 | R4: =HLOOKUP(R3,DESPACHO_EJECUTADO!$A$1:$GD$6,6,FALSE) -> VENTANILLA TG4 | S4: =HLOOKUP(S3,DESPACHO_EJECUTADO!$A$1:$GD$6,6,FALSE) -> VENTANILLA TV | T4: =HLOOKUP(T3,[2]DESPACHO_EJECUTADO!$A$1:$GC$6,6,FALSE) -> C.S. RUBÍ | U4: C.S. CLEMESÍ | V4: =HLOOKUP(V3,[2]DESPACHO_EJECUTADO!$A$1:$GC$6,6,FALSE) -> WAYRA I | W4: =HLOOKUP(W3,DESPACHO_EJECUTADO!$A$1:$GD$6,6,FALSE) -> CHIMAY | X4: =HLOOKUP(X3,DESPACHO_EJECUTADO!$A$1:$GD$6,6,FALSE) -> YANANGO | Y4: CHEVES | Z4: =HLOOKUP(Z3,DESPACHO_EJECUTADO!$A$1:$GD$6,6,FALSE) -> YAUPI | AA4: =HLOOKUP(AA3,DESPACHO_EJECUTADO!$A$1:$GD$6,6,FALSE) -> MALPASO | AB4: =HLOOKUP(AB3,DESPACHO_EJECUTADO!$A$1:$GD$6,6,FALSE) -> OROYA | AC4: =HLOOKUP(AC3,DESPACHO_EJECUTADO!$A$1:$GD$6,6,FALSE) -> PACHACHACA | AD4: =HLOOKUP(AD3,DESPACHO_EJECUTADO!$A$1:$GD$6,6,FALSE) -> CAHUA | AE4: =HLOOKUP(AE3,DESPACHO_EJECUTADO!$A$1:$GD$6,6,FALSE) -> ARCATA | AF4: =HLOOKUP(AF3,DESPACHO_EJECUTADO!$A$1:$GD$6,6,FALSE) -> PARIAC | AG4: =HLOOKUP(AG3,DESPACHO_EJECUTADO!$A$1:$GD$6,6,FALSE) -> GALLITO CIEGO | ... BM4: =HLOOKUP(BM3,DESPACHO_EJECUTADO!$A$1:$GD$6,6,FALSE) -> INTIPAMPA | BN4: PUNTA LOMITAS-I | BO4: PUNTA LOMITAS-II | BP4: P LOMITAS_EXP-BL1 | BQ4: P LOMITAS_EXP-BL2 | BR4: =HLOOKUP(BR3,DESPACHO_EJECUTADO!$A$1:$GD$6,6,FALSE) -> CHARCANI I,II,III | BS4: =HLOOKUP(BS3,DESPACHO_EJECUTADO!$A$1:$GD$6,6,FALSE) -> CHARCANI IV | BT4: =HLOOKUP(BT3,DESPACHO_EJECUTADO!$A$1:$GD$6,6,FALSE) -> CHARCANI V | BU4: =HLOOKUP(BU3,DESPACHO_EJECUTADO!$A$1:$GD$6,6,FALSE) -> CHARCANI VI | BV4: =HLOOKUP(BV3,DESPACHO_EJECUTADO!$A$1:$GD$6,6,FALSE) -> CHILINA TG | BW4: =HLOOKUP(BW3,DESPACHO_EJECUTADO!$A$1:$GD$6,6,FALSE) -> MOLLENDO 1, 2, 3 | BX4: =HLOOKUP(BX3,DESPACHO_EJECUTADO!$A$1:$GD$6,6,FALSE) -> CHILINA (SULZ 1,2) | BY4: =HLOOKUP(BY3,DESPACHO_EJECUTADO!$A$1:$GD$6,6,FALSE) -> SAN GABAN II | BZ4: TUPURI | CA4: =HLOOKUP(CA3,DESPACHO_EJECUTADO!$A$1:$GD$6,6,FALSE) -> KALLPA TG1 | CB4: =HLOOKUP(CB3,DESPACHO_EJECUTADO!$A$1:$GD$6,6,FALSE) -> KALLPA TG2 | CC4: =HLOOKUP(CC3,DESPACHO_EJECUTADO!$A$1:$GD$6,6,FALSE) -> KALLPA TG3 | CD4: =HLOOKUP(CD3,DESPACHO_EJECUTADO!$A$1:$GD$6,6,FALSE) -> KALLPA TV | CE4: =HLOOKUP(CE3,DESPACHO_EJECUTADO!$A$1:$GD$6,6,FALSE) -> LFLORES TG1 | CF4: LFLORES TV | CG4: =HLOOKUP(CG3,DESPACHO_EJECUTADO!$A$1:$GD$6,6,FALSE) -> CERRO DEL ÁGUILA | CH4: =HLOOKUP(CH3,DESPACHO_EJECUTADO!$A$1:$GD$6,6,FALSE) -> PCH CERRO DELÁGUILA | CI4: =HLOOKUP(CI3,DESPACHO_EJECUTADO!$A$1:$GD$6,6,FALSE) -> FENIX GT11 | CJ4: =HLOOKUP(CJ3,DESPACHO_EJECUTADO!$A$1:$GD$6,6,FALSE) -> FENIX GT12 | CK4: =HLOOKUP(CK3,DESPACHO_EJECUTADO!$A$1:$GD$6,6,FALSE) -> FENIX TV10 | CL4: =HLOOKUP(CL3,DESPACHO_EJECUTADO!$A$1:$GD$6,6,FALSE) -> OLLEROS TG1 | CM4: =HLOOKUP(CM3,DESPACHO_EJECUTADO!$A$1:$GD$6,6,FALSE) -> OLLEROS TV | CN4: =HLOOKUP(CN3,DESPACHO_EJECUTADO!$A$1:$GD$6,6,FALSE) -> ETEN TG1 | ... DB4: =HLOOKUP(DB3,DESPACHO_EJECUTADO!$A$1:$GD$6,6,FALSE) -> RF PTO MALDONADO | DC4: =HLOOKUP(DC3,[3]DESPACHO_EJECUTADO!$A$1:$GA$6,6,FALSE) -> OQUENDO TG1 | DD4: OQUENDO TV1 | DE4: =HLOOKUP(DE3,DESPACHO_EJECUTADO!$A$1:$GD$6,6,FALSE) -> PARAMONGA | DF4: =HLOOKUP(DF3,DESPACHO_EJECUTADO!$A$1:$GD$6,6,FALSE) -> MAPLE | DG4: =HLOOKUP(DG3,DESPACHO_EJECUTADO!$A$1:$GD$6,6,FALSE) -> HUAYCOLORO | DH4: =HLOOKUP(DH3,DESPACHO_EJECUTADO!$A$1:$GD$6,6,FALSE) -> LA GRINGA V | DI4: =HLOOKUP(DI3,DESPACHO_EJECUTADO!$A$1:$GD$6,6,FALSE) -> DOÑA CATALINA | DJ4: =HLOOKUP(DJ3,DESPACHO_EJECUTADO!$A$1:$GD$6,6,FALSE) -> CALLAO | DK4: =HLOOKUP(DK3,DESPACHO_EJECUTADO!$A$1:$GD$6,6,FALSE) -> STACRUZ_1_2 | DL4: =HLOOKUP(DL3,DESPACHO_EJECUTADO!$A$1:$GD$6,6,FALSE) -> HUASAHUASI I y II | ... DO4: =HLOOKUP(DO3,DESPACHO_EJECUTADO!$A$1:$GD$6,6,FALSE) -> POECHOS2 | DP4: CHANCAY | DQ4: =HLOOKUP(DQ3,DESPACHO_EJECUTADO!$A$1:$GD$6,6,FALSE) -> YANAPAMPA | DR4: =HLOOKUP(DR3,DESPACHO_EJECUTADO!$A$1:$GD$6,6,FALSE) -> PIZARRAS | DS4: =HLOOKUP(DS3,DESPACHO_EJECUTADO!$A$1:$GD$6,6,FALSE) -> RONCADOR | DT4: =HLOOKUP(DT3,DESPACHO_EJECUTADO!$A$1:$GD$6,6,FALSE) -> PURMACANA | DU4: =HLOOKUP(DU3,DESPACHO_EJECUTADO!$A$1:$GD$6,6,FALSE) -> LA JOYA | DV4: ÁNGEL I | DW4: ÁNGEL II | DX4: ÁNGEL III | DY4: =HLOOKUP(DY3,DESPACHO_EJECUTADO!$A$1:$GD$6,6,FALSE) -> IMPERIAL | DZ4: =HLOOKUP(DZ3,DESPACHO_EJECUTADO!$A$1:$GD$6,6,FALSE) -> CANCHAYLLO | EA4: =HLOOKUP(EA3,DESPACHO_EJECUTADO!$A$1:$GD$6,6,FALSE) -> POTRERO | EB4: =HLOOKUP(EB3,DESPACHO_EJECUTADO!$A$1:$GD$6,6,FALSE) -> MARAÑÓN | EC4: =HLOOKUP(EC3,DESPACHO_EJECUTADO!$A$1:$GD$6,6,FALSE) -> YARUCAYA | ED4: =HLOOKUP(ED3,DESPACHO_EJECUTADO!$A$1:$GD$6,6,FALSE) -> RENOVANDES | EE4: =HLOOKUP(EE3,DESPACHO_EJECUTADO!$A$1:$GD$6,6,FALSE) -> LA VIRGEN | EF4: =HLOOKUP(EF3,DESPACHO_EJECUTADO!$A$1:$GD$6,6,FALSE) -> CARHUAC | ... ES4: =HLOOKUP(ES3,DESPACHO_EJECUTADO!$A$1:$GD$6,6,FALSE) -> MOQUEGUA | ET4: C.S. YARUCAYA | EU4: =HLOOKUP(EU3,DESPACHO_EJECUTADO!$A$1:$GD$6,6,FALSE) -> PQE-EOLICO MARCONA | EV4: =HLOOKUP(EV3,DESPACHO_EJECUTADO!$A$1:$GD$6,6,FALSE) -> PQE-EOLICO TRES HERMANAS | EW4: =HLOOKUP(EW3,DESPACHO_EJECUTADO!$A$1:$GD$6,6,FALSE) -> HUAMBOS | EX4: DUNA | EY4: =HLOOKUP(EY3,DESPACHO_EJECUTADO!$A$1:$GD$6,6,FALSE) -> TALARA | EZ4: =HLOOKUP(EZ3,DESPACHO_EJECUTADO!$A$1:$GD$6,6,FALSE) -> PQE-EOLICO CUPISNIQUE | FA4: =HLOOKUP(FA3,DESPACHO_EJECUTADO!$A$1:$GD$6,6,FALSE) -> CENTRALES ELOR | FB4: =HLOOKUP(FB3,DESPACHO_EJECUTADO!$A$1:$GD$6,6,FALSE) -> CURUMUY | FC4: =HLOOKUP(FC3,[4]DESPACHO_EJECUTADO!$A$1:$FW$6,6,FALSE) -> POECHOS 1 | FD4: =HLOOKUP(FD3,DESPACHO_EJECUTADO!$A$1:$GD$6,6,FALSE) -> CARPAPATA | FE4: =HLOOKUP(FE3,DESPACHO_EJECUTADO!$A$1:$GD$6,6,FALSE) -> PIAS1 | FF4: =HLOOKUP(FF3,DESPACHO_EJECUTADO!$A$1:$GD$6,6,FALSE) -> TABLAZO | FG4: =HLOOKUP(FG3,DESPACHO_EJECUTADO!$A$1:$GD$6,6,FALSE) -> TALLANCA | FH4: ZAÑA | FI4: RTALARA G1 | FJ4: RTALARA G2 | FK4: DEMANDA | FL4: DEFICIT | FM4: Demanda Ecuador ( Exportación a ECUADOR) | FN4: "DEMANDA" COES + INTERCONEXIÓN PERU ECUADOR | FO4: DEMANDA SEIN (*) | FP4: GENERACION TERMOELECTRICA | FQ4: GENERACION HIDROELECTRICA | FR4: GENERACION SOLAR | FS4: GENERACION EÓLICO | FT4: GENERACION TERMICA (COES) (CENTRO + NORTE) | FU4: GENERACION HIDRAULICA COES (CENTRO + NORTE) | FV4: GENERACION SOLAR COES (CENTRO + NORTE) | FW4: GENERACION EÓLICA COES (CENTRO + NORTE) | FX4: TOTAL SICN (CENTRO + NORTE) | FY4: GENERACION TERMICA(COES) SUR | FZ4: GENERACION HIDRAULICA COES (SUR) | GA4: GENERACION SOLAR COES (SUR) | GB4: GENERACION EÓLICA COES (SUR) | GC4: TOTAL SUR
B5: =+UPPER(TEXT([1]SINAC!$B$4,"DDD")) -> JUE | C5: 0.020833333 | D5: 465.60058 | E5: 148.36766 | G5: 69.34209 | H5: 96.97176 | I5: 72.26389 | J5: 67.59335 | K5: 30.11057 | L5: 0.6 | Q5: 149.11167 | R5: 149.11167 | S5: 149.11167 | T5: 0 | U5: 0 | V5: 7 | W5: 73.01955 | X5: 16.95936 | Y5: 50.50084 | Z5: 98 | AA5: 16 | AB5: 3.85335 | AC5: 4.10345 | AD5: 43.80059 | AE5: 3.28223 | AF5: 3.09927 | AM5: 85 | AO5: 243.7047 | AP5: 77.94805 | AQ5: 8 | AR5: 5.67 | AT5: 88.02082 | AU5: 110.41591 | AV5: 3.84663 | AX5: 21.47725 | AY5: 63.4159 | BG5: 178.52956 | BH5: 178.52956 | BI5: 178.52956 | BJ5: 267.79433 | BK5: 69.97113 | BL5: 34.98557 | BM5: 0 | BN5: 8.82 | BO5: 8.93 | BP5: 1.23 | BQ5: 0.24 | BR5: 6.8787 | BS5: 15.02151 | BT5: 104.4105 | BY5: 57.66994 | CA5: 194.44479 | CB5: 194.44479 | CC5: 194.44479 | CD5: 291.66718 | CE5: 209.70738 | CF5: 104.85369 | CG5: 173.99804 | CH5: 3.24022 | CI5: 185.73103 | CJ5: 185.73103 | CK5: 185.73103 | CL5: 189.51328 | CM5: 94.75664 | CU5: 49.55718 | CV5: 0 | CW5: 15.91408 | CX5: 60.42702 | CY5: 6.39 | CZ5: 0 | DC5: 30 | DE5: 13 | DF5: 15 | DG5: 2.799 | DH5: 1.4 | DI5: 1.2 | DJ5: 2.2 | DK5: 7.2 | DL5: 11.1437 | DM5: 8 | DN5: 10.75269 | DO5: 6.4 | DP5: 16.61779 | DQ5: 3.6 | DR5: 6 | DS5: 2.8 | DT5: 1.5 | DU5: 5.6 | DV5: 5 | DW5: 5.5 | DX5: 5.7 | DY5: 3.5 | DZ5: 2.5 | EA5: 10 | EB5: 12.21896 | EC5: 16.81329 | ED5: 19.55034 | EE5: 37.57996 | EF5: 0 | EG5: 8.33 | EH5: 9.6 | EI5: 10.75269 | EJ5: 15.64027 | EK5: 7 | EL5: 9 | EM5: 0.54 | EN5: 1.05 | EO5: 0 | EP5: 0 | EQ5: 0 | ER5: 0 | ES5: 0 | ET5: 0 | EU5: 11.465 | EV5: 28.852 | EY5: 19.144 | FA5: 0 | FB5: 5.5 | FC5: 5.7 | FD5: 9.9 | FE5: 4.5 | FF5: 27 | FG5: 18 | FH5: 7.5 | FI5: 0 | FJ5: 0 | FK5: 6223.9424 | FN5: 6262.345 | FO5: 6262.345 | FP5: 3664.7274 | FQ5: 2511.9366 | FR5: 0 | FS5: 85.681 | FT5: 3664.7274 | FU5: 2128.1842 | FV5: 0 | FW5: 85.681 | FX5: 5878.5926 | FY5: 0 | FZ5: 383.75244 | GA5: 0 | GC5: 383.75244
B6: =+UPPER(TEXT([1]SINAC!$B$4,"DDD")) -> JUE | C6: 0.041666667 | D6: 415.19668 | E6: 132.30602 | G6: 69.34209 | H6: 76.26334 | I6: 65.98401 | J6: 67.59335 | K6: 27.49391 | L6: 0.6 | Q6: 149.11167 | R6: 149.11167 | S6: 149.11167 | T6: 0 | U6: 0 | V6: 9 | W6: 73.01955 | X6: 16.95936 | Y6: 79.07542 | Z6: 98 | AA6: 16 | AB6: 3.85335 | AC6: 4.10345 | AD6: 43.80059 | AE6: 3.28223 | AF6: 3.09927 | AM6: 85 | AO6: 224.3272 | AP6: 77.94805 | AQ6: 8 | AR6: 5.67 | AT6: 88.02082 | AU6: 110.41591 | AV6: 3.84663 | AX6: 21.47725 | AY6: 63.4159 | BG6: 178.52956 | BH6: 178.52956 | BI6: 178.52956 | BJ6: 267.79433 | BK6: 69.97113 | BL6: 34.98557 | BM6: 0 | BN6: 8.82 | BO6: 8.93 | BP6: 1.23 | BQ6: 0.24 | BR6: 6.8787 | BS6: 15.02151 | BT6: 94.01287 | BY6: 55.62923 | CA6: 194.44479 | CB6: 194.44479 | CC6: 194.44479 | CD6: 291.66718 | CE6: 209.70738 | CF6: 104.85369 | CG6: 173.99804 | CH6: 3.24022 | CI6: 185.73103 | CJ6: 185.73103 | CK6: 185.73103 | CL6: 189.51328 | CM6: 94.75664 | CU6: 0 | CV6: 0 | CW6: 15.91408 | CX6: 60.42702 | CY6: 6.39 | CZ6: 0 | DC6: 30 | DE6: 13 | DF6: 15 | DG6: 2.799 | DH6: 1.4 | DI6: 1.2 | DJ6: 2.2 | DK6: 7.2 | DL6: 11.1437 | DM6: 8 | DN6: 10.75269 | DO6: 6.4 | DP6: 16.61779 | DQ6: 3.6 | DR6: 6 | DS6: 2.8 | DT6: 1.5 | DU6: 5.6 | DV6: 5 | DW6: 5.5 | DX6: 5.7 | DY6: 3.5 | DZ6: 2.5 | EA6: 10 | EB6: 12.21896 | EC6: 16.81329 | ED6: 19.55034 | EE6: 37.57996 | EF6: 0 | EG6: 8.33 | EH6: 9.6 | EI6: 10.75269 | EJ6: 15.64027 | EK6: 7 | EL6: 9 | EM6: 0.54 | EN6: 1.05 | EO6: 0 | EP6: 0 | EQ6: 0 | ER6: 0 | ES6: 0 | ET6: 0 | EU6: 10.797 | EV6: 27.859 | EY6: 18.651 | FA6: 0 | FB6: 5.5 | FC6: 5.7 | FD6: 9.78495 | FE6: 4.5 | FF6: 27 | FG6: 18 | FH6: 7.5 | FI6: 0 | FJ6: 0 | FK6: 6075.0559 | FN6: 6113.3221 | FO6: 6113.3221 | FP6: 3664.7274 | FQ6: 2363.0677 | FR6: 0 | FS6: 85.527 | FT6: 3664.7274 | FU6: 1991.7536 | FV6: 0 | FW6: 85.527 | FX6: 5742.008 | FY6: 0 | FZ6: 371.3141 | GA6: 0 | GC6: 371.3141
B7: =+UPPER(TEXT([1]SINAC!$B$4,"DDD")) -> JUE | C7: 0.0625 | D7: 406.39841 | E7: 129.50238 | G7: 127.94668 | H7: 76.26334 | I7: 65.98401 | J7: 67.59335 | K7: 27.49391 | L7: 0.6 | Q7: 149.11167 | R7: 149.11167 | S7: 149.11167 | T7: 0 | U7: 0 | V7: 11 | W7: 73.01955 | X7: 16.95936 | Y7: 20.47083 | Z7: 98 | AA7: 16 | AB7: 3.85335 | AC7: 4.10345 | AD7: 43.80059 | AE7: 3.28223 | AF7: 3.09927 | AM7: 85 | AO7: 204.69701 | AP7: 70.35559 | AQ7: 8 | AR7: 5.17602 | AT7: 88.02082 | AU7: 110.41591 | AV7: 3.84663 | AX7: 21.47725 | AY7: 63.4159 | BG7: 178.52956 | BH7: 178.52956 | BI7: 178.52956 | BJ7: 267.79433 | BK7: 69.97113 | BL7: 34.98557 | BM7: 0 | BN7: 6.74 | BO7: 6.54 | BP7: 1.04 | BQ7: 0.24 | BR7: 6.8787 | BS7: 15.02151 | BT7: 73.73787 | BY7: 52.04512 | CA7: 194.44479 | CB7: 194.44479 | CC7: 194.44479 | CD7: 291.66718 | CE7: 209.70738 | CF7: 104.85369 | CG7: 173.99804 | CH7: 3.24022 | CI7: 185.73103 | CJ7: 185.73103 | CK7: 185.73103 | CL7: 189.51328 | CM7: 94.75664 | CU7: 0 | CV7: 0 | CW7: 15.91408 | CX7: 60.42702 | CY7: 6.39 | CZ7: 0 | DC7: 30 | DE7: 13 | DF7: 15 | DG7: 2.799 | DH7: 1.4 | DI7: 1.2 | DJ7: 2.2 | DK7: 7.2 | DL7: 11.1437 | DM7: 8 | DN7: 10.75269 | DO7: 6.4 | DP7: 16.61779 | DQ7: 3.6 | DR7: 6 | DS7: 2.8 | DT7: 1.5 | DU7: 5.6 | DV7: 5 | DW7: 5.5 | DX7: 5.7 | DY7: 3.5 | DZ7: 2.5 | EA7: 10 | EB7: 12.21896 | EC7: 16.81329 | ED7: 19.55034 | EE7: 37.57996 | EF7: 0 | EG7: 8.33 | EH7: 9.6 | EI7: 10.75269 | EJ7: 15.64027 | EK7: 7 | EL7: 9 | EM7: 0.54 | EN7: 1.05 | EO7: 0 | EP7: 0 | EQ7: 0 | ER7: 0 | ES7: 0 | ET7: 0 | EU7: 10.712 | EV7: 27.726 | EY7: 19.357 | FA7: 0 | FB7: 5.5 | FC7: 5.7 | FD7: 9.8827 | FE7: 4.5 | FF7: 27 | FG7: 18 | FH7: 7.5 | FI7: 0 | FJ7: 0 | FK7: 6002.169 | FN7: 6047.9724 | FO7: 6047.9724 | FP7: 3664.7274 | FQ7: 2299.89 | FR7: 0 | FS7: 83.355 | FT7: 3664.7274 | FU7: 1952.435 | FV7: 0 | FW7: 83.355 | FX7: 5700.5174 | FY7: 0 | FZ7: 347.45499 | GA7: 0 | GC7: 347.45499
B8: =+UPPER(TEXT([1]SINAC!$B$4,"DDD")) -> JUE | C8: 0.083333333 | D8: 406.39841 | E8: 129.50238 | G8: 127.94668 | H8: 76.26334 | I8: 65.98401 | J8: 67.59335 | K8: 27.49391 | L8: 0.6 | Q8: 149.11167 | R8: 149.11167 | S8: 149.11167 | T8: 0 | U8: 0 | V8: 15 | W8: 73.01955 | X8: 16.95936 | Y8: 20.47083 | Z8: 98 | AA8: 16 | AB8: 3.85335 | AC8: 4.10345 | AD8: 43.80059 | AE8: 3.28223 | AF8: 3.09927 | AM8: 85 | AO8: 191.19469 | AP8: 53.56179 | AQ8: 8 | AR8: 4.08337 | AT8: 88.02082 | AU8: 110.41591 | AV8: 3.84663 | AX8: 21.47725 | AY8: 63.4159 | BG8: 178.52956 | BH8: 178.52956 | BI8: 178.52956 | BJ8: 267.79433 | BK8: 69.97113 | BL8: 34.98557 | BM8: 0 | BN8: 6.74 | BO8: 6.54 | BP8: 1.04 | BQ8: 0.24 | BR8: 6.8787 | BS8: 8.1736 | BT8: 55.7461 | BY8: 48.17273 | CA8: 194.44479 | CB8: 194.44479 | CC8: 194.44479 | CD8: 291.66718 | CE8: 209.70738 | CF8: 104.85369 | CG8: 173.99804 | CH8: 3.24022 | CI8: 185.73103 | CJ8: 185.73103 | CK8: 185.73103 | CL8: 189.51328 | CM8: 94.75664 | CU8: 0 | CV8: 0 | CW8: 15.91408 | CX8: 60.42702 | CY8: 6.39 | CZ8: 0 | DC8: 30 | DE8: 13 | DF8: 15 | DG8: 2.799 | DH8: 1.4 | DI8: 1.2 | DJ8: 2.2 | DK8: 7.2 | DL8: 11.1437 | DM8: 8 | DN8: 10.75269 | DO8: 6.4 | DP8: 16.61779 | DQ8: 3.6 | DR8: 6 | DS8: 2.8 | DT8: 1.5 | DU8: 5.6 | DV8: 5 | DW8: 5.5 | DX8: 5.7 | DY8: 3.5 | DZ8: 2.5 | EA8: 10 | EB8: 12.21896 | EC8: 16.81329 | ED8: 19.55034 | EE8: 37.57996 | EF8: 0 | EG8: 8.33 | EH8: 9.6 | EI8: 10.75269 | EJ8: 15.64027 | EK8: 7 | EL8: 9 | EM8: 0.54 | EN8: 1.05 | EO8: 0 | EP8: 0 | EQ8: 0 | ER8: 0 | ES8: 0 | ET8: 0 | EU8: 10.646 | EV8: 27.479 | EY8: 20.056 | FA8: 0 | FB8: 5.5 | FC8: 5.7 | FD8: 10.13685 | FE8: 4.5 | FF8: 27 | FG8: 18 | FH8: 7.5 | FI8: 0 | FJ8: 0 | FK8: 5940.3521 | FN8: 5992.2576 | FO8: 5992.2576 | FP8: 3664.7274 | FQ8: 2239.7892 | FR8: 0 | FS8: 87.741 | FT8: 3664.7274 | FU8: 1921.0463 | FV8: 0 | FW8: 87.741 | FX8: 5673.5147 | FY8: 0 | FZ8: 318.74292 | GA8: 0 | GC8: 318.74292
B9: =+UPPER(TEXT([1]SINAC!$B$4,"DDD")) -> JUE | C9: 0.10416667 | D9: 406.39841 | E9: 129.50238 | G9: 66.5342 | H9: 76.26334 | I9: 65.98401 | J9: 67.59335 | K9: 27.49391 | L9: 0.6 | Q9: 149.11167 | R9: 149.11167 | S9: 149.11167 | T9: 0 | U9: 0 | V9: 18 | W9: 73.01955 | X9: 16.95936 | Y9: 81.88332 | Z9: 98 | AA9: 16 | AB9: 3.85335 | AC9: 4.10345 | AD9: 43.80059 | AE9: 3.28223 | AF9: 3.09927 | AM9: 85 | AO9: 179.15742 | AP9: 42.52622 | AQ9: 8 | AR9: 3.36537 | AT9: 88.02082 | AU9: 110.41591 | AV9: 3.84663 | AX9: 21.47725 | AY9: 63.4159 | BG9: 178.52956 | BH9: 178.52956 | BI9: 178.52956 | BJ9: 267.79433 | BK9: 69.97113 | BL9: 34.98557 | BM9: 0 | BN9: 8.82 | BO9: 8.93 | BP9: 1.23 | BQ9: 0.24 | BR9: 6.8787 | BS9: 8.1736 | BT9: 48.20035 | BY9: 47.03326 | CA9: 194.44479 | CB9: 194.44479 | CC9: 194.44479 | CD9: 291.66718 | CE9: 209.70738 | CF9: 104.85369 | CG9: 173.99804 | CH9: 3.24022 | CI9: 185.73103 | CJ9: 185.73103 | CK9: 185.73103 | CL9: 189.51328 | CM9: 94.75664 | CU9: 0 | CV9: 0 | CW9: 15.91408 | CX9: 60.42702 | CY9: 6.39 | CZ9: 0 | DC9: 30 | DE9: 13 | DF9: 15 | DG9: 2.799 | DH9: 1.4 | DI9: 1.2 | DJ9: 2.2 | DK9: 7.2 | DL9: 11.1437 | DM9: 8 | DN9: 10.75269 | DO9: 6.4 | DP9: 16.61779 | DQ9: 3.6 | DR9: 6 | DS9: 2.8 | DT9: 1.5 | DU9: 5.6 | DV9: 5 | DW9: 5.5 | DX9: 5.7 | DY9: 3.5 | DZ9: 2.5 | EA9: 10 | EB9: 12.21896 | EC9: 16.81329 | ED9: 19.55034 | EE9: 37.57996 | EF9: 0 | EG9: 8.33 | EH9: 9.6 | EI9: 10.75269 | EJ9: 15.64027 | EK9: 7 | EL9: 9 | EM9: 0.54 | EN9: 1.05 | EO9: 0 | EP9: 0 | EQ9: 0 | ER9: 0 | ES9: 0 | ET9: 0 | EU9: 10.769 | EV9: 26.763 | EY9: 20.729 | FA9: 0 | FB9: 5.5 | FC9: 5.7 | FD9: 10.2346 | FE9: 4.5 | FF9: 27 | FG9: 18 | FH9: 7.5 | FI9: 0 | FJ9: 0 | FK9: 5911.411 | FN9: 5967.5215 | FO9: 5967.5215 | FP9: 3664.7274 | FQ9: 2207.3131 | FR9: 0 | FS9: 95.481 | FT9: 3664.7274 | FU9: 1897.2554 | FV9: 0 | FW9: 95.481 | FX9: 5657.4638 | FY9: 0 | FZ9: 310.0577 | GA9: 0 | GC9: 310.0577
B10: =+UPPER(TEXT([1]SINAC!$B$4,"DDD")) -> JUE | C10: 0.125 | D10: 406.39841 | E10: 129.50238 | G10: 20.47083 | H10: 76.26334 | I10: 65.98401 | J10: 67.59335 | K10: 27.49391 | L10: 0.6 | Q10: 149.11167 | R10: 149.11167 | S10: 149.11167 | T10: 0 | U10: 0 | V10: 22 | W10: 73.01955 | X10: 16.95936 | Y10: 81.88332 | Z10: 98 | AA10: 16 | AB10: 3.85335 | AC10: 4.10345 | AD10: 43.80059 | AE10: 3.28223 | AF10: 3.09927 | AM10: 85 | AO10: 174.40934 | AP10: 30.8827 | AQ10: 8 | AR10: 2.60782 | AT10: 88.02082 | AU10: 110.41591 | AV10: 3.84663 | AX10: 21.47725 | AY10: 63.4159 | BG10: 178.52956 | BH10: 178.52956 | BI10: 178.52956 | BJ10: 267.79433 | BK10: 69.97113 | BL10: 34.98557 | BM10: 0 | BN10: 8.82 | BO10: 8.93 | BP10: 1.23 | BQ10: 0.24 | BR10: 6.8787 | BS10: 8.1736 | BT10: 42.07461 | BY10: 46.06475 | CA10: 194.44479 | CB10: 194.44479 | CC10: 194.44479 | CD10: 291.66718 | CE10: 209.70738 | CF10: 104.85369 | CG10: 155.42063 | CH10: 3.24022 | CI10: 185.73103 | CJ10: 185.73103 | CK10: 185.73103 | CL10: 189.51328 | CM10: 94.75664 | CU10: 65.15256 | CV10: 0 | CW10: 15.91408 | CX10: 60.42702 | CY10: 6.39 | CZ10: 0 | DC10: 30 | DE10: 13 | DF10: 15 | DG10: 2.799 | DH10: 1.4 | DI10: 1.2 | DJ10: 2.2 | DK10: 7.2 | DL10: 11.1437 | DM10: 8 | DN10: 10.75269 | DO10: 6.4 | DP10: 16.61779 | DQ10: 3.6 | DR10: 6 | DS10: 2.8 | DT10: 1.5 | DU10: 5.6 | DV10: 5 | DW10: 5.5 | DX10: 5.7 | DY10: 3.5 | DZ10: 2.5 | EA10: 10 | EB10: 12.21896 | EC10: 16.81329 | ED10: 19.55034 | EE10: 37.57996 | EF10: 0 | EG10: 8.33 | EH10: 9.6 | EI10: 10.75269 | EJ10: 15.64027 | EK10: 7 | EL10: 9 | EM10: 0.54 | EN10: 1.05 | EO10: 0 | EP10: 0 | EQ10: 0 | ER10: 0 | ES10: 0 | ET10: 0 | EU10: 10.927 | EV10: 26.265 | EY10: 21.278 | FA10: 0 | FB10: 5.5 | FC10: 5.7 | FD10: 10.67449 | FE10: 4.5 | FF10: 27 | FG10: 18 | FH10: 7.5 | FI10: 0 | FJ10: 0 | FK10: 5884.6434 | FN10: 5947.9989 | FO10: 5947.9989 | FP10: 3664.7274 | FQ10: 2183.5815 | FR10: 0 | FS10: 99.69 | FT10: 3664.7274 | FU10: 1880.6181 | FV10: 0 | FW10: 99.69 | FX10: 5645.0355 | FY10: 0 | FZ10: 302.96345 | GA10: 0 | GC10: 302.96345
B11: =+UPPER(TEXT([1]SINAC!$B$4,"DDD")) -> JUE | C11: 0.14583333 | D11: 406.39841 | E11: 129.50238 | G11: 27.3034 | H11: 76.26334 | I11: 65.98401 | J11: 67.59335 | K11: 27.49391 | L11: 0.6 | Q11: 149.11167 | R11: 149.11167 | S11: 149.11167 | T11: 0 | U11: 0 | V11: 5 | W11: 73.01955 | X11: 16.95936 | Y11: 61.41249 | Z11: 98 | AA11: 16 | AB11: 3.85335 | AC11: 4.10345 | AD11: 43.80059 | AE11: 3.28223 | AF11: 3.09927 | AM11: 85 | AO11: 99.9733 | AP11: 0 | AQ11: 8 | AR11: 0 | AT11: 62 | AU11: 110.41591 | AV11: 3.84663 | AX11: 21.47725 | AY11: 110 | BG11: 178.52956 | BH11: 178.52956 | BI11: 178.52956 | BJ11: 267.79433 | BK11: 69.97113 | BL11: 34.98557 | BM11: 0 | BN11: 12.01 | BO11: 11.79 | BP11: 1.75 | BQ11: 0.38 | BR11: 6.8787 | BS11: 15.02151 | BT11: 36.12686 | BY11: 75.62177 | CA11: 194.44479 | CB11: 194.44479 | CC11: 194.44479 | CD11: 291.66718 | CE11: 209.70738 | CF11: 104.85369 | CG11: 111.6135 | CH11: 3.24022 | CI11: 170 | CJ11: 170 | CK11: 217.19309 | CL11: 189.51328 | CM11: 94.75664 | CU11: 102.12712 | CV11: 42.05121 | CW11: 15.73725 | CX11: 60.42702 | CY11: 6.39 | CZ11: 0 | DC11: 30 | DE11: 13 | DF11: 15 | DG11: 2.799 | DH11: 1.4 | DI11: 1.2 | DJ11: 2.2 | DK11: 7.2 | DL11: 11.1437 | DM11: 8 | DN11: 10.75269 | DO11: 6.4 | DP11: 16.61779 | DQ11: 3.6 | DR11: 6 | DS11: 2.8 | DT11: 1.5 | DU11: 5.6 | DV11: 5 | DW11: 5.5 | DX11: 5.7 | DY11: 3.5 | DZ11: 2.5 | EA11: 10 | EB11: 12.21896 | EC11: 16.81329 | ED11: 19.55034 | EE11: 37.57996 | EF11: 9.79333 | EG11: 8.33 | EH11: 9.6 | EI11: 10.75269 | EJ11: 15.64027 | EK11: 7 | EL11: 9 | EM11: 0.54 | EN11: 1.05 | EO11: 0 | EP11: 0 | EQ11: 0 | ER11: 0 | ES11: 0 | ET11: 0 | EU11: 11.046 | EV11: 8.37 | EY11: 21.548 | FA11: 0 | FB11: 5.5 | FC11: 5.7 | FD11: 10.439883 | FE11: 4.5 | FF11: 27 | FG11: 18 | FH11: 7.5 | FI11: 0 | FJ11: 0 | FK11: 5825.1144 | FN11: 5894.4937 | FO11: 5894.4937 | FP11: 3638.7066 | FQ11: 2183.8931 | FR11: 0 | FS11: 71.894 | FT11: 3638.7066 | FU11: 1850.4725 | FV11: 0 | FW11: 71.894 | FX11: 5561.0731 | FY11: 0 | FZ11: 333.42063 | GA11: 0 | GC11: 333.42063
B12: =+UPPER(TEXT([1]SINAC!$B$4,"DDD")) -> JUE | C12: 0.16666667 | D12: 411.58146 | E12: 131.154 | G12: 20.47083 | H12: 77.71379 | I12: 65.98401 | J12: 67.59335 | K12: 27.49391 | L12: 0.6 | Q12: 149.11167 | R12: 149.11167 | S12: 149.11167 | T12: 0 | U12: 0 | V12: 5 | W12: 73.01955 | X12: 16.95936 | Y12: 59.75017 | Z12: 98 | AA12: 16 | AB12: 3.85335 | AC12: 4.10345 | AD12: 43.80059 | AE12: 3.28223 | AF12: 3.09927 | AM12: 85 | AO12: 99.9733 | AP12: 0 | AQ12: 8 | AR12: 0 | AT12: 62 | AU12: 110.41591 | AV12: 3.84663 | AX12: 21.47725 | AY12: 110 | BG12: 178.52956 | BH12: 178.52956 | BI12: 178.52956 | BJ12: 267.79433 | BK12: 69.97113 | BL12: 34.98557 | BM12: 0 | BN12: 12.01 | BO12: 11.79 | BP12: 1.75 | BQ12: 0.38 | BR12: 6.8787 | BS12: 15.02151 | BT12: 83.28455 | BY12: 0 | CA12: 194.44479 | CB12: 194.44479 | CC12: 194.44479 | CD12: 291.66718 | CE12: 209.70738 | CF12: 104.85369 | CG12: 120.10838 | CH12: 3.24022 | CI12: 170 | CJ12: 170 | CK12: 217.19309 | CL12: 189.51328 | CM12: 94.75664 | CU12: 102.12712 | CV12: 58.67881 | CW12: 15.73725 | CX12: 60.42702 | CY12: 6.39 | CZ12: 0 | DC12: 30 | DE12: 13 | DF12: 15 | DG12: 2.799 | DH12: 1.4 | DI12: 1.2 | DJ12: 2.2 | DK12: 7.2 | DL12: 11.1437 | DM12: 8 | DN12: 10.75269 | DO12: 6.4 | DP12: 16.61779 | DQ12: 3.6 | DR12: 6 | DS12: 2.8 | DT12: 1.5 | DU12: 5.6 | DV12: 5 | DW12: 5.5 | DX12: 5.7 | DY12: 3.5 | DZ12: 2.5 | EA12: 10 | EB12: 12.21896 | EC12: 16.81329 | ED12: 19.55034 | EE12: 37.57996 | EF12: 13.66574 | EG12: 8.33 | EH12: 9.6 | EI12: 10.75269 | EJ12: 15.64027 | EK12: 7 | EL12: 9 | EM12: 0.54 | EN12: 1.05 | EO12: 0 | EP12: 0 | EQ12: 0 | ER12: 0 | ES12: 0 | ET12: 0 | EU12: 11.244 | EV12: 8.61 | EY12: 21.47 | FA12: 0 | FB12: 5.5 | FC12: 5.7 | FD12: 10.518084 | FE12: 4.5 | FF12: 27 | FG12: 18 | FH12: 7.5 | FI12: 0 | FJ12: 0 | FK12: 5819.3633 | FN12: 5895.1747 | FO12: 5895.1747 | FP12: 3638.7066 | FQ12: 2184.2141 | FR12: 0 | FS12: 72.254 | FT12: 3638.7066 | FU12: 1879.2576 | FV12: 0 | FW12: 72.254 | FX12: 5590.2182 | FY12: 0 | FZ12: 304.95655 | GA12: 0 | GC12: 304.95655
B13: =+UPPER(TEXT([1]SINAC!$B$4,"DDD")) -> JUE | C13: 0.1875 | D13: 476.20892 | E13: 151.7481 | G13: 36.06141 | H13: 76.98856 | I13: 65.98401 | J13: 67.59335 | K13: 27.49391 | L13: 0.6 | Q13: 149.11167 | R13: 149.11167 | S13: 149.11167 | T13: 0 | U13: 0 | V13: 5 | W13: 73.01955 | X13: 16.95936 | Y13: 61.41249 | Z13: 98 | AA13: 16 | AB13: 3.85335 | AC13: 4.10345 | AD13: 43.80059 | AE13: 3.28223 | AF13: 3.09927 | AM13: 85 | AO13: 108 | AP13: 0 | AQ13: 8 | AR13: 0 | AT13: 62 | AU13: 110.41591 | AV13: 3.84663 | AX13: 21.47725 | AY13: 110 | BG13: 178.52956 | BH13: 178.52956 | BI13: 178.52956 | BJ13: 267.79433 | BK13: 69.97113 | BL13: 34.98557 | BM13: 0 | BN13: 18.46 | BO13: 19.16 | BP13: 2.69 | BQ13: 0.55 | BR13: 6.8787 | BS13: 15.02151 | BT13: 96.34773 | BY13: 0 | CA13: 194.44479 | CB13: 194.44479 | CC13: 194.44479 | CD13: 291.66718 | CE13: 209.70738 | CF13: 104.85369 | CG13: 184 | CH13: 3.24022 | CI13: 170 | CJ13: 170 | CK13: 217.19309 | CL13: 189.51328 | CM13: 94.75664 | CU13: 0 | CV13: 28.68436 | CW13: 15.73725 | CX13: 60.42702 | CY13: 6.39 | CZ13: 0 | DC13: 30 | DE13: 13 | DF13: 15 | DG13: 2.799 | DH13: 1.4 | DI13: 1.2 | DJ13: 2.2 | DK13: 7.2 | DL13: 11.1437 | DM13: 8 | DN13: 10.75269 | DO13: 6.4 | DP13: 16.61779 | DQ13: 3.6 | DR13: 6 | DS13: 2.8 | DT13: 1.5 | DU13: 5.6 | DV13: 5 | DW13: 5.5 | DX13: 5.7 | DY13: 3.5 | DZ13: 2.5 | EA13: 10 | EB13: 12.21896 | EC13: 16.81329 | ED13: 19.55034 | EE13: 37.57996 | EF13: 6.68032 | EG13: 8.33 | EH13: 9.6 | EI13: 10.75269 | EJ13: 15.64027 | EK13: 7 | EL13: 9 | EM13: 0.54 | EN13: 1.05 | EO13: 0 | EP13: 0 | EQ13: 0 | ER13: 0 | ES13: 0 | ET13: 0 | EU13: 11.623 | EV13: 9.3 | EY13: 20.553 | FA13: 0 | FB13: 5.5 | FC13: 5.7 | FD13: 10.078201 | FE13: 4.5 | FF13: 27 | FG13: 18 | FH13: 7.5 | FI13: 0 | FJ13: 0 | FK13: 5881.3659 | FN13: 5957.8805 | FO13: 5957.8805 | FP13: 3638.7066 | FQ13: 2231.8379 | FR13: 0 | FS13: 87.336 | FT13: 3638.7066 | FU13: 1913.8182 | FV13: 0 | FW13: 87.336 | FX13: 5639.8608 | FY13: 0 | FZ13: 318.01973 | GA13: 0 | GC13: 318.01973
B14: =+UPPER(TEXT([1]SINAC!$B$4,"DDD")) -> JUE | C14: 0.20833333 | D14: 470.08288 | E14: 149.79599 | G14: 20.47083 | H14: 74.08766 | I14: 65.98401 | J14: 67.59335 | K14: 27.49391 | L14: 0.6 | Q14: 149.11167 | R14: 149.11167 | S14: 149.11167 | T14: 0 | U14: 0 | V14: 5 | W14: 73.01955 | X14: 16.95936 | Y14: 27.11447 | Z14: 98 | AA14: 16 | AB14: 3.85335 | AC14: 4.10345 | AD14: 43.80059 | AE14: 3.28223 | AF14: 3.09927 | AM14: 85 | AO14: 191.68699 | AP14: 0 | AQ14: 8 | AR14: 0 | AT14: 62 | AU14: 110.41591 | AV14: 3.84663 | AX14: 21.47725 | AY14: 110 | BG14: 178.52956 | BH14: 178.52956 | BI14: 178.52956 | BJ14: 267.79433 | BK14: 69.97113 | BL14: 34.98557 | BM14: 0.232 | BN14: 18.46 | BO14: 19.16 | BP14: 2.69 | BQ14: 0.55 | BR14: 6.8787 | BS14: 15.02151 | BT14: 69.65244 | BY14: 81.08308 | CA14: 194.44479 | CB14: 194.44479 | CC14: 194.44479 | CD14: 291.66718 | CE14: 209.70738 | CF14: 104.85369 | CG14: 152.74409 | CH14: 3.24022 | CI14: 170 | CJ14: 170 | CK14: 217.19309 | CL14: 189.51328 | CM14: 94.75664 | CU14: 0 | CV14: 23.3925 | CW14: 15.73725 | CX14: 60.42702 | CY14: 6.39 | CZ14: 0 | DC14: 30 | DE14: 13 | DF14: 15 | DG14: 2.799 | DH14: 1.4 | DI14: 1.2 | DJ14: 2.2 | DK14: 7.2 | DL14: 11.1437 | DM14: 8 | DN14: 10.75269 | DO14: 6.4 | DP14: 16.61779 | DQ14: 3.6 | DR14: 6 | DS14: 2.8 | DT14: 1.5 | DU14: 5.6 | DV14: 5 | DW14: 5.5 | DX14: 5.7 | DY14: 3.5 | DZ14: 2.5 | EA14: 10 | EB14: 12.21896 | EC14: 16.81329 | ED14: 19.55034 | EE14: 37.57996 | EF14: 5.44789 | EG14: 8.33 | EH14: 9.6 | EI14: 10.75269 | EJ14: 15.64027 | EK14: 7 | EL14: 9 | EM14: 0.54 | EN14: 1.05 | EO14: 0.076 | EP14: 0.096 | EQ14: 0.027 | ER14: 0.114 | ES14: 0.101 | ET14: 0 | EU14: 11.992 | EV14: 10.45 | EY14: 19.562 | FA14: 0 | FB14: 5.5 | FC14: 5.7 | FD14: 10.205279 | FE14: 4.5 | FF14: 27 | FG14: 18 | FH14: 7.5 | FI14: 0 | FJ14: 0 | FK14: 5931.0752 | FN14: 5998.4814 | FO14: 5998.4814 | FP14: 3638.7066 | FQ14: 2271.2648 | FR14: 0.646 | FS14: 87.864 | FT14: 3638.7066 | FU14: 1898.8573 | FV14: 0 | FW14: 87.864 | FX14: 5625.4279 | FY14: 0 | FZ14: 372.40752 | GA14: 0.646 | GC14: 373.05352
B15: =+UPPER(TEXT([1]SINAC!$B$4,"DDD")) -> JUE | C15: 0.22916667 | D15: 525.56638 | E15: 167.47628 | G15: 20.47083 | H15: 79.88946 | I15: 65.98401 | J15: 67.59335 | K15: 27.49391 | L15: 0.6 | Q15: 149.11167 | R15: 149.11167 | S15: 149.11167 | T15: 5 | U15: 4.237 | V15: 6 | W15: 73.01955 | X15: 16.95936 | Y15: 61.41249 | Z15: 98 | AA15: 16 | AB15: 3.85335 | AC15: 4.10345 | AD15: 43.80059 | AE15: 3.28223 | AF15: 3.09927 | AM15: 85 | AO15: 126.13306 | AP15: 10.23541 | AQ15: 8 | AR15: 0 | AT15: 62 | AU15: 110.41591 | AV15: 3.84663 | AX15: 21.47725 | AY15: 110 | BG15: 178.52956 | BH15: 178.52956 | BI15: 178.52956 | BJ15: 267.79433 | BK15: 69.97113 | BL15: 34.98557 | BM15: 2.805 | BN15: 28.98 | BO15: 28.88 | BP15: 4.38 | BQ15: 0.98 | BR15: 6.8787 | BS15: 15.02151 | BT15: 99.14432 | BY15: 0 | CA15: 194.44479 | CB15: 194.44479 | CC15: 194.44479 | CD15: 291.66718 | CE15: 209.70738 | CF15: 104.85369 | CG15: 184 | CH15: 3.24022 | CI15: 170 | CJ15: 170 | CK15: 217.19309 | CL15: 189.51328 | CM15: 94.75664 | CU15: 0 | CV15: 56.22337 | CW15: 15.73725 | CX15: 60.42702 | CY15: 6.39 | CZ15: 0 | DC15: 30 | DE15: 13 | DF15: 15 | DG15: 2.799 | DH15: 1.4 | DI15: 1.2 | DJ15: 2.2 | DK15: 7.2 | DL15: 11.1437 | DM15: 8 | DN15: 10.75269 | DO15: 6.4 | DP15: 16.61779 | DQ15: 3.6 | DR15: 6 | DS15: 2.8 | DT15: 1.5 | DU15: 5.6 | DV15: 5 | DW15: 5.5 | DX15: 5.7 | DY15: 3.5 | DZ15: 2.5 | EA15: 10 | EB15: 12.21896 | EC15: 16.81329 | ED15: 19.55034 | EE15: 37.57996 | EF15: 13.09389 | EG15: 8.33 | EH15: 9.6 | EI15: 10.75269 | EJ15: 15.64027 | EK15: 7 | EL15: 9 | EM15: 0.54 | EN15: 1.05 | EO15: 0.804 | EP15: 0.895 | EQ15: 0.372 | ER15: 1.842 | ES15: 1.451 | ET15: 0 | EU15: 12.218 | EV15: 12.8 | EY15: 18.431 | FA15: 0 | FB15: 5.5 | FC15: 5.7 | FD15: 10.185728 | FE15: 4.5 | FF15: 27 | FG15: 18 | FH15: 7.5 | FI15: 0 | FJ15: 0 | FK15: 6044.5574 | FN15: 6118.1331 | FO15: 6118.1331 | FP15: 3638.7066 | FQ15: 2349.3515 | FR15: 17.406 | FS15: 112.669 | FT15: 3638.7066 | FU15: 2028.5352 | FV15: 0 | FW15: 112.669 | FX15: 5779.9108 | FY15: 0 | FZ15: 320.81632 | GA15: 17.406 | GC15: 338.22232
B16: =+UPPER(TEXT([1]SINAC!$B$4,"DDD")) -> JUE | C16: 0.25 | D16: 451.64888 | E16: 143.92183 | G16: 20.47083 | H16: 72.63721 | I16: 65.98401 | J16: 67.59335 | K16: 27.49391 | L16: 0.6 | Q16: 149.11167 | R16: 149.11167 | S16: 149.11167 | T16: 19 | U16: 16.102 | V16: 6 | W16: 73.01955 | X16: 16.95936 | Y16: 61.41249 | Z16: 98 | AA16: 16 | AB16: 3.85335 | AC16: 4.10345 | AD16: 43.80059 | AE16: 3.28223 | AF16: 3.09927 | AM16: 85 | AO16: 126.13306 | AP16: 10.23541 | AQ16: 8 | AR16: 0 | AT16: 62 | AU16: 110.41591 | AV16: 3.84663 | AX16: 21.47725 | AY16: 110 | BG16: 178.52956 | BH16: 178.52956 | BI16: 178.52956 | BJ16: 267.79433 | BK16: 69.97113 | BL16: 34.98557 | BM16: 9.818 | BN16: 28.98 | BO16: 28.88 | BP16: 4.38 | BQ16: 0.98 | BR16: 6.8787 | BS16: 15.02151 | BT16: 79.64659 | BY16: 0 | CA16: 194.44479 | CB16: 194.44479 | CC16: 194.44479 | CD16: 291.66718 | CE16: 209.70738 | CF16: 104.85369 | CG16: 250.01842 | CH16: 3.24022 | CI16: 170 | CJ16: 170 | CK16: 217.19309 | CL16: 189.51328 | CM16: 94.75664 | CU16: 0 | CV16: 80.13875 | CW16: 15.73725 | CX16: 60.42702 | CY16: 6.39 | CZ16: 0 | DC16: 30 | DE16: 13 | DF16: 15 | DG16: 2.799 | DH16: 1.4 | DI16: 1.2 | DJ16: 2.2 | DK16: 7.2 | DL16: 11.1437 | DM16: 8 | DN16: 10.75269 | DO16: 6.4 | DP16: 16.61779 | DQ16: 3.6 | DR16: 6 | DS16: 2.8 | DT16: 1.5 | DU16: 5.6 | DV16: 5 | DW16: 5.5 | DX16: 5.7 | DY16: 3.5 | DZ16: 2.5 | EA16: 10 | EB16: 12.21896 | EC16: 16.81329 | ED16: 19.55034 | EE16: 37.57996 | EF16: 18.66356 | EG16: 8.33 | EH16: 9.6 | EI16: 10.75269 | EJ16: 15.64027 | EK16: 7 | EL16: 9 | EM16: 0.54 | EN16: 1.05 | EO16: 3.133 | EP16: 3.032 | EQ16: 1.133 | ER16: 6.993 | ES16: 6.134 | ET16: 0 | EU16: 12.392 | EV16: 23.23 | EY16: 17.193 | FA16: 0 | FB16: 5.5 | FC16: 5.7 | FD16: 10.175953 | FE16: 4.5 | FF16: 27 | FG16: 18 | FH16: 7.5 | FI16: 0 | FJ16: 0 | FK16: 6076.896 | FN16: 6146.7196 | FO16: 6146.7196 | FP16: 3638.7066 | FQ16: 2320.633 | FR16: 65.345 | FS16: 122.035 | FT16: 3638.7066 | FU16: 2019.3144 | FV16: 0 | FW16: 122.035 | FX16: 5780.056 | FY16: 0 | FZ16: 301.31859 | GA16: 65.345 | GC16: 366.66359
... B52: =+UPPER(TEXT([1]SINAC!$B$4,"DDD")) -> JUE | C52: 1 | D52: 606.06573 | E52: 193.1281 | G52: 69.06809 | H52: 62.15357 | I52: 61.11768 | J52: 62.60833 | K52: 25.46622 | L52: 0.6 | Q52: 149.11167 | R52: 149.11167 | S52: 149.11167 | T52: 0 | U52: 0 | V52: 36 | W52: 73.01955 | X52: 16.95936 | Y52: 85 | Z52: 98 | AA52: 16 | AB52: 3.85335 | AC52: 4.10345 | AD52: 43.80059 | AE52: 3.28223 | AF52: 3.09927 | AM52: 85 | AO52: 169.07592 | AP52: 40.64765 | AQ52: 8 | AR52: 3.24315 | AT52: 0 | AU52: 110.41591 | AV52: 3.84663 | AX52: 0 | AY52: 95 | BG52: 178.27962 | BH52: 178.27962 | BI52: 178.27962 | BJ52: 267.41943 | BK52: 69.97113 | BL52: 34.98557 | BM52: 0 | BN52: 35.29 | BO52: 34.48 | BP52: 5.41 | BQ52: 1.27 | BR52: 6.8787 | BS52: 15.02151 | BT52: 84.76019 | BY52: 53.86191 | CA52: 194.44479 | CB52: 194.44479 | CC52: 194.44479 | CD52: 291.66718 | CE52: 209.70738 | CF52: 104.85369 | CG52: 162.20622 | CH52: 3.24022 | CI52: 170 | CJ52: 170 | CK52: 217.19309 | CL52: 153.53257 | CM52: 76.76628 | CU52: 27.12385 | CV52: 16.2613 | CW52: 15.56043 | CX52: 60.42702 | CY52: 6.39 | CZ52: 229.75562 | DC52: 30 | DE52: 13 | DF52: 15 | DG52: 2.799 | DH52: 1.4 | DI52: 1.2 | DJ52: 2.2 | DK52: 7.2 | DL52: 11.1437 | DM52: 8 | DN52: 10.75269 | DO52: 6.4 | DP52: 16.61779 | DQ52: 3.6 | DR52: 6 | DS52: 3.3 | DT52: 1.5 | DU52: 5.6 | DV52: 5 | DW52: 5.5 | DX52: 5.7 | DY52: 3.5 | DZ52: 2.5 | EA52: 10 | EB52: 12.21896 | EC52: 16.81329 | ED52: 19.55034 | EE52: 37.57996 | EF52: 3.7871 | EG52: 8.33 | EH52: 9.6 | EI52: 10.75269 | EJ52: 15.64027 | EK52: 7 | EL52: 9 | EM52: 0.54 | EN52: 1.05 | EO52: 0 | EP52: 0 | EQ52: 0 | ER52: 0 | ES52: 0 | ET52: 0 | EU52: 13.702 | EV52: 40.7 | EY52: 19.937 | FA52: 2.8 | FB52: 5.5 | FC52: 5.7 | FD52: 10.195503 | FE52: 4.5 | FF52: 27 | FG52: 18 | FH52: 7.5 | FI52: 0 | FJ52: 0 | FK52: 6412.554 | FN52: 6472.2111 | FO52: 6472.2111 | FP52: 3500.1336 | FQ52: 2785.2885 | FR52: 0 | FS52: 186.789 | FT52: 3500.1336 | FU52: 2424.9944 | FV52: 0 | FW52: 186.789 | FX52: 6111.917 | FY52: 0 | FZ52: 360.2941 | GA52: 0 | GC52: 360.2941
